BEGIN:VCALENDAR
VERSION:2.0
PRODID:-//Svenska Tennisförbundet - ECPv6.15.20//NONSGML v1.0//EN
CALSCALE:GREGORIAN
METHOD:PUBLISH
X-WR-CALNAME:Svenska Tennisförbundet
X-ORIGINAL-URL:https://www.tennis.se
X-WR-CALDESC:Händelser för Svenska Tennisförbundet
REFRESH-INTERVAL;VALUE=DURATION:PT1H
X-Robots-Tag:noindex
X-PUBLISHED-TTL:PT1H
BEGIN:VTIMEZONE
TZID:Europe/Stockholm
BEGIN:DAYLIGHT
TZOFFSETFROM:+0100
TZOFFSETTO:+0200
TZNAME:CEST
DTSTART:20230326T010000
END:DAYLIGHT
BEGIN:STANDARD
TZOFFSETFROM:+0200
TZOFFSETTO:+0100
TZNAME:CET
DTSTART:20231029T010000
END:STANDARD
BEGIN:DAYLIGHT
TZOFFSETFROM:+0100
TZOFFSETTO:+0200
TZNAME:CEST
DTSTART:20240331T010000
END:DAYLIGHT
BEGIN:STANDARD
TZOFFSETFROM:+0200
TZOFFSETTO:+0100
TZNAME:CET
DTSTART:20241027T010000
END:STANDARD
BEGIN:DAYLIGHT
TZOFFSETFROM:+0100
TZOFFSETTO:+0200
TZNAME:CEST
DTSTART:20250330T010000
END:DAYLIGHT
BEGIN:STANDARD
TZOFFSETFROM:+0200
TZOFFSETTO:+0100
TZNAME:CET
DTSTART:20251026T010000
END:STANDARD
BEGIN:DAYLIGHT
TZOFFSETFROM:+0100
TZOFFSETTO:+0200
TZNAME:CEST
DTSTART:20260329T010000
END:DAYLIGHT
BEGIN:STANDARD
TZOFFSETFROM:+0200
TZOFFSETTO:+0100
TZNAME:CET
DTSTART:20261025T010000
END:STANDARD
END:VTIMEZONE
BEGIN:VEVENT
DTSTART;VALUE=DATE:20240728
DTEND;VALUE=DATE:20240802
DTSTAMP:20260422T224912
CREATED:20240226T205558Z
LAST-MODIFIED:20240801T215116Z
UID:10000650-1722124800-1722556799@www.tennis.se
SUMMARY:Oris Dental - Öresundsveckan - JSM Race (14)
DESCRIPTION:Factsheet och anmälan
URL:https://www.tennis.se/kalender/oris-dental-oresundsveckan-jsm-race-14/
LOCATION:Helsingborgs Tennisklubb\, Filbornavägen 11\, 252 76 Helsingborg\, Sweden\, Sverige
CATEGORIES:Tävling Nationella JSM Race
ATTACH;FMTTYPE=image/jpeg:https://www.tennis.se/wp-content/uploads/2024/02/evenemang-jsm-race.jpg
GEO:56.050791237548;12.709385814348
END:VEVENT
BEGIN:VEVENT
DTSTART;VALUE=DATE:20240729
DTEND;VALUE=DATE:20240803
DTSTAMP:20260422T224912
CREATED:20240226T205606Z
LAST-MODIFIED:20240802T215120Z
UID:10000656-1722211200-1722643199@www.tennis.se
SUMMARY:Zeta Hellas Open - JSM Race (18)
DESCRIPTION:Factsheet och anmälan
URL:https://www.tennis.se/kalender/zeta-hellas-open-jsm-race-18/
LOCATION:Hellas Tennisklubb utebanor\, Ältavägen 110\, 13133\, Nacka\, Sweden
CATEGORIES:Tävling Nationella JSM Race
ATTACH;FMTTYPE=image/jpeg:https://www.tennis.se/wp-content/uploads/2024/02/evenemang-jsm-race.jpg
GEO:59.287892285952;18.160360837951
END:VEVENT
BEGIN:VEVENT
DTSTART;VALUE=DATE:20240730
DTEND;VALUE=DATE:20240804
DTSTAMP:20260422T224912
CREATED:20240226T205604Z
LAST-MODIFIED:20240803T215112Z
UID:10000654-1722297600-1722729599@www.tennis.se
SUMMARY:Oris Dental - Öresundsveckan - JSM Race (16)
DESCRIPTION:Factsheet och anmälan
URL:https://www.tennis.se/kalender/oris-dental-oresundsveckan-jsm-race-16/
LOCATION:Helsingborgs Tennisklubb\, Filbornavägen 11\, 252 76 Helsingborg\, Sweden\, Sverige
CATEGORIES:Tävling Nationella JSM Race
ATTACH;FMTTYPE=image/jpeg:https://www.tennis.se/wp-content/uploads/2024/02/evenemang-jsm-race.jpg
GEO:56.050791237548;12.709385814348
END:VEVENT
BEGIN:VEVENT
DTSTART;VALUE=DATE:20240802
DTEND;VALUE=DATE:20240807
DTSTAMP:20260422T224912
CREATED:20240226T205605Z
LAST-MODIFIED:20240806T215111Z
UID:10000655-1722556800-1722988799@www.tennis.se
SUMMARY:Swedish Tennis Academy Open - JSM Race (14)
DESCRIPTION:Factsheet och anmälan
URL:https://www.tennis.se/kalender/swedish-tennis-academy-open-jsm-race-14/
LOCATION:Fair Play Tennisklubb\, Erikslustvägen 56\, 217 73 Malmö\, Sweden\, Sverige
CATEGORIES:Tävling Nationella JSM Race
ATTACH;FMTTYPE=image/jpeg:https://www.tennis.se/wp-content/uploads/2024/02/evenemang-jsm-race.jpg
GEO:55.590240611263;12.960672983732
END:VEVENT
BEGIN:VEVENT
DTSTART;VALUE=DATE:20240805
DTEND;VALUE=DATE:20240810
DTSTAMP:20260422T224912
CREATED:20240226T205607Z
LAST-MODIFIED:20240809T220607Z
UID:10000657-1722816000-1723247999@www.tennis.se
SUMMARY:Swedish Tennis Academy Open - JSM Race (16)
DESCRIPTION:Factsheet och anmälan
URL:https://www.tennis.se/kalender/swedish-tennis-academy-open-jsm-race-16/
LOCATION:Fair Play Tennisklubb\, Erikslustvägen 56\, 217 73 Malmö\, Sweden\, Sverige
CATEGORIES:Tävling Nationella JSM Race
ATTACH;FMTTYPE=image/jpeg:https://www.tennis.se/wp-content/uploads/2024/02/evenemang-jsm-race.jpg
GEO:55.590240611263;12.960672983732
END:VEVENT
BEGIN:VEVENT
DTSTART;VALUE=DATE:20240806
DTEND;VALUE=DATE:20240810
DTSTAMP:20260422T224912
CREATED:20240226T205609Z
LAST-MODIFIED:20240809T220609Z
UID:10000658-1722902400-1723247999@www.tennis.se
SUMMARY:Strandbjörksspelen - JSM Race (14)
DESCRIPTION:Factsheet och anmälan
URL:https://www.tennis.se/kalender/strandbjorksspelen-jsm-race-14/
LOCATION:Växjö Tennissällskap\, Värendsgatan 20\, 352 35 Växjö\, Sweden\, Sverige
CATEGORIES:Tävling Nationella JSM Race
ATTACH;FMTTYPE=image/jpeg:https://www.tennis.se/wp-content/uploads/2024/02/evenemang-jsm-race.jpg
GEO:56.871725428183;14.803791707242
END:VEVENT
BEGIN:VEVENT
DTSTART;VALUE=DATE:20240810
DTEND;VALUE=DATE:20240819
DTSTAMP:20260422T224912
CREATED:20240226T205611Z
LAST-MODIFIED:20240818T223608Z
UID:10000659-1723248000-1724025599@www.tennis.se
SUMMARY:Junior RM - JSM Race (14\, 16)
DESCRIPTION:Se Tävling Online för respektive regions RM
URL:https://www.tennis.se/kalender/junior-rm-jsm-race-14-16/
LOCATION:Sweden
CATEGORIES:Tävling Nationella JSM Race
ATTACH;FMTTYPE=image/jpeg:https://www.tennis.se/wp-content/uploads/2024/02/evenemang-jsm-race.jpg
END:VEVENT
BEGIN:VEVENT
DTSTART;VALUE=DATE:20250501
DTEND;VALUE=DATE:20250506
DTSTAMP:20260422T224912
CREATED:20250205T090237Z
LAST-MODIFIED:20250505T180632Z
UID:10001060-1746057600-1746489599@www.tennis.se
SUMMARY:Åby Tk - JSM Race 2025 (14)
DESCRIPTION:Factsheet och anmälan
URL:https://www.tennis.se/kalender/aby-tk-jsm-race-2025-14/
LOCATION:Tennisklubb Åby\, Tennisvägen 2\, 616 34 Åby\, Sweden\, Sverige
CATEGORIES:Tävling Nationella JSM Race
ATTACH;FMTTYPE=image/jpeg:https://www.tennis.se/wp-content/uploads/2024/02/evenemang-jsm-race.jpg
GEO:58.658751163074;16.171206640309
END:VEVENT
BEGIN:VEVENT
DTSTART;VALUE=DATE:20250507
DTEND;VALUE=DATE:20250512
DTSTAMP:20260422T224912
CREATED:20250205T090238Z
LAST-MODIFIED:20250511T182233Z
UID:10001061-1746576000-1747007999@www.tennis.se
SUMMARY:Eskilstuna Junior Cup - JSM Race 2025 (16)
DESCRIPTION:Factsheet och anmälan
URL:https://www.tennis.se/kalender/eskilstuna-junior-cup-jsm-race-2025-16/
LOCATION:TK Hobby\, Vagnmakarevägen 6\, 633 62 Eskilstuna\, Sweden\, Sverige
CATEGORIES:Tävling Nationella JSM Race
ATTACH;FMTTYPE=image/jpeg:https://www.tennis.se/wp-content/uploads/2024/02/evenemang-jsm-race.jpg
GEO:59.375262643986;16.548648995028
END:VEVENT
BEGIN:VEVENT
DTSTART;VALUE=DATE:20250522
DTEND;VALUE=DATE:20250526
DTSTAMP:20260422T224912
CREATED:20250205T090240Z
LAST-MODIFIED:20250525T193719Z
UID:10001062-1747872000-1748217599@www.tennis.se
SUMMARY:SJT - Audi Danderyd Open - JSM Race 2025 (14)
DESCRIPTION:
URL:https://www.tennis.se/kalender/sjt-audi-danderyd-open-jsm-race-2025-14/
LOCATION:Näsbyparks Tennisklubb\, Grindstuguvägen 36\, 183 64 Täby\, Sweden\, Sverige
CATEGORIES:Tävling Nationella JSM Race
ATTACH;FMTTYPE=image/jpeg:https://www.tennis.se/wp-content/uploads/2024/02/evenemang-jsm-race.jpg
GEO:59.444176641524;18.101076664414
END:VEVENT
BEGIN:VEVENT
DTSTART;VALUE=DATE:20250522
DTEND;VALUE=DATE:20250526
DTSTAMP:20260422T224912
CREATED:20250205T090243Z
LAST-MODIFIED:20250525T193718Z
UID:10001063-1747872000-1748217599@www.tennis.se
SUMMARY:Strandbjörksspelen - JSM Race 2025 (14)
DESCRIPTION:Factsheet och anmälan
URL:https://www.tennis.se/kalender/strandbjorksspelen-jsm-race-2025-14/
LOCATION:Växjö Tennis Club\, Värendsgatan 20\, 352 35 Växjö\, Sweden\, Sverige
CATEGORIES:Tävling Nationella JSM Race
ATTACH;FMTTYPE=image/jpeg:https://www.tennis.se/wp-content/uploads/2024/02/evenemang-jsm-race.jpg
GEO:56.871481749468;14.803602556604
END:VEVENT
BEGIN:VEVENT
DTSTART;VALUE=DATE:20250528
DTEND;VALUE=DATE:20250602
DTSTAMP:20260422T224912
CREATED:20250205T090244Z
LAST-MODIFIED:20250601T195224Z
UID:10001064-1748390400-1748822399@www.tennis.se
SUMMARY:ATL Open 16 - JSM Race 2025 (16)
DESCRIPTION:Factsheet och anmälan
URL:https://www.tennis.se/kalender/atl-open-16-jsm-race-2025-16/
LOCATION:Allmänna Tennisklubben Lund\, Lovisastigen 4\, 222 41 Lund\, Sweden\, Sverige
CATEGORIES:Tävling Nationella JSM Race
ATTACH;FMTTYPE=image/jpeg:https://www.tennis.se/wp-content/uploads/2024/02/evenemang-jsm-race.jpg
GEO:55.719717802666;13.200710245236
END:VEVENT
BEGIN:VEVENT
DTSTART;VALUE=DATE:20250528
DTEND;VALUE=DATE:20250602
DTSTAMP:20260422T224912
CREATED:20250205T090246Z
LAST-MODIFIED:20250601T195220Z
UID:10001065-1748390400-1748822399@www.tennis.se
SUMMARY:Riviera Tennis - JSM Race 2025 (16)
DESCRIPTION:Factsheet och anmälan
URL:https://www.tennis.se/kalender/riviera-tennis-jsm-race-2025-16/
LOCATION:Piteå Tennisklubb\, Batterigatan 3\, 941 47 Piteå\, Sweden\, Sverige
CATEGORIES:Tävling Nationella JSM Race
ATTACH;FMTTYPE=image/jpeg:https://www.tennis.se/wp-content/uploads/2024/02/evenemang-jsm-race.jpg
GEO:65.319691180887;21.441047409385
END:VEVENT
BEGIN:VEVENT
DTSTART;VALUE=DATE:20250528
DTEND;VALUE=DATE:20250602
DTSTAMP:20260422T224912
CREATED:20250205T090247Z
LAST-MODIFIED:20250601T195222Z
UID:10001066-1748390400-1748822399@www.tennis.se
SUMMARY:Riviera Tennis - JSM Race 2025 (18)
DESCRIPTION:Factsheet och anmälan
URL:https://www.tennis.se/kalender/riviera-tennis-jsm-race-2025-18/
LOCATION:Piteå Tennisklubb\, Batterigatan 3\, 941 47 Piteå\, Sweden\, Sverige
CATEGORIES:Tävling Nationella JSM Race
ATTACH;FMTTYPE=image/jpeg:https://www.tennis.se/wp-content/uploads/2024/02/evenemang-jsm-race.jpg
GEO:65.319691180887;21.441047409385
END:VEVENT
BEGIN:VEVENT
DTSTART;VALUE=DATE:20250609
DTEND;VALUE=DATE:20250614
DTSTAMP:20260422T224912
CREATED:20250205T090252Z
LAST-MODIFIED:20250613T205123Z
UID:10001069-1749427200-1749859199@www.tennis.se
SUMMARY:Långtora Open - JSM Race 2025 (16)
DESCRIPTION:Factsheet och anmälan
URL:https://www.tennis.se/kalender/langtora-open-jsm-race-2025-16/
LOCATION:Långtora tennis\, LÅNGTORA LYGNESTA 1\, 745 96 Enköping\, Sweden\, Sverige
CATEGORIES:Tävling Nationella JSM Race
ATTACH;FMTTYPE=image/jpeg:https://www.tennis.se/wp-content/uploads/2024/02/evenemang-jsm-race.jpg
GEO:59.725447902744;17.124497187993
END:VEVENT
BEGIN:VEVENT
DTSTART;VALUE=DATE:20250609
DTEND;VALUE=DATE:20250614
DTSTAMP:20260422T224912
CREATED:20250205T090254Z
LAST-MODIFIED:20250613T205125Z
UID:10001070-1749427200-1749859199@www.tennis.se
SUMMARY:Lysekil/Fiskebäckskils - JSM Race 2025 (16)
DESCRIPTION:Factsheet och anmälan
URL:https://www.tennis.se/kalender/lysekil-fiskebackskils-jsm-race-2025-16/
LOCATION:Gullmarens Centre Courts Tennisbanor\, Strandvägen 21\, 453 30 Lysekil\, Sweden\, Sverige
CATEGORIES:Tävling Nationella JSM Race
ATTACH;FMTTYPE=image/jpeg:https://www.tennis.se/wp-content/uploads/2024/02/evenemang-jsm-race.jpg
GEO:58.269720020192;11.428306771128
END:VEVENT
BEGIN:VEVENT
DTSTART;VALUE=DATE:20250610
DTEND;VALUE=DATE:20250617
DTSTAMP:20260422T224912
CREATED:20250205T090251Z
LAST-MODIFIED:20250615T210610Z
UID:10001068-1749513600-1750118399@www.tennis.se
SUMMARY:Båstadtennis Corem Open - JSM Race 2025 (14)
DESCRIPTION:Factsheet och anmälan
URL:https://www.tennis.se/kalender/bastadtennis-corem-open-jsm-race-2025-14/
LOCATION:Båstad Sportcenter\, Korrödsvägen 9\, 269 38 Båstad\, Sweden\, Sverige
CATEGORIES:Tävling Nationella JSM Race
ATTACH;FMTTYPE=image/jpeg:https://www.tennis.se/wp-content/uploads/2024/02/evenemang-jsm-race.jpg
GEO:56.423718810793;12.856553795768
END:VEVENT
BEGIN:VEVENT
DTSTART;VALUE=DATE:20250614
DTEND;VALUE=DATE:20250620
DTSTAMP:20260422T224912
CREATED:20250205T090249Z
LAST-MODIFIED:20250619T025223Z
UID:10001067-1749859200-1750377599@www.tennis.se
SUMMARY:Båstadtennis Corem Open - JSM Race 2025 (16)
DESCRIPTION:Factsheet och anmälan
URL:https://www.tennis.se/kalender/bastadtennis-corem-open-jsm-race-2025-16/
LOCATION:Båstad Sportcenter\, Korrödsvägen 9\, 269 38 Båstad\, Sweden\, Sverige
CATEGORIES:Tävling Nationella JSM Race
ATTACH;FMTTYPE=image/jpeg:https://www.tennis.se/wp-content/uploads/2024/02/evenemang-jsm-race.jpg
GEO:56.423718810793;12.856553795768
END:VEVENT
BEGIN:VEVENT
DTSTART;VALUE=DATE:20250617
DTEND;VALUE=DATE:20250621
DTSTAMP:20260422T224912
CREATED:20250205T090259Z
LAST-MODIFIED:20250620T030609Z
UID:10001072-1750118400-1750463999@www.tennis.se
SUMMARY:Söndrums TKs - JSM Race 2025 (14)
DESCRIPTION:Factsheet och anmälan
URL:https://www.tennis.se/kalender/sondrums-tks-jsm-race-2025-14/
LOCATION:Söndrums Tennisklubb\, Bäckagårdsvägen 130\, 302 41 Halmstad\, Sweden\, Sverige
CATEGORIES:Tävling Nationella JSM Race
ATTACH;FMTTYPE=image/jpeg:https://www.tennis.se/wp-content/uploads/2024/02/evenemang-jsm-race.jpg
GEO:56.669527046924;12.795130500169
END:VEVENT
BEGIN:VEVENT
DTSTART;VALUE=DATE:20250617
DTEND;VALUE=DATE:20250621
DTSTAMP:20260422T224912
CREATED:20250205T090301Z
LAST-MODIFIED:20250620T030611Z
UID:10001073-1750118400-1750463999@www.tennis.se
SUMMARY:Hunnebo Open - JSM Race 2025 (14)
DESCRIPTION:Factsheet och anmälan
URL:https://www.tennis.se/kalender/hunnebo-open-jsm-race-2025-14/
LOCATION:Hunnebostrands Tennisklubb\, Hunnebovägen 33\, 456 61 Hunnebostrand\, Sweden\, Sverige
CATEGORIES:Tävling Nationella JSM Race
ATTACH;FMTTYPE=image/jpeg:https://www.tennis.se/wp-content/uploads/2024/02/evenemang-jsm-race.jpg
GEO:58.43651455682;11.297239386644
END:VEVENT
BEGIN:VEVENT
DTSTART;VALUE=DATE:20250619
DTEND;VALUE=DATE:20250624
DTSTAMP:20260422T224912
CREATED:20250205T090256Z
LAST-MODIFIED:20250623T032109Z
UID:10001071-1750291200-1750723199@www.tennis.se
SUMMARY:Åhus Outdoor Open - JSM Race 2025 (18)
DESCRIPTION:Factsheet och anmälan
URL:https://www.tennis.se/kalender/ahus-outdoor-open-jsm-race-2025-18/
LOCATION:Åhus Tennisklubb\, Sandvaktaregatan 3\, 296 35 Åhus\, Sweden\, Sverige
CATEGORIES:Tävling Nationella JSM Race
ATTACH;FMTTYPE=image/jpeg:https://www.tennis.se/wp-content/uploads/2024/02/evenemang-jsm-race.jpg
GEO:55.928047968612;14.284873399417
END:VEVENT
BEGIN:VEVENT
DTSTART;VALUE=DATE:20250621
DTEND;VALUE=DATE:20250625
DTSTAMP:20260422T224912
CREATED:20250205T090312Z
LAST-MODIFIED:20250624T032106Z
UID:10001080-1750464000-1750809599@www.tennis.se
SUMMARY:Sundsvall Sommarspel - JSM Race 2025 (14)
DESCRIPTION:Factsheet och anmälan
URL:https://www.tennis.se/kalender/sundsvall-sommarspel-jsm-race-2025-14/
LOCATION:Sundsvalls Tennisklubb\, Lasarettsvägen 22\, 856 43 Sundsvall\, Sweden\, Sverige
CATEGORIES:Tävling Nationella JSM Race
ATTACH;FMTTYPE=image/jpeg:https://www.tennis.se/wp-content/uploads/2024/02/evenemang-jsm-race.jpg
GEO:62.410036863449;17.317910967392
END:VEVENT
BEGIN:VEVENT
DTSTART;VALUE=DATE:20250621
DTEND;VALUE=DATE:20250625
DTSTAMP:20260422T224912
CREATED:20250205T090314Z
LAST-MODIFIED:20250624T032104Z
UID:10001081-1750464000-1750809599@www.tennis.se
SUMMARY:KalmarSpelen Råbergs Bil 14 & 18 år (14)
DESCRIPTION:Factsheet och anmälan
URL:https://www.tennis.se/kalender/kalmarspelen-rabergs-bil-14-18-ar-14/
LOCATION:Kalmar Tennisklubb + Padel\, 392 36 Kalmar\, Sweden\, Sverige
CATEGORIES:Tävling Nationella JSM Race
ATTACH;FMTTYPE=image/jpeg:https://www.tennis.se/wp-content/uploads/2024/02/evenemang-jsm-race.jpg
GEO:56.680334486162;16.357534638112
END:VEVENT
BEGIN:VEVENT
DTSTART;VALUE=DATE:20250623
DTEND;VALUE=DATE:20250627
DTSTAMP:20260422T224912
CREATED:20250205T090310Z
LAST-MODIFIED:20250626T033609Z
UID:10001079-1750636800-1750982399@www.tennis.se
SUMMARY:Sundsvall Sommarspel - JSM Race 2025 (16)
DESCRIPTION:Factsheet och anmälan
URL:https://www.tennis.se/kalender/sundsvall-sommarspel-jsm-race-2025-16/
LOCATION:Sundsvalls Tennisklubb\, Lasarettsvägen 22\, 856 43 Sundsvall\, Sweden\, Sverige
CATEGORIES:Tävling Nationella JSM Race
ATTACH;FMTTYPE=image/jpeg:https://www.tennis.se/wp-content/uploads/2024/02/evenemang-jsm-race.jpg
GEO:62.410036863449;17.317910967392
END:VEVENT
BEGIN:VEVENT
DTSTART;VALUE=DATE:20250623
DTEND;VALUE=DATE:20250628
DTSTAMP:20260422T224912
CREATED:20250205T090302Z
LAST-MODIFIED:20250627T033607Z
UID:10001074-1750636800-1751068799@www.tennis.se
SUMMARY:YSB Open 14\,16 - JSM Race 2025 (16)
DESCRIPTION:Factsheet och anmälan
URL:https://www.tennis.se/kalender/ysb-open-1416-jsm-race-2025-16/
LOCATION:Ystads tennisklubb\, Spaljégatan 14\, 271 52 Ystad\, Sweden\, Sverige
CATEGORIES:Tävling Nationella JSM Race
ATTACH;FMTTYPE=image/jpeg:https://www.tennis.se/wp-content/uploads/2024/02/evenemang-jsm-race.jpg
GEO:55.432358559614;13.793659290977
END:VEVENT
BEGIN:VEVENT
DTSTART;VALUE=DATE:20250624
DTEND;VALUE=DATE:20250629
DTSTAMP:20260422T224912
CREATED:20250205T090306Z
LAST-MODIFIED:20250628T033656Z
UID:10001076-1750723200-1751155199@www.tennis.se
SUMMARY:KalmarSpelen Råbergs Bil 14 & 18 år (18)
DESCRIPTION:Factsheet och anmälan
URL:https://www.tennis.se/kalender/kalmarspelen-rabergs-bil-14-18-ar-18/
LOCATION:Kalmar Tennisklubb + Padel\, 392 36 Kalmar\, Sweden\, Sverige
CATEGORIES:Tävling Nationella JSM Race
ATTACH;FMTTYPE=image/jpeg:https://www.tennis.se/wp-content/uploads/2024/02/evenemang-jsm-race.jpg
GEO:56.680334486162;16.357534638112
END:VEVENT
BEGIN:VEVENT
DTSTART;VALUE=DATE:20250625
DTEND;VALUE=DATE:20250629
DTSTAMP:20260422T224912
CREATED:20250205T090309Z
LAST-MODIFIED:20250628T033651Z
UID:10001078-1750809600-1751155199@www.tennis.se
SUMMARY:YSB Open 14\,16 - JSM Race 2025 (14)
DESCRIPTION:Factsheet och anmälan
URL:https://www.tennis.se/kalender/ysb-open-1416-jsm-race-2025-14/
LOCATION:Ystads tennisklubb\, Spaljégatan 14\, 271 52 Ystad\, Sweden\, Sverige
CATEGORIES:Tävling Nationella JSM Race
ATTACH;FMTTYPE=image/jpeg:https://www.tennis.se/wp-content/uploads/2024/02/evenemang-jsm-race.jpg
GEO:55.432358559614;13.793659290977
END:VEVENT
BEGIN:VEVENT
DTSTART;VALUE=DATE:20250628
DTEND;VALUE=DATE:20250703
DTSTAMP:20260422T224912
CREATED:20250205T090307Z
LAST-MODIFIED:20250702T033648Z
UID:10001077-1751068800-1751500799@www.tennis.se
SUMMARY:Munka Spelen - JSM Race 2025 (16)
DESCRIPTION:
URL:https://www.tennis.se/kalender/munka-spelen-jsm-race-2025-16/
LOCATION:Munkaljungby Tennisklubb\, Öster Värn 33\, 266 33 Munka-ljungby\, Sweden\, Sverige
CATEGORIES:Tävling Nationella JSM Race
ATTACH;FMTTYPE=image/jpeg:https://www.tennis.se/wp-content/uploads/2024/02/evenemang-jsm-race.jpg
GEO:56.255106459698;12.985636284404
END:VEVENT
BEGIN:VEVENT
DTSTART;VALUE=DATE:20250629
DTEND;VALUE=DATE:20250703
DTSTAMP:20260422T224912
CREATED:20250205T090304Z
LAST-MODIFIED:20250702T033644Z
UID:10001075-1751155200-1751500799@www.tennis.se
SUMMARY:Munka Spelen - JSM Race 2025 (14)
DESCRIPTION:
URL:https://www.tennis.se/kalender/munka-spelen-jsm-race-2025-14/
LOCATION:Munkaljungby Tennisklubb\, Öster Värn 33\, 266 33 Munka-ljungby\, Sweden\, Sverige
CATEGORIES:Tävling Nationella JSM Race
ATTACH;FMTTYPE=image/jpeg:https://www.tennis.se/wp-content/uploads/2024/02/evenemang-jsm-race.jpg
GEO:56.255106459698;12.985636284404
END:VEVENT
BEGIN:VEVENT
DTSTART;VALUE=DATE:20250630
DTEND;VALUE=DATE:20250705
DTSTAMP:20260422T224912
CREATED:20250205T090316Z
LAST-MODIFIED:20250704T040643Z
UID:10001082-1751241600-1751673599@www.tennis.se
SUMMARY:Hunnebostands Tennisvecka - JSM Race 2025 (18)
DESCRIPTION:Factsheet och anmälan
URL:https://www.tennis.se/kalender/hunnebostands-tennisvecka-jsm-race-2025-18/
LOCATION:Hunnebostrands Tennisklubb\, Hunnebovägen 33\, 456 61 Hunnebostrand\, Sweden\, Sverige
CATEGORIES:Tävling Nationella JSM Race
ATTACH;FMTTYPE=image/jpeg:https://www.tennis.se/wp-content/uploads/2024/02/evenemang-jsm-race.jpg
GEO:58.43651455682;11.297239386644
END:VEVENT
END:VCALENDAR