BEGIN:VCALENDAR
VERSION:2.0
PRODID:-//Svenska Tennisförbundet - ECPv6.15.20//NONSGML v1.0//EN
CALSCALE:GREGORIAN
METHOD:PUBLISH
X-WR-CALNAME:Svenska Tennisförbundet
X-ORIGINAL-URL:https://www.tennis.se
X-WR-CALDESC:Händelser för Svenska Tennisförbundet
REFRESH-INTERVAL;VALUE=DURATION:PT1H
X-Robots-Tag:noindex
X-PUBLISHED-TTL:PT1H
BEGIN:VTIMEZONE
TZID:Europe/Stockholm
BEGIN:DAYLIGHT
TZOFFSETFROM:+0100
TZOFFSETTO:+0200
TZNAME:CEST
DTSTART:20250330T010000
END:DAYLIGHT
BEGIN:STANDARD
TZOFFSETFROM:+0200
TZOFFSETTO:+0100
TZNAME:CET
DTSTART:20251026T010000
END:STANDARD
BEGIN:DAYLIGHT
TZOFFSETFROM:+0100
TZOFFSETTO:+0200
TZNAME:CEST
DTSTART:20260329T010000
END:DAYLIGHT
BEGIN:STANDARD
TZOFFSETFROM:+0200
TZOFFSETTO:+0100
TZNAME:CET
DTSTART:20261025T010000
END:STANDARD
BEGIN:DAYLIGHT
TZOFFSETFROM:+0100
TZOFFSETTO:+0200
TZNAME:CEST
DTSTART:20270328T010000
END:DAYLIGHT
BEGIN:STANDARD
TZOFFSETFROM:+0200
TZOFFSETTO:+0100
TZNAME:CET
DTSTART:20271031T010000
END:STANDARD
END:VTIMEZONE
BEGIN:VEVENT
DTSTART;VALUE=DATE:20260501
DTEND;VALUE=DATE:20260506
DTSTAMP:20260421T145820
CREATED:20260202T130405Z
LAST-MODIFIED:20260420T213608Z
UID:10001409-1777593600-1778025599@www.tennis.se
SUMMARY:Åby TK - JSM Race 2026 (14)
DESCRIPTION:Factsheet och anmälan
URL:https://www.tennis.se/kalender/aby-tk-jsm-race-2026-14/
LOCATION:Tennisklubb Åby\, Tennisvägen 2\, 616 34 Åby\, Sweden\, Sverige
CATEGORIES:Tävling Nationella JSM Race
ATTACH;FMTTYPE=image/jpeg:https://www.tennis.se/wp-content/uploads/2024/02/evenemang-jsm-race.jpg
GEO:58.658751163074;16.171206640309
END:VEVENT
BEGIN:VEVENT
DTSTART;VALUE=DATE:20260507
DTEND;VALUE=DATE:20260512
DTSTAMP:20260421T145820
CREATED:20260202T130407Z
LAST-MODIFIED:20260420T213610Z
UID:10001410-1778112000-1778543999@www.tennis.se
SUMMARY:SJT - Audi Danderyd Open - JSM Race 2026 (14)
DESCRIPTION:Factsheet och anmälan
URL:https://www.tennis.se/kalender/sjt-audi-danderyd-open-jsm-race-2026-14/
LOCATION:Näsbyparks Tennisklubb\, Grindstuguvägen 36\, 183 64 Täby\, Sweden\, Sverige
CATEGORIES:Tävling Nationella JSM Race
ATTACH;FMTTYPE=image/jpeg:https://www.tennis.se/wp-content/uploads/2024/02/evenemang-jsm-race.jpg
GEO:59.444176641524;18.101076664414
END:VEVENT
BEGIN:VEVENT
DTSTART;VALUE=DATE:20260520
DTEND;VALUE=DATE:20260525
DTSTAMP:20260421T145820
CREATED:20260202T130408Z
LAST-MODIFIED:20260420T213614Z
UID:10001411-1779235200-1779667199@www.tennis.se
SUMMARY:Eskilstuna Junior Cup - JSM Race 2026 (16)
DESCRIPTION:Factsheet och anmälan
URL:https://www.tennis.se/kalender/eskilstuna-junior-cup-jsm-race-2026-16/
LOCATION:TK Hobby\, Vagnmakarevägen 6\, 633 62 Eskilstuna\, Sweden\, Sverige
CATEGORIES:Tävling Nationella JSM Race
ATTACH;FMTTYPE=image/jpeg:https://www.tennis.se/wp-content/uploads/2024/02/evenemang-jsm-race.jpg
GEO:59.375262643986;16.548648995028
END:VEVENT
BEGIN:VEVENT
DTSTART;VALUE=DATE:20260520
DTEND;VALUE=DATE:20260525
DTSTAMP:20260421T145820
CREATED:20260202T130410Z
LAST-MODIFIED:20260420T213612Z
UID:10001412-1779235200-1779667199@www.tennis.se
SUMMARY:Bjärred Open 16 - JSM Race 2026 (16)
DESCRIPTION:Factsheet och anmälan
URL:https://www.tennis.se/kalender/bjarred-open-16-jsm-race-2026-16/
LOCATION:Lomma-Bjärreds Tennisklubb\, Tennisväg 2\, 237 41 Bjärred\, Sweden\, Sverige
CATEGORIES:Tävling Nationella JSM Race
ATTACH;FMTTYPE=image/jpeg:https://www.tennis.se/wp-content/uploads/2024/02/evenemang-jsm-race.jpg
GEO:55.728825920567;13.034692022756
END:VEVENT
BEGIN:VEVENT
DTSTART;VALUE=DATE:20260527
DTEND;VALUE=DATE:20260601
DTSTAMP:20260421T145820
CREATED:20260202T130412Z
LAST-MODIFIED:20260420T213619Z
UID:10001413-1779840000-1780271999@www.tennis.se
SUMMARY:Riviera Tennis - JSM Race 2026 (18)
DESCRIPTION:Factsheet och anmälan
URL:https://www.tennis.se/kalender/riviera-tennis-jsm-race-2026-18/
LOCATION:Piteå Tennisklubb\, Batterigatan 3\, 941 47 Piteå\, Sweden\, Sverige
CATEGORIES:Tävling Nationella JSM Race
ATTACH;FMTTYPE=image/jpeg:https://www.tennis.se/wp-content/uploads/2024/02/evenemang-jsm-race.jpg
GEO:65.319691180887;21.441047409385
END:VEVENT
BEGIN:VEVENT
DTSTART;VALUE=DATE:20260527
DTEND;VALUE=DATE:20260601
DTSTAMP:20260421T145820
CREATED:20260202T130414Z
LAST-MODIFIED:20260420T213617Z
UID:10001414-1779840000-1780271999@www.tennis.se
SUMMARY:Riviera Tennis - JSM Race 2026 (14)
DESCRIPTION:Factsheet och anmälan
URL:https://www.tennis.se/kalender/riviera-tennis-jsm-race-2026-14/
LOCATION:Piteå Tennisklubb\, Batterigatan 3\, 941 47 Piteå\, Sweden\, Sverige
CATEGORIES:Tävling Nationella JSM Race
ATTACH;FMTTYPE=image/jpeg:https://www.tennis.se/wp-content/uploads/2024/02/evenemang-jsm-race.jpg
GEO:65.319691180887;21.441047409385
END:VEVENT
BEGIN:VEVENT
DTSTART;VALUE=DATE:20260527
DTEND;VALUE=DATE:20260601
DTSTAMP:20260421T145820
CREATED:20260202T130416Z
LAST-MODIFIED:20260420T213616Z
UID:10001415-1779840000-1780271999@www.tennis.se
SUMMARY:ATL Open 16 - JSM Race 2026 (16)
DESCRIPTION:Factsheet och anmälan
URL:https://www.tennis.se/kalender/atl-open-16-jsm-race-2026-16/
LOCATION:Allmänna Tennisklubben Lund\, Lovisastigen 4\, 222 41 Lund\, Sweden\, Sverige
CATEGORIES:Tävling Nationella JSM Race
ATTACH;FMTTYPE=image/jpeg:https://www.tennis.se/wp-content/uploads/2024/02/evenemang-jsm-race.jpg
GEO:55.719717802666;13.200710245236
END:VEVENT
BEGIN:VEVENT
DTSTART;VALUE=DATE:20260608
DTEND;VALUE=DATE:20260616
DTSTAMP:20260421T145820
CREATED:20260202T130421Z
LAST-MODIFIED:20260420T213623Z
UID:10001418-1780876800-1781567999@www.tennis.se
SUMMARY:Båstadtennis Corem Open - JSM Race 2026 (16)
DESCRIPTION:Factsheet och anmälan
URL:https://www.tennis.se/kalender/bastadtennis-corem-open-jsm-race-2026-16/
LOCATION:Båstad Sportcenter\, Korrödsvägen 9\, 269 38 Båstad\, Sweden\, Sverige
CATEGORIES:Tävling Nationella JSM Race
ATTACH;FMTTYPE=image/jpeg:https://www.tennis.se/wp-content/uploads/2024/02/evenemang-jsm-race.jpg
GEO:56.423718810793;12.856553795768
END:VEVENT
BEGIN:VEVENT
DTSTART;VALUE=DATE:20260611
DTEND;VALUE=DATE:20260620
DTSTAMP:20260421T145820
CREATED:20260202T130419Z
LAST-MODIFIED:20260420T213635Z
UID:10001417-1781136000-1781913599@www.tennis.se
SUMMARY:Båstadtennis Corem Open - JSM Race 2026 (14)
DESCRIPTION:Factsheet och anmälan
URL:https://www.tennis.se/kalender/bastadtennis-corem-open-jsm-race-2026-14/
LOCATION:Båstad Sportcenter\, Korrödsvägen 9\, 269 38 Båstad\, Sweden\, Sverige
CATEGORIES:Tävling Nationella JSM Race
ATTACH;FMTTYPE=image/jpeg:https://www.tennis.se/wp-content/uploads/2024/02/evenemang-jsm-race.jpg
GEO:56.423718810793;12.856553795768
END:VEVENT
BEGIN:VEVENT
DTSTART;VALUE=DATE:20260613
DTEND;VALUE=DATE:20260618
DTSTAMP:20260421T145820
CREATED:20260202T130418Z
LAST-MODIFIED:20260420T213625Z
UID:10001416-1781308800-1781740799@www.tennis.se
SUMMARY:Lysekil/Fiskebäckskil - JSM Race 2026 (18)
DESCRIPTION:Factsheet och anmälan
URL:https://www.tennis.se/kalender/lysekil-fiskebackskil-jsm-race-2026-18/
LOCATION:Gullmarens Centre Courts Tennisbanor\, Strandvägen 21\, 453 30 Lysekil\, Sweden\, Sverige
CATEGORIES:Tävling Nationella JSM Race
ATTACH;FMTTYPE=image/jpeg:https://www.tennis.se/wp-content/uploads/2024/02/evenemang-jsm-race.jpg
GEO:58.269720020192;11.428306771128
END:VEVENT
BEGIN:VEVENT
DTSTART;VALUE=DATE:20260616
DTEND;VALUE=DATE:20260621
DTSTAMP:20260421T145820
CREATED:20260202T130427Z
LAST-MODIFIED:20260420T213633Z
UID:10001421-1781568000-1781999999@www.tennis.se
SUMMARY:Lysekil/Fiskebäckskils - JSM Race 2026 (16)
DESCRIPTION:Factsheet och anmälan
URL:https://www.tennis.se/kalender/lysekil-fiskebackskils-jsm-race-2026-16/
LOCATION:Gullmarens Centre Courts Tennisbanor\, Strandvägen 21\, 453 30 Lysekil\, Sweden\, Sverige
CATEGORIES:Tävling Nationella JSM Race
ATTACH;FMTTYPE=image/jpeg:https://www.tennis.se/wp-content/uploads/2024/02/evenemang-jsm-race.jpg
GEO:58.269720020192;11.428306771128
END:VEVENT
BEGIN:VEVENT
DTSTART;VALUE=DATE:20260616
DTEND;VALUE=DATE:20260621
DTSTAMP:20260421T145820
CREATED:20260202T130429Z
LAST-MODIFIED:20260420T213621Z
UID:10001422-1781568000-1781999999@www.tennis.se
SUMMARY:Audi Open Åhus - JSM Race 2026 (16)
DESCRIPTION:Factsheet och anmälan
URL:https://www.tennis.se/kalender/audi-open-ahus-jsm-race-2026-16/
LOCATION:Åhus Tennisklubb\, Sandvaktaregatan 3\, 296 35 Åhus\, Sweden\, Sverige
CATEGORIES:Tävling Nationella JSM Race
ATTACH;FMTTYPE=image/jpeg:https://www.tennis.se/wp-content/uploads/2024/02/evenemang-jsm-race.jpg
GEO:55.928047968612;14.284873399417
END:VEVENT
BEGIN:VEVENT
DTSTART;VALUE=DATE:20260621
DTEND;VALUE=DATE:20260626
DTSTAMP:20260421T145820
CREATED:20260202T130424Z
LAST-MODIFIED:20260420T213632Z
UID:10001420-1782000000-1782431999@www.tennis.se
SUMMARY:Skummeslövsspelen - JSM Race 2026 (14)
DESCRIPTION:Factsheet och anmälan
URL:https://www.tennis.se/kalender/skummeslovsspelen-jsm-race-2026-14/
LOCATION:Skummeslövs Tennisklubb\, Svarvareskogsvägen 3\, 312 71 Skummeslövsstrand\, Sweden\, Sverige
CATEGORIES:Tävling Nationella JSM Race
ATTACH;FMTTYPE=image/jpeg:https://www.tennis.se/wp-content/uploads/2024/02/evenemang-jsm-race.jpg
GEO:56.462790479722;12.923897247966
END:VEVENT
BEGIN:VEVENT
DTSTART;VALUE=DATE:20260621
DTEND;VALUE=DATE:20260627
DTSTAMP:20260421T145820
CREATED:20260202T130433Z
LAST-MODIFIED:20260420T213637Z
UID:10001424-1782000000-1782518399@www.tennis.se
SUMMARY:KalmarSpelen Råbergs Bil 2026 - JSM Race 2026 (18)
DESCRIPTION:Factsheet och anmälan
URL:https://www.tennis.se/kalender/kalmarspelen-rabergs-bil-2026-jsm-race-2026-18/
LOCATION:Kalmar Tennisklubb + Padel\, 392 36 Kalmar\, Sweden\, Sverige
CATEGORIES:Tävling Nationella JSM Race
ATTACH;FMTTYPE=image/jpeg:https://www.tennis.se/wp-content/uploads/2024/02/evenemang-jsm-race.jpg
GEO:56.680334486162;16.357534638112
END:VEVENT
BEGIN:VEVENT
DTSTART;VALUE=DATE:20260622
DTEND;VALUE=DATE:20260627
DTSTAMP:20260421T145820
CREATED:20260202T130435Z
LAST-MODIFIED:20260420T213630Z
UID:10001425-1782086400-1782518399@www.tennis.se
SUMMARY:YSB Open 16\,18 - JSM Race 2026 (16)
DESCRIPTION:Factsheet och anmälan
URL:https://www.tennis.se/kalender/ysb-open-1618-jsm-race-2026-16/
LOCATION:Ystads tennisklubb\, Spaljégatan 14\, 271 52 Ystad\, Sweden\, Sverige
CATEGORIES:Tävling Nationella JSM Race
ATTACH;FMTTYPE=image/jpeg:https://www.tennis.se/wp-content/uploads/2024/02/evenemang-jsm-race.jpg
GEO:55.432358559614;13.793659290977
END:VEVENT
BEGIN:VEVENT
DTSTART;VALUE=DATE:20260622
DTEND;VALUE=DATE:20260627
DTSTAMP:20260421T145820
CREATED:20260202T130436Z
LAST-MODIFIED:20260420T213640Z
UID:10001426-1782086400-1782518399@www.tennis.se
SUMMARY:Midnattssolcupen 2026 - JSM Race 2026 (16)
DESCRIPTION:Factsheet och anmälan
URL:https://www.tennis.se/kalender/midnattssolcupen-2026-jsm-race-2026-16/
LOCATION:Luleå Tennisklubb\, Arcusvägen 59\, 975 94 Luleå\, Sweden\, Sverige
CATEGORIES:Tävling Nationella JSM Race
ATTACH;FMTTYPE=image/jpeg:https://www.tennis.se/wp-content/uploads/2024/02/evenemang-jsm-race.jpg
GEO:65.59635802832;22.059151581444
END:VEVENT
BEGIN:VEVENT
DTSTART;VALUE=DATE:20260626
DTEND;VALUE=DATE:20260701
DTSTAMP:20260421T145820
CREATED:20260202T130423Z
LAST-MODIFIED:20260420T213627Z
UID:10001419-1782432000-1782863999@www.tennis.se
SUMMARY:KalmarSpelen Råbergs Bil 2026 - JSM Race 2026 (14)
DESCRIPTION:Factsheet och anmälan
URL:https://www.tennis.se/kalender/kalmarspelen-rabergs-bil-2026-jsm-race-2026-14/
LOCATION:Kalmar Tennisklubb + Padel\, 392 36 Kalmar\, Sweden\, Sverige
CATEGORIES:Tävling Nationella JSM Race
ATTACH;FMTTYPE=image/jpeg:https://www.tennis.se/wp-content/uploads/2024/02/evenemang-jsm-race.jpg
GEO:56.680334486162;16.357534638112
END:VEVENT
BEGIN:VEVENT
DTSTART;VALUE=DATE:20260626
DTEND;VALUE=DATE:20260701
DTSTAMP:20260421T145820
CREATED:20260202T130430Z
LAST-MODIFIED:20260420T213647Z
UID:10001423-1782432000-1782863999@www.tennis.se
SUMMARY:YSB Open 16\,18 - JSM Race 2026 (18)
DESCRIPTION:Factsheet och anmälan
URL:https://www.tennis.se/kalender/ysb-open-1618-jsm-race-2026-18/
LOCATION:Ystads tennisklubb\, Spaljégatan 14\, 271 52 Ystad\, Sweden\, Sverige
CATEGORIES:Tävling Nationella JSM Race
ATTACH;FMTTYPE=image/jpeg:https://www.tennis.se/wp-content/uploads/2024/02/evenemang-jsm-race.jpg
GEO:55.432358559614;13.793659290977
END:VEVENT
BEGIN:VEVENT
DTSTART;VALUE=DATE:20260626
DTEND;VALUE=DATE:20260701
DTSTAMP:20260421T145820
CREATED:20260202T130440Z
LAST-MODIFIED:20260420T213638Z
UID:10001428-1782432000-1782863999@www.tennis.se
SUMMARY:Sundsvall Sommarspel - JSM Race 2026 (14)
DESCRIPTION:Factsheet och anmälan
URL:https://www.tennis.se/kalender/sundsvall-sommarspel-jsm-race-2026-14/
LOCATION:Sundsvalls Tennisklubb\, Lasarettsvägen 22\, 856 43 Sundsvall\, Sweden\, Sverige
CATEGORIES:Tävling Nationella JSM Race
ATTACH;FMTTYPE=image/jpeg:https://www.tennis.se/wp-content/uploads/2024/02/evenemang-jsm-race.jpg
GEO:62.410036863449;17.317910967392
END:VEVENT
BEGIN:VEVENT
DTSTART;VALUE=DATE:20260701
DTEND;VALUE=DATE:20260706
DTSTAMP:20260421T145820
CREATED:20260202T130438Z
LAST-MODIFIED:20260420T213645Z
UID:10001427-1782864000-1783295999@www.tennis.se
SUMMARY:Hunnebostrands Tennisvecka - JSM Race 2026 (18)
DESCRIPTION:Factsheet och anmälan
URL:https://www.tennis.se/kalender/hunnebostrands-tennisvecka-jsm-race-2026-18/
LOCATION:Hunnebostrands Tennisklubb\, Hunnebovägen 33\, 456 61 Hunnebostrand\, Sweden\, Sverige
CATEGORIES:Tävling Nationella JSM Race
ATTACH;FMTTYPE=image/jpeg:https://www.tennis.se/wp-content/uploads/2024/02/evenemang-jsm-race.jpg
GEO:58.43651455682;11.297239386644
END:VEVENT
BEGIN:VEVENT
DTSTART;VALUE=DATE:20260701
DTEND;VALUE=DATE:20260706
DTSTAMP:20260421T145820
CREATED:20260202T130442Z
LAST-MODIFIED:20260420T213651Z
UID:10001429-1782864000-1783295999@www.tennis.se
SUMMARY:Vikingaspelen - JSM Race 2026 (18)
DESCRIPTION:Factsheet och anmälan
URL:https://www.tennis.se/kalender/vikingaspelen-jsm-race-2026-18/
LOCATION:Nynäshamns Tennisklubb\, Kvarnängsvägen 10\, 149 91 Nynäshamn\, Sweden\, Sverige
CATEGORIES:Tävling Nationella JSM Race
ATTACH;FMTTYPE=image/jpeg:https://www.tennis.se/wp-content/uploads/2024/02/evenemang-jsm-race.jpg
GEO:58.924977685064;17.923214213679
END:VEVENT
BEGIN:VEVENT
DTSTART;VALUE=DATE:20260706
DTEND;VALUE=DATE:20260711
DTSTAMP:20260421T145820
CREATED:20260202T130448Z
LAST-MODIFIED:20260420T213642Z
UID:10001432-1783296000-1783727999@www.tennis.se
SUMMARY:Sommarspelen - JSM Race 2026 (14)
DESCRIPTION:Factsheet och anmälan
URL:https://www.tennis.se/kalender/sommarspelen-jsm-race-2026-14/
LOCATION:Borlänge tennisklubb\, Betesgatan 1B\, 784 41 Borlänge\, Sweden\, Sverige
CATEGORIES:Tävling Nationella JSM Race
ATTACH;FMTTYPE=image/jpeg:https://www.tennis.se/wp-content/uploads/2024/02/evenemang-jsm-race.jpg
GEO:60.496745838713;15.412846757585
END:VEVENT
BEGIN:VEVENT
DTSTART;VALUE=DATE:20260706
DTEND;VALUE=DATE:20260711
DTSTAMP:20260421T145820
CREATED:20260202T130451Z
LAST-MODIFIED:20260420T213653Z
UID:10001434-1783296000-1783727999@www.tennis.se
SUMMARY:Munka Spelen - JSM Race 2026 (14)
DESCRIPTION:Factsheet och anmälan
URL:https://www.tennis.se/kalender/munka-spelen-jsm-race-2026-14/
LOCATION:Munkaljungby Tennisklubb\, Öster Värn 33\, 266 33 Munka-ljungby\, Sweden\, Sverige
CATEGORIES:Tävling Nationella JSM Race
ATTACH;FMTTYPE=image/jpeg:https://www.tennis.se/wp-content/uploads/2024/02/evenemang-jsm-race.jpg
GEO:56.255106459698;12.985636284404
END:VEVENT
BEGIN:VEVENT
DTSTART;VALUE=DATE:20260706
DTEND;VALUE=DATE:20260711
DTSTAMP:20260421T145820
CREATED:20260202T130453Z
LAST-MODIFIED:20260420T213643Z
UID:10001435-1783296000-1783727999@www.tennis.se
SUMMARY:Munka Spelen - JSM Race 2026 (18)
DESCRIPTION:Factsheet och anmälan
URL:https://www.tennis.se/kalender/munka-spelen-jsm-race-2026-18/
LOCATION:Munkaljungby Tennisklubb\, Öster Värn 33\, 266 33 Munka-ljungby\, Sweden\, Sverige
CATEGORIES:Tävling Nationella JSM Race
ATTACH;FMTTYPE=image/jpeg:https://www.tennis.se/wp-content/uploads/2024/02/evenemang-jsm-race.jpg
GEO:56.255106459698;12.985636284404
END:VEVENT
BEGIN:VEVENT
DTSTART;VALUE=DATE:20260706
DTEND;VALUE=DATE:20260711
DTSTAMP:20260421T145820
CREATED:20260202T130455Z
LAST-MODIFIED:20260420T213649Z
UID:10001436-1783296000-1783727999@www.tennis.se
SUMMARY:Strandbadsturneringen - JSM Race 2026 (16)
DESCRIPTION:Factsheet och anmälan
URL:https://www.tennis.se/kalender/strandbadsturneringen-jsm-race-2026-16/
LOCATION:Falkenbergs Tennisklubb\, Elvägen 9\, 311 48 Falkenberg\, Sweden\, Sverige
CATEGORIES:Tävling Nationella JSM Race
ATTACH;FMTTYPE=image/jpeg:https://www.tennis.se/wp-content/uploads/2024/02/evenemang-jsm-race.jpg
GEO:56.900969129569;12.525264215748
END:VEVENT
BEGIN:VEVENT
DTSTART;VALUE=DATE:20260711
DTEND;VALUE=DATE:20260716
DTSTAMP:20260421T145820
CREATED:20260202T130443Z
LAST-MODIFIED:20260420T213707Z
UID:10001430-1783728000-1784159999@www.tennis.se
SUMMARY:Avesta Sommarspel - JSM Race 2026 (14)
DESCRIPTION:Factsheet och anmälan
URL:https://www.tennis.se/kalender/avesta-sommarspel-jsm-race-2026-14/
LOCATION:Avesta Tennisklubb\, Bergslagsvägen 71\, 774 35 Avesta\, Sweden\, Sverige
CATEGORIES:Tävling Nationella JSM Race
ATTACH;FMTTYPE=image/jpeg:https://www.tennis.se/wp-content/uploads/2024/02/evenemang-jsm-race.jpg
GEO:60.14922759563;16.155026671072
END:VEVENT
BEGIN:VEVENT
DTSTART;VALUE=DATE:20260711
DTEND;VALUE=DATE:20260716
DTSTAMP:20260421T145820
CREATED:20260202T130445Z
LAST-MODIFIED:20260420T213709Z
UID:10001431-1783728000-1784159999@www.tennis.se
SUMMARY:Havsbadsspelen - JSM Race 2026 (16)
DESCRIPTION:Factsheet och anmälan
URL:https://www.tennis.se/kalender/havsbadsspelen-jsm-race-2026-16/
LOCATION:Ängelholm Tennisklubb\, Havsbadsvägen 128\, 262 68 Ängelholm\, Sweden\, Sverige
CATEGORIES:Tävling Nationella JSM Race
ATTACH;FMTTYPE=image/jpeg:https://www.tennis.se/wp-content/uploads/2024/02/evenemang-jsm-race.jpg
GEO:56.260946837377;12.83785498441
END:VEVENT
BEGIN:VEVENT
DTSTART;VALUE=DATE:20260711
DTEND;VALUE=DATE:20260716
DTSTAMP:20260421T145820
CREATED:20260202T130449Z
LAST-MODIFIED:20260420T213701Z
UID:10001433-1783728000-1784159999@www.tennis.se
SUMMARY:Sparbanken Gotland Open - JSM Race 2026 (14)
DESCRIPTION:Factsheet och anmälan
URL:https://www.tennis.se/kalender/sparbanken-gotland-open-jsm-race-2026-14/
LOCATION:Visby Tennisklubb\, Bergsgatan 12\, 621 55 Visby\, Sweden\, Sverige
CATEGORIES:Tävling Nationella JSM Race
ATTACH;FMTTYPE=image/jpeg:https://www.tennis.se/wp-content/uploads/2024/02/evenemang-jsm-race.jpg
GEO:57.647222122035;18.306366170484
END:VEVENT
BEGIN:VEVENT
DTSTART;VALUE=DATE:20260716
DTEND;VALUE=DATE:20260721
DTSTAMP:20260421T145820
CREATED:20260202T130456Z
LAST-MODIFIED:20260420T213703Z
UID:10001437-1784160000-1784591999@www.tennis.se
SUMMARY:Söndrums TKs - JSM Race 2026 (14)
DESCRIPTION:Factsheet och anmälan
URL:https://www.tennis.se/kalender/sondrums-tks-jsm-race-2026-14/
LOCATION:Söndrums Tennisklubb\, Bäckagårdsvägen 130\, 302 41 Halmstad\, Sweden\, Sverige
CATEGORIES:Tävling Nationella JSM Race
ATTACH;FMTTYPE=image/jpeg:https://www.tennis.se/wp-content/uploads/2024/02/evenemang-jsm-race.jpg
GEO:56.669527046924;12.795130500169
END:VEVENT
BEGIN:VEVENT
DTSTART;VALUE=DATE:20260716
DTEND;VALUE=DATE:20260721
DTSTAMP:20260421T145820
CREATED:20260202T130458Z
LAST-MODIFIED:20260420T213700Z
UID:10001438-1784160000-1784591999@www.tennis.se
SUMMARY:Gutaspelen - JSM Race 2026 (16)
DESCRIPTION:Factsheet och anmälan
URL:https://www.tennis.se/kalender/gutaspelen-jsm-race-2026-16/
LOCATION:Visby Tennisklubb\, Bergsgatan 12\, 621 55 Visby\, Sweden\, Sverige
CATEGORIES:Tävling Nationella JSM Race
ATTACH;FMTTYPE=image/jpeg:https://www.tennis.se/wp-content/uploads/2024/02/evenemang-jsm-race.jpg
GEO:57.647222122035;18.306366170484
END:VEVENT
END:VCALENDAR