BEGIN:VCALENDAR
VERSION:2.0
PRODID:-//Svenska Tennisförbundet - ECPv6.15.20//NONSGML v1.0//EN
CALSCALE:GREGORIAN
METHOD:PUBLISH
X-WR-CALNAME:Svenska Tennisförbundet
X-ORIGINAL-URL:https://www.tennis.se
X-WR-CALDESC:Händelser för Svenska Tennisförbundet
REFRESH-INTERVAL;VALUE=DURATION:PT1H
X-Robots-Tag:noindex
X-PUBLISHED-TTL:PT1H
BEGIN:VTIMEZONE
TZID:Europe/Stockholm
BEGIN:DAYLIGHT
TZOFFSETFROM:+0100
TZOFFSETTO:+0200
TZNAME:CEST
DTSTART:20250330T010000
END:DAYLIGHT
BEGIN:STANDARD
TZOFFSETFROM:+0200
TZOFFSETTO:+0100
TZNAME:CET
DTSTART:20251026T010000
END:STANDARD
BEGIN:DAYLIGHT
TZOFFSETFROM:+0100
TZOFFSETTO:+0200
TZNAME:CEST
DTSTART:20260329T010000
END:DAYLIGHT
BEGIN:STANDARD
TZOFFSETFROM:+0200
TZOFFSETTO:+0100
TZNAME:CET
DTSTART:20261025T010000
END:STANDARD
BEGIN:DAYLIGHT
TZOFFSETFROM:+0100
TZOFFSETTO:+0200
TZNAME:CEST
DTSTART:20270328T010000
END:DAYLIGHT
BEGIN:STANDARD
TZOFFSETFROM:+0200
TZOFFSETTO:+0100
TZNAME:CET
DTSTART:20271031T010000
END:STANDARD
END:VTIMEZONE
BEGIN:VEVENT
DTSTART;VALUE=DATE:20260701
DTEND;VALUE=DATE:20260706
DTSTAMP:20260421T171913
CREATED:20260202T130438Z
LAST-MODIFIED:20260420T213645Z
UID:10001427-1782864000-1783295999@www.tennis.se
SUMMARY:Hunnebostrands Tennisvecka - JSM Race 2026 (18)
DESCRIPTION:Factsheet och anmälan
URL:https://www.tennis.se/kalender/hunnebostrands-tennisvecka-jsm-race-2026-18/
LOCATION:Hunnebostrands Tennisklubb\, Hunnebovägen 33\, 456 61 Hunnebostrand\, Sweden\, Sverige
CATEGORIES:Tävling Nationella JSM Race
ATTACH;FMTTYPE=image/jpeg:https://www.tennis.se/wp-content/uploads/2024/02/evenemang-jsm-race.jpg
GEO:58.43651455682;11.297239386644
END:VEVENT
BEGIN:VEVENT
DTSTART;VALUE=DATE:20260701
DTEND;VALUE=DATE:20260706
DTSTAMP:20260421T171913
CREATED:20260202T130442Z
LAST-MODIFIED:20260420T213651Z
UID:10001429-1782864000-1783295999@www.tennis.se
SUMMARY:Vikingaspelen - JSM Race 2026 (18)
DESCRIPTION:Factsheet och anmälan
URL:https://www.tennis.se/kalender/vikingaspelen-jsm-race-2026-18/
LOCATION:Nynäshamns Tennisklubb\, Kvarnängsvägen 10\, 149 91 Nynäshamn\, Sweden\, Sverige
CATEGORIES:Tävling Nationella JSM Race
ATTACH;FMTTYPE=image/jpeg:https://www.tennis.se/wp-content/uploads/2024/02/evenemang-jsm-race.jpg
GEO:58.924977685064;17.923214213679
END:VEVENT
BEGIN:VEVENT
DTSTART;VALUE=DATE:20260706
DTEND;VALUE=DATE:20260711
DTSTAMP:20260421T171913
CREATED:20260202T130448Z
LAST-MODIFIED:20260420T213642Z
UID:10001432-1783296000-1783727999@www.tennis.se
SUMMARY:Sommarspelen - JSM Race 2026 (14)
DESCRIPTION:Factsheet och anmälan
URL:https://www.tennis.se/kalender/sommarspelen-jsm-race-2026-14/
LOCATION:Borlänge tennisklubb\, Betesgatan 1B\, 784 41 Borlänge\, Sweden\, Sverige
CATEGORIES:Tävling Nationella JSM Race
ATTACH;FMTTYPE=image/jpeg:https://www.tennis.se/wp-content/uploads/2024/02/evenemang-jsm-race.jpg
GEO:60.496745838713;15.412846757585
END:VEVENT
BEGIN:VEVENT
DTSTART;VALUE=DATE:20260706
DTEND;VALUE=DATE:20260711
DTSTAMP:20260421T171913
CREATED:20260202T130451Z
LAST-MODIFIED:20260420T213653Z
UID:10001434-1783296000-1783727999@www.tennis.se
SUMMARY:Munka Spelen - JSM Race 2026 (14)
DESCRIPTION:Factsheet och anmälan
URL:https://www.tennis.se/kalender/munka-spelen-jsm-race-2026-14/
LOCATION:Munkaljungby Tennisklubb\, Öster Värn 33\, 266 33 Munka-ljungby\, Sweden\, Sverige
CATEGORIES:Tävling Nationella JSM Race
ATTACH;FMTTYPE=image/jpeg:https://www.tennis.se/wp-content/uploads/2024/02/evenemang-jsm-race.jpg
GEO:56.255106459698;12.985636284404
END:VEVENT
BEGIN:VEVENT
DTSTART;VALUE=DATE:20260706
DTEND;VALUE=DATE:20260711
DTSTAMP:20260421T171913
CREATED:20260202T130453Z
LAST-MODIFIED:20260420T213643Z
UID:10001435-1783296000-1783727999@www.tennis.se
SUMMARY:Munka Spelen - JSM Race 2026 (18)
DESCRIPTION:Factsheet och anmälan
URL:https://www.tennis.se/kalender/munka-spelen-jsm-race-2026-18/
LOCATION:Munkaljungby Tennisklubb\, Öster Värn 33\, 266 33 Munka-ljungby\, Sweden\, Sverige
CATEGORIES:Tävling Nationella JSM Race
ATTACH;FMTTYPE=image/jpeg:https://www.tennis.se/wp-content/uploads/2024/02/evenemang-jsm-race.jpg
GEO:56.255106459698;12.985636284404
END:VEVENT
BEGIN:VEVENT
DTSTART;VALUE=DATE:20260706
DTEND;VALUE=DATE:20260711
DTSTAMP:20260421T171913
CREATED:20260202T130455Z
LAST-MODIFIED:20260420T213649Z
UID:10001436-1783296000-1783727999@www.tennis.se
SUMMARY:Strandbadsturneringen - JSM Race 2026 (16)
DESCRIPTION:Factsheet och anmälan
URL:https://www.tennis.se/kalender/strandbadsturneringen-jsm-race-2026-16/
LOCATION:Falkenbergs Tennisklubb\, Elvägen 9\, 311 48 Falkenberg\, Sweden\, Sverige
CATEGORIES:Tävling Nationella JSM Race
ATTACH;FMTTYPE=image/jpeg:https://www.tennis.se/wp-content/uploads/2024/02/evenemang-jsm-race.jpg
GEO:56.900969129569;12.525264215748
END:VEVENT
BEGIN:VEVENT
DTSTART;VALUE=DATE:20260711
DTEND;VALUE=DATE:20260716
DTSTAMP:20260421T171913
CREATED:20260202T130443Z
LAST-MODIFIED:20260420T213707Z
UID:10001430-1783728000-1784159999@www.tennis.se
SUMMARY:Avesta Sommarspel - JSM Race 2026 (14)
DESCRIPTION:Factsheet och anmälan
URL:https://www.tennis.se/kalender/avesta-sommarspel-jsm-race-2026-14/
LOCATION:Avesta Tennisklubb\, Bergslagsvägen 71\, 774 35 Avesta\, Sweden\, Sverige
CATEGORIES:Tävling Nationella JSM Race
ATTACH;FMTTYPE=image/jpeg:https://www.tennis.se/wp-content/uploads/2024/02/evenemang-jsm-race.jpg
GEO:60.14922759563;16.155026671072
END:VEVENT
BEGIN:VEVENT
DTSTART;VALUE=DATE:20260711
DTEND;VALUE=DATE:20260716
DTSTAMP:20260421T171913
CREATED:20260202T130445Z
LAST-MODIFIED:20260420T213709Z
UID:10001431-1783728000-1784159999@www.tennis.se
SUMMARY:Havsbadsspelen - JSM Race 2026 (16)
DESCRIPTION:Factsheet och anmälan
URL:https://www.tennis.se/kalender/havsbadsspelen-jsm-race-2026-16/
LOCATION:Ängelholm Tennisklubb\, Havsbadsvägen 128\, 262 68 Ängelholm\, Sweden\, Sverige
CATEGORIES:Tävling Nationella JSM Race
ATTACH;FMTTYPE=image/jpeg:https://www.tennis.se/wp-content/uploads/2024/02/evenemang-jsm-race.jpg
GEO:56.260946837377;12.83785498441
END:VEVENT
BEGIN:VEVENT
DTSTART;VALUE=DATE:20260711
DTEND;VALUE=DATE:20260716
DTSTAMP:20260421T171913
CREATED:20260202T130449Z
LAST-MODIFIED:20260420T213701Z
UID:10001433-1783728000-1784159999@www.tennis.se
SUMMARY:Sparbanken Gotland Open - JSM Race 2026 (14)
DESCRIPTION:Factsheet och anmälan
URL:https://www.tennis.se/kalender/sparbanken-gotland-open-jsm-race-2026-14/
LOCATION:Visby Tennisklubb\, Bergsgatan 12\, 621 55 Visby\, Sweden\, Sverige
CATEGORIES:Tävling Nationella JSM Race
ATTACH;FMTTYPE=image/jpeg:https://www.tennis.se/wp-content/uploads/2024/02/evenemang-jsm-race.jpg
GEO:57.647222122035;18.306366170484
END:VEVENT
BEGIN:VEVENT
DTSTART;VALUE=DATE:20260716
DTEND;VALUE=DATE:20260721
DTSTAMP:20260421T171913
CREATED:20260202T130456Z
LAST-MODIFIED:20260420T213703Z
UID:10001437-1784160000-1784591999@www.tennis.se
SUMMARY:Söndrums TKs - JSM Race 2026 (14)
DESCRIPTION:Factsheet och anmälan
URL:https://www.tennis.se/kalender/sondrums-tks-jsm-race-2026-14/
LOCATION:Söndrums Tennisklubb\, Bäckagårdsvägen 130\, 302 41 Halmstad\, Sweden\, Sverige
CATEGORIES:Tävling Nationella JSM Race
ATTACH;FMTTYPE=image/jpeg:https://www.tennis.se/wp-content/uploads/2024/02/evenemang-jsm-race.jpg
GEO:56.669527046924;12.795130500169
END:VEVENT
BEGIN:VEVENT
DTSTART;VALUE=DATE:20260716
DTEND;VALUE=DATE:20260721
DTSTAMP:20260421T171913
CREATED:20260202T130458Z
LAST-MODIFIED:20260420T213700Z
UID:10001438-1784160000-1784591999@www.tennis.se
SUMMARY:Gutaspelen - JSM Race 2026 (16)
DESCRIPTION:Factsheet och anmälan
URL:https://www.tennis.se/kalender/gutaspelen-jsm-race-2026-16/
LOCATION:Visby Tennisklubb\, Bergsgatan 12\, 621 55 Visby\, Sweden\, Sverige
CATEGORIES:Tävling Nationella JSM Race
ATTACH;FMTTYPE=image/jpeg:https://www.tennis.se/wp-content/uploads/2024/02/evenemang-jsm-race.jpg
GEO:57.647222122035;18.306366170484
END:VEVENT
BEGIN:VEVENT
DTSTART;VALUE=DATE:20260716
DTEND;VALUE=DATE:20260721
DTSTAMP:20260421T171913
CREATED:20260202T130500Z
LAST-MODIFIED:20260420T213656Z
UID:10001439-1784160000-1784591999@www.tennis.se
SUMMARY:Holmen Board & Paper Cup - JSM Race 2026 (14)
DESCRIPTION:Factsheet och anmälan
URL:https://www.tennis.se/kalender/holmen-board-paper-cup-jsm-race-2026-14/
LOCATION:Norrköpings Tennisklubb\, Himmelstalund Racketstadion\, 603 36 Norrköping\, Sweden\, Sverige
CATEGORIES:Tävling Nationella JSM Race
ATTACH;FMTTYPE=image/jpeg:https://www.tennis.se/wp-content/uploads/2024/02/evenemang-jsm-race.jpg
GEO:58.589561472336;16.136594182833
END:VEVENT
BEGIN:VEVENT
DTSTART;VALUE=DATE:20260716
DTEND;VALUE=DATE:20260721
DTSTAMP:20260421T171913
CREATED:20260202T130504Z
LAST-MODIFIED:20260420T213705Z
UID:10001441-1784160000-1784591999@www.tennis.se
SUMMARY:Trollserven – JSM Race 2026 (16)
DESCRIPTION:Factsheet och anmälan
URL:https://www.tennis.se/kalender/trollserven-jsm-race-2026-16/
LOCATION:Trollhättans Tennisklubb\, Kardanvägen 2\, 461 38 Trollhättan\, Sweden\, Sverige
CATEGORIES:Tävling Nationella JSM Race
ATTACH;FMTTYPE=image/jpeg:https://www.tennis.se/wp-content/uploads/2024/02/evenemang-jsm-race.jpg
GEO:58.294286146501;12.314036711365
END:VEVENT
BEGIN:VEVENT
DTSTART;VALUE=DATE:20260718
DTEND;VALUE=DATE:20260723
DTSTAMP:20260421T171913
CREATED:20260202T130502Z
LAST-MODIFIED:20260420T213710Z
UID:10001440-1784332800-1784764799@www.tennis.se
SUMMARY:Affärsverken Karlskrona Open - JSM Race 2026 (18)
DESCRIPTION:Factsheet och anmälan
URL:https://www.tennis.se/kalender/affarsverken-karlskrona-open-jsm-race-2026-18/
LOCATION:Karlskrona Tennisklubb\, Arenavägen 19\, 371 55 Karlskrona\, Sweden\, Sverige
CATEGORIES:Tävling Nationella JSM Race
ATTACH;FMTTYPE=image/jpeg:https://www.tennis.se/wp-content/uploads/2024/02/evenemang-jsm-race.jpg
GEO:56.21876690286;15.603570876428
END:VEVENT
BEGIN:VEVENT
DTSTART;VALUE=DATE:20260721
DTEND;VALUE=DATE:20260726
DTSTAMP:20260421T171913
CREATED:20260202T130510Z
LAST-MODIFIED:20260420T213655Z
UID:10001444-1784592000-1785023999@www.tennis.se
SUMMARY:Affärsverken Karlskrona Open - JSM Race 2026 (14)
DESCRIPTION:Factsheet och anmälan
URL:https://www.tennis.se/kalender/affarsverken-karlskrona-open-jsm-race-2026-14/
LOCATION:Karlskrona Tennisklubb\, Arenavägen 19\, 371 55 Karlskrona\, Sweden\, Sverige
CATEGORIES:Tävling Nationella JSM Race
ATTACH;FMTTYPE=image/jpeg:https://www.tennis.se/wp-content/uploads/2024/02/evenemang-jsm-race.jpg
GEO:56.21876690286;15.603570876428
END:VEVENT
BEGIN:VEVENT
DTSTART;VALUE=DATE:20260721
DTEND;VALUE=DATE:20260726
DTSTAMP:20260421T171913
CREATED:20260203T143833Z
LAST-MODIFIED:20260420T213658Z
UID:10001466-1784592000-1785023999@www.tennis.se
SUMMARY:Holmen Board & Paper Cup - JSM Race 2026 (16)
DESCRIPTION:Factsheet och anmälan
URL:https://www.tennis.se/kalender/holmen-board-paper-cup-jsm-race-2026-16/
LOCATION:Norrköpings Tennisklubb\, Himmelstalund Racketstadion\, 603 36 Norrköping\, Sweden\, Sverige
CATEGORIES:Tävling Nationella JSM Race
ATTACH;FMTTYPE=image/jpeg:https://www.tennis.se/wp-content/uploads/2024/02/evenemang-jsm-race.jpg
GEO:58.589561472336;16.136594182833
END:VEVENT
BEGIN:VEVENT
DTSTART;VALUE=DATE:20260726
DTEND;VALUE=DATE:20260731
DTSTAMP:20260421T171913
CREATED:20260202T130506Z
LAST-MODIFIED:20260420T213721Z
UID:10001442-1785024000-1785455999@www.tennis.se
SUMMARY:USIF - JSM Race 2026 (16)
DESCRIPTION:Factsheet och anmälan
URL:https://www.tennis.se/kalender/usif-jsm-race-2026-16/
LOCATION:USIF Arena\, Torgny Segerstedts Allé 2\, 756 44 Uppsala\, Sweden\, Sverige
CATEGORIES:Tävling Nationella JSM Race
ATTACH;FMTTYPE=image/jpeg:https://www.tennis.se/wp-content/uploads/2024/02/evenemang-jsm-race.jpg
GEO:59.831210702648;17.633513242276
END:VEVENT
BEGIN:VEVENT
DTSTART;VALUE=DATE:20260726
DTEND;VALUE=DATE:20260731
DTSTAMP:20260421T171913
CREATED:20260202T130507Z
LAST-MODIFIED:20260420T213720Z
UID:10001443-1785024000-1785455999@www.tennis.se
SUMMARY:Zeta Hellas Open - JSM Race 2026 (14)
DESCRIPTION:Factsheet och anmälan
URL:https://www.tennis.se/kalender/zeta-hellas-open-jsm-race-2026-14/
LOCATION:Hellas Tennisklubb\, Hammarby Slussväg 8\, 118 60 Stockholm\, Sweden\, Sverige
CATEGORIES:Tävling Nationella JSM Race
ATTACH;FMTTYPE=image/jpeg:https://www.tennis.se/wp-content/uploads/2024/02/evenemang-jsm-race.jpg
GEO:59.305008541622;18.070437618238
END:VEVENT
BEGIN:VEVENT
DTSTART;VALUE=DATE:20260726
DTEND;VALUE=DATE:20260731
DTSTAMP:20260421T171913
CREATED:20260202T130512Z
LAST-MODIFIED:20260420T213718Z
UID:10001445-1785024000-1785455999@www.tennis.se
SUMMARY:Swedish Tennis Academy Open by Mircon - 14\, 16 - JSM Race 2026 (14)
DESCRIPTION:Factsheet och anmälan
URL:https://www.tennis.se/kalender/swedish-tennis-academy-open-by-mircon-14-16-jsm-race-2026-14/
LOCATION:Fair Play Tennisklubb\, Erikslustvägen 56\, 217 73 Malmö\, Sweden\, Sverige
CATEGORIES:Tävling Nationella JSM Race
ATTACH;FMTTYPE=image/jpeg:https://www.tennis.se/wp-content/uploads/2024/02/evenemang-jsm-race.jpg
GEO:55.590240611263;12.960672983732
END:VEVENT
BEGIN:VEVENT
DTSTART;VALUE=DATE:20260729
DTEND;VALUE=DATE:20260803
DTSTAMP:20260421T171913
CREATED:20260202T130517Z
LAST-MODIFIED:20260420T213713Z
UID:10001448-1785283200-1785715199@www.tennis.se
SUMMARY:Zeta Hellas Open - JSM Race 2026 (18)
DESCRIPTION:Factsheet och anmälan
URL:https://www.tennis.se/kalender/zeta-hellas-open-jsm-race-2026-18/
LOCATION:Hellas Tennisklubb\, Hammarby Slussväg 8\, 118 60 Stockholm\, Sweden\, Sverige
CATEGORIES:Tävling Nationella JSM Race
ATTACH;FMTTYPE=image/jpeg:https://www.tennis.se/wp-content/uploads/2024/02/evenemang-jsm-race.jpg
GEO:59.305008541622;18.070437618238
END:VEVENT
BEGIN:VEVENT
DTSTART;VALUE=DATE:20260731
DTEND;VALUE=DATE:20260805
DTSTAMP:20260421T171913
CREATED:20260202T130513Z
LAST-MODIFIED:20260420T213723Z
UID:10001446-1785456000-1785887999@www.tennis.se
SUMMARY:Växjö Open - JSM Race 2026 (14)
DESCRIPTION:Factsheet och anmälan
URL:https://www.tennis.se/kalender/vaxjo-open-jsm-race-2026-14/
LOCATION:Växjö Tennis Club\, Värendsgatan 20\, 352 35 Växjö\, Sweden\, Sverige
CATEGORIES:Tävling Nationella JSM Race
ATTACH;FMTTYPE=image/jpeg:https://www.tennis.se/wp-content/uploads/2024/02/evenemang-jsm-race.jpg
GEO:56.871481749468;14.803602556604
END:VEVENT
BEGIN:VEVENT
DTSTART;VALUE=DATE:20260731
DTEND;VALUE=DATE:20260805
DTSTAMP:20260421T171913
CREATED:20260202T130515Z
LAST-MODIFIED:20260420T213714Z
UID:10001447-1785456000-1785887999@www.tennis.se
SUMMARY:Långtora Open - JSM Race 2026 (16)
DESCRIPTION:Factsheet och anmälan
URL:https://www.tennis.se/kalender/langtora-open-jsm-race-2026-16/
LOCATION:Långtora tennis\, LÅNGTORA LYGNESTA 1\, 745 96 Enköping\, Sweden\, Sverige
CATEGORIES:Tävling Nationella JSM Race
ATTACH;FMTTYPE=image/jpeg:https://www.tennis.se/wp-content/uploads/2024/02/evenemang-jsm-race.jpg
GEO:59.725447902744;17.124497187993
END:VEVENT
BEGIN:VEVENT
DTSTART;VALUE=DATE:20260731
DTEND;VALUE=DATE:20260805
DTSTAMP:20260421T171913
CREATED:20260202T130519Z
LAST-MODIFIED:20260420T213716Z
UID:10001449-1785456000-1785887999@www.tennis.se
SUMMARY:Swedish Tennis Academy Open by Mircon - 14\, 16 - JSM Race 2026 (16)
DESCRIPTION:Factsheet och anmälan
URL:https://www.tennis.se/kalender/swedish-tennis-academy-open-by-mircon-14-16-jsm-race-2026-16/
LOCATION:Fair Play Tennisklubb\, Erikslustvägen 56\, 217 73 Malmö\, Sweden\, Sverige
CATEGORIES:Tävling Nationella JSM Race
ATTACH;FMTTYPE=image/jpeg:https://www.tennis.se/wp-content/uploads/2024/02/evenemang-jsm-race.jpg
GEO:55.590240611263;12.960672983732
END:VEVENT
BEGIN:VEVENT
DTSTART;VALUE=DATE:20260808
DTEND;VALUE=DATE:20260817
DTSTAMP:20260421T171913
CREATED:20260202T130521Z
LAST-MODIFIED:20260202T130521Z
UID:10001450-1786147200-1786924799@www.tennis.se
SUMMARY:Junior RM - JSM Race 2026
DESCRIPTION:
URL:https://www.tennis.se/kalender/junior-rm-jsm-race-2026/
CATEGORIES:Tävling Nationella JSM Race
END:VEVENT
BEGIN:VEVENT
DTSTART;VALUE=DATE:20260808
DTEND;VALUE=DATE:20260817
DTSTAMP:20260421T171913
CREATED:20260202T135707Z
LAST-MODIFIED:20260420T213725Z
UID:10001465-1786147200-1786924799@www.tennis.se
SUMMARY:Junior RM - JSM Race 2026
DESCRIPTION:StockholmSydGöteborgMittNorrVäst 14 / Väst 16Öst
URL:https://www.tennis.se/kalender/junior-rm-jsm-race-2026-2/
LOCATION:Sweden
CATEGORIES:Tävling Nationella JSM Race
ATTACH;FMTTYPE=image/jpeg:https://www.tennis.se/wp-content/uploads/2024/02/evenemang-jsm-race.jpg
END:VEVENT
BEGIN:VEVENT
DTSTART;VALUE=DATE:20260828
DTEND;VALUE=DATE:20260902
DTSTAMP:20260421T171913
CREATED:20251203T122104Z
LAST-MODIFIED:20260420T213727Z
UID:10001365-1787875200-1788307199@www.tennis.se
SUMMARY:JSM Race Slutspel 2026
DESCRIPTION:Info och anmälan
URL:https://www.tennis.se/kalender/jsm-race-slutspel-2026/
LOCATION:Båstad Sportcenter\, Korrödsvägen 9\, 269 38 Båstad\, Sweden\, Sverige
CATEGORIES:Tävling Nationella JSM Race
ATTACH;FMTTYPE=image/jpeg:https://www.tennis.se/wp-content/uploads/2024/02/evenemang-jsm-race.jpg
GEO:56.423718810793;12.856553795768
END:VEVENT
END:VCALENDAR