BEGIN:VCALENDAR
VERSION:2.0
PRODID:-//Svenska Tennisförbundet - ECPv6.15.20//NONSGML v1.0//EN
CALSCALE:GREGORIAN
METHOD:PUBLISH
X-ORIGINAL-URL:https://www.tennis.se
X-WR-CALDESC:Händelser för Svenska Tennisförbundet
REFRESH-INTERVAL;VALUE=DURATION:PT1H
X-Robots-Tag:noindex
X-PUBLISHED-TTL:PT1H
BEGIN:VTIMEZONE
TZID:Europe/Stockholm
BEGIN:DAYLIGHT
TZOFFSETFROM:+0100
TZOFFSETTO:+0200
TZNAME:CEST
DTSTART:20240331T010000
END:DAYLIGHT
BEGIN:STANDARD
TZOFFSETFROM:+0200
TZOFFSETTO:+0100
TZNAME:CET
DTSTART:20241027T010000
END:STANDARD
BEGIN:DAYLIGHT
TZOFFSETFROM:+0100
TZOFFSETTO:+0200
TZNAME:CEST
DTSTART:20250330T010000
END:DAYLIGHT
BEGIN:STANDARD
TZOFFSETFROM:+0200
TZOFFSETTO:+0100
TZNAME:CET
DTSTART:20251026T010000
END:STANDARD
BEGIN:DAYLIGHT
TZOFFSETFROM:+0100
TZOFFSETTO:+0200
TZNAME:CEST
DTSTART:20260329T010000
END:DAYLIGHT
BEGIN:STANDARD
TZOFFSETFROM:+0200
TZOFFSETTO:+0100
TZNAME:CET
DTSTART:20261025T010000
END:STANDARD
END:VTIMEZONE
BEGIN:VEVENT
DTSTART;VALUE=DATE:20250928
DTEND;VALUE=DATE:20251005
DTSTAMP:20260425T174312
CREATED:20250425T083612Z
LAST-MODIFIED:20251004T093603Z
UID:10001165-1759017600-1759622399@www.tennis.se
SUMMARY:J60 Ullevi
DESCRIPTION:Factsheet och info
URL:https://www.tennis.se/kalender/j60-ullevi/
LOCATION:Ullevi Tennisklubb\, Smålandsgatan 2\, 411 39 Göteborg\, Sverige\, Sverige
CATEGORIES:Tävling Internationella Junior
ATTACH;FMTTYPE=image/jpeg:https://www.tennis.se/wp-content/uploads/2024/02/evenemang-wtt.jpg
GEO:57.705474023065;11.980659190332
END:VEVENT
BEGIN:VEVENT
DTSTART;VALUE=DATE:20251004
DTEND;VALUE=DATE:20251006
DTSTAMP:20260425T174312
CREATED:20241213T134027Z
LAST-MODIFIED:20251005T140604Z
UID:10001043-1759536000-1759708799@www.tennis.se
SUMMARY:Bastränarutbildning Stockholm helg 2/2
DESCRIPTION:SvTF Bastränarutbildning är första steget i det nya utbildningsprogrammet för tränare. \nMer information och anmälan.
URL:https://www.tennis.se/kalender/bastranarutbildning-stockholm-helg-2-2-7/
LOCATION:Tumba Tennisklubb\, Bryggarvägen 9\, 147 30 Tumba\, Sverige
CATEGORIES:Utbildning Tränare
ATTACH;FMTTYPE=image/jpeg:https://www.tennis.se/wp-content/uploads/2024/02/evenemang-utbildning.jpg
END:VEVENT
BEGIN:VEVENT
DTSTART;VALUE=DATE:20251004
DTEND;VALUE=DATE:20251006
DTSTAMP:20260425T174312
CREATED:20250407T210705Z
LAST-MODIFIED:20251005T115120Z
UID:10001148-1759536000-1759708799@www.tennis.se
SUMMARY:STL Inne 2025-2026 OL&GC
DESCRIPTION:
URL:https://www.tennis.se/kalender/stl-inne-2025-2026-olgc/
CATEGORIES:Seriespel
ATTACH;FMTTYPE=image/jpeg:https://www.tennis.se/wp-content/uploads/2024/02/evenemang-stl.jpg
END:VEVENT
BEGIN:VEVENT
DTSTART;VALUE=DATE:20251004
DTEND;VALUE=DATE:20251006
DTSTAMP:20260425T174312
CREATED:20250411T220613Z
LAST-MODIFIED:20251005T125112Z
UID:10001161-1759536000-1759708799@www.tennis.se
SUMMARY:Förbundstävlingsledarutbildning\, Vänersborg
DESCRIPTION:Genomförd och godkänd förbundstävlingsledarutbildning är förbundets krav för att få vara tävlingsledare på nationella tävlingar i Sverige. Förkunskapskraven är genomförd och godkänd Grundläggande tävlingsledarutbildning (inklusive matchledarutbildning). \nInformation och anmälan.
URL:https://www.tennis.se/kalender/forbundstavlingsledarutbildning-vanersborg/
CATEGORIES:Utbildning Funktionärer
ATTACH;FMTTYPE=image/jpeg:https://www.tennis.se/wp-content/uploads/2024/02/evenemang-utbildning.jpg
END:VEVENT
BEGIN:VEVENT
DTSTART;VALUE=DATE:20251004
DTEND;VALUE=DATE:20251006
DTSTAMP:20260425T174312
CREATED:20250902T065103Z
LAST-MODIFIED:20251005T065107Z
UID:10001242-1759536000-1759708799@www.tennis.se
SUMMARY:Spelarutvecklingsträff rullstol och stående
DESCRIPTION:Se nedan inbjudningar för mer information. Anmälan sker till mikaela.lecomte.seger@tennis.se.  \nSpelarutvecklingsträff stående.pdf \nSpelarutvecklingsträff rullstol.pdf
URL:https://www.tennis.se/kalender/spelarutvecklingstraff-rullstol-och-staende/
LOCATION:Västerhaninge Racket- och Idrottsklubb\, Rörvägen 13\, 136 50 Jordbro\, Sverige\, Sverige
CATEGORIES:Spelarutvecklingsträffar paratennis
ATTACH;FMTTYPE=image/jpeg:https://www.tennis.se/wp-content/uploads/2026/01/kalender-paratennis-utveckling.jpg
GEO:59.141982385999;18.112457657633
END:VEVENT
BEGIN:VEVENT
DTSTART;VALUE=DATE:20251008
DTEND;VALUE=DATE:20251012
DTSTAMP:20260425T174312
CREATED:20250603T095113Z
LAST-MODIFIED:20251011T180605Z
UID:10001187-1759881600-1760227199@www.tennis.se
SUMMARY:Performance Camp U12
DESCRIPTION:
URL:https://www.tennis.se/kalender/performance-camp-u12/
LOCATION:Plats TBA
CATEGORIES:Elit/Landslag läger
ATTACH;FMTTYPE=image/jpeg:https://www.tennis.se/wp-content/uploads/2024/03/evenemang-lager-o-aktiviteter.jpg
END:VEVENT
BEGIN:VEVENT
DTSTART;TZID=Europe/Stockholm:20251008T170000
DTEND;TZID=Europe/Stockholm:20251008T220000
DTSTAMP:20260425T174312
CREATED:20250612T053615Z
LAST-MODIFIED:20251008T125103Z
UID:10001193-1759942800-1759960800@www.tennis.se
SUMMARY:Matchledarutbildning Stockholm digitalt
DESCRIPTION:Matchledarutbildningen är det andra steget i utbildningsprogrammet för funktionärer. Introduktionsutbildning för funktionärer är förkunskapskrav. \nInformation och anmälan.
URL:https://www.tennis.se/kalender/matchledarutbildning-stockholm-digitalt-3/
CATEGORIES:Utbildning Funktionärer
ATTACH;FMTTYPE=image/jpeg:https://www.tennis.se/wp-content/uploads/2024/02/evenemang-utbildning.jpg
END:VEVENT
BEGIN:VEVENT
DTSTART;VALUE=DATE:20251009
DTEND;VALUE=DATE:20251013
DTSTAMP:20260425T174312
CREATED:20250710T092347Z
LAST-MODIFIED:20251012T123618Z
UID:10001216-1759968000-1760313599@www.tennis.se
SUMMARY:Mälarspelens - Vintertour 2025
DESCRIPTION:Factsheetoch anmälan
URL:https://www.tennis.se/kalender/malarspelens-vintertour-2025/
LOCATION:Mälarhöjdens IK Tennissektionen\, Lotta Svärds gränd 22\, 129 55 Hägersten\, Sweden\, Sverige
CATEGORIES:Tävling Nationella Sommar- och Vintertour
ATTACH;FMTTYPE=image/jpeg:https://www.tennis.se/wp-content/uploads/2024/02/evenemang-sommar-vintertour.jpg
GEO:59.28850891653;17.953938102877
END:VEVENT
BEGIN:VEVENT
DTSTART;VALUE=DATE:20251011
DTEND;VALUE=DATE:20251013
DTSTAMP:20260425T174312
CREATED:20241213T134029Z
LAST-MODIFIED:20251012T143605Z
UID:10001044-1760140800-1760313599@www.tennis.se
SUMMARY:Bastränarutbildning Båstad helg 1/2
DESCRIPTION:SvTF Bastränarutbildning är första steget i det nya utbildningsprogrammet för tränare.\nMer information och anmälan kommer.
URL:https://www.tennis.se/kalender/bastranarutbildning-bastad-helg-1-2-2/
LOCATION:Båstad Sportcenter\, Korrödsvägen 9\, 269 38 Båstad\, Sverige\, Sverige
CATEGORIES:Utbildning Tränare
ATTACH;FMTTYPE=image/jpeg:https://www.tennis.se/wp-content/uploads/2024/02/evenemang-utbildning.jpg
GEO:56.424097023863;12.856890887878
END:VEVENT
BEGIN:VEVENT
DTSTART;VALUE=DATE:20251011
DTEND;VALUE=DATE:20251013
DTSTAMP:20260425T174312
CREATED:20250407T210708Z
LAST-MODIFIED:20251012T122103Z
UID:10001149-1760140800-1760313599@www.tennis.se
SUMMARY:STL Inne 2025-2026 PF18AB
DESCRIPTION:
URL:https://www.tennis.se/kalender/stl-inne-2025-2026-pf18ab/
CATEGORIES:Seriespel
ATTACH;FMTTYPE=image/jpeg:https://www.tennis.se/wp-content/uploads/2024/02/evenemang-stl.jpg
END:VEVENT
BEGIN:VEVENT
DTSTART;TZID=Europe/Stockholm:20251011T100000
DTEND;TZID=Europe/Stockholm:20251011T140000
DTSTAMP:20260425T174312
CREATED:20241219T135110Z
LAST-MODIFIED:20251010T132111Z
UID:10001051-1760176800-1760191200@www.tennis.se
SUMMARY:Matchledarutbildning Öst digitalt
DESCRIPTION:Matchledarutbildningen är det andra steget i utbildningsprogrammet för funktionärer. Introduktionsutbildning för funktionärer är förkunskapskrav. \nInformation och anmälan.
URL:https://www.tennis.se/kalender/matchledarutbildning-ost-digitalt-2/
CATEGORIES:Utbildning Funktionärer
ATTACH;FMTTYPE=image/jpeg:https://www.tennis.se/wp-content/uploads/2024/02/evenemang-utbildning.jpg
END:VEVENT
BEGIN:VEVENT
DTSTART;VALUE=DATE:20251012
DTEND;VALUE=DATE:20251016
DTSTAMP:20260425T174312
CREATED:20250603T095109Z
LAST-MODIFIED:20251015T180604Z
UID:10001185-1760227200-1760572799@www.tennis.se
SUMMARY:Performance Camp U14
DESCRIPTION:
URL:https://www.tennis.se/kalender/performance-camp-u14/
LOCATION:Plats TBA
CATEGORIES:Elit/Landslag läger
ATTACH;FMTTYPE=image/jpeg:https://www.tennis.se/wp-content/uploads/2024/03/evenemang-lager-o-aktiviteter.jpg
END:VEVENT
BEGIN:VEVENT
DTSTART;VALUE=DATE:20251012
DTEND;VALUE=DATE:20251016
DTSTAMP:20260425T174312
CREATED:20250603T095111Z
LAST-MODIFIED:20251015T180607Z
UID:10001186-1760227200-1760572799@www.tennis.se
SUMMARY:Performance Camp U13
DESCRIPTION:
URL:https://www.tennis.se/kalender/performance-camp-u13/
LOCATION:Plats TBA
CATEGORIES:Elit/Landslag läger
ATTACH;FMTTYPE=image/jpeg:https://www.tennis.se/wp-content/uploads/2024/03/evenemang-lager-o-aktiviteter.jpg
END:VEVENT
BEGIN:VEVENT
DTSTART;TZID=Europe/Stockholm:20251012T100000
DTEND;TZID=Europe/Stockholm:20251012T170000
DTSTAMP:20260425T174312
CREATED:20241219T135112Z
LAST-MODIFIED:20251012T132102Z
UID:10001052-1760263200-1760288400@www.tennis.se
SUMMARY:Grundläggande Tävlingsledarutbildning (Öst - digitalt)
DESCRIPTION:Den här utbildningen är det tredje steget i utbildningsstegen för tävlingsledare\, därav är de två första stegen – Introduktionsutbildning för funktionärer och Matchledarutbildningen förkunskapskrav. \nLänk till anmälan.
URL:https://www.tennis.se/kalender/grundlaggande-tavlingsledarutbildning-ost-digitalt/
LOCATION:Digitalt via Teams.
CATEGORIES:Utbildning Funktionärer
ATTACH;FMTTYPE=image/jpeg:https://www.tennis.se/wp-content/uploads/2024/02/evenemang-utbildning.jpg
END:VEVENT
BEGIN:VEVENT
DTSTART;VALUE=DATE:20251014
DTEND;VALUE=DATE:20251018
DTSTAMP:20260425T174312
CREATED:20250710T092349Z
LAST-MODIFIED:20251017T130611Z
UID:10001217-1760400000-1760745599@www.tennis.se
SUMMARY:Svedalaspelen Indoor Damer - Vintertour 2025
DESCRIPTION:Factsheetoch anmälan
URL:https://www.tennis.se/kalender/svedalaspelen-indoor-damer-vintertour-2025/
LOCATION:Svedala tennishall\, Tennisgatan 3\, 233 32 Svedala\, Sweden\, Sverige
CATEGORIES:Tävling Nationella Sommar- och Vintertour
ATTACH;FMTTYPE=image/jpeg:https://www.tennis.se/wp-content/uploads/2024/02/evenemang-sommar-vintertour.jpg
GEO:55.514652637972;13.230717821819
END:VEVENT
BEGIN:VEVENT
DTSTART;VALUE=DATE:20251018
DTEND;VALUE=DATE:20251020
DTSTAMP:20260425T174312
CREATED:20250407T210711Z
LAST-MODIFIED:20251019T130605Z
UID:10001150-1760745600-1760918399@www.tennis.se
SUMMARY:STL Inne 2025-2026 PF15
DESCRIPTION:
URL:https://www.tennis.se/kalender/stl-inne-2025-2026-pf15/
CATEGORIES:Seriespel
ATTACH;FMTTYPE=image/jpeg:https://www.tennis.se/wp-content/uploads/2024/02/evenemang-stl.jpg
END:VEVENT
BEGIN:VEVENT
DTSTART;VALUE=DATE:20251024
DTEND;VALUE=DATE:20251027
DTSTAMP:20260425T174312
CREATED:20251003T185111Z
LAST-MODIFIED:20251026T185105Z
UID:10001246-1761264000-1761523199@www.tennis.se
SUMMARY:Nordic Tennis Veterans Championships
DESCRIPTION:
URL:https://www.tennis.se/kalender/nordic-tennis-veterans-championships/
LOCATION:Salkhallen\, Gustavslundsvägen 159\, 167 51 Bromma\, Sverige\, Sverige
CATEGORIES:Tävling Internationella Veteran
ATTACH;FMTTYPE=image/jpeg:https://www.tennis.se/wp-content/uploads/2024/02/evenemang-wtt.jpg
GEO:59.33257411626;17.982184843686
END:VEVENT
BEGIN:VEVENT
DTSTART;VALUE=DATE:20251025
DTEND;VALUE=DATE:20251029
DTSTAMP:20260425T174312
CREATED:20250603T095115Z
LAST-MODIFIED:20251028T182107Z
UID:10001188-1761350400-1761695999@www.tennis.se
SUMMARY:Samling inför W15 Näsbypark D/F18
DESCRIPTION:
URL:https://www.tennis.se/kalender/samling-infor-w15-nasbypark-d-f18/
LOCATION:Danderyd\, 182 54 Danderyd\, Sverige\, Sverige
CATEGORIES:Elit/Landslag läger
ATTACH;FMTTYPE=image/jpeg:https://www.tennis.se/wp-content/uploads/2024/03/evenemang-lager-o-aktiviteter.jpg
GEO:59.400839656874;18.047362163837
END:VEVENT
BEGIN:VEVENT
DTSTART;VALUE=DATE:20251025
DTEND;VALUE=DATE:20251101
DTSTAMP:20260425T174312
CREATED:20250815T172106Z
LAST-MODIFIED:20251031T185103Z
UID:10001226-1761350400-1761955199@www.tennis.se
SUMMARY:WTT-Seniors Järfälla Classic
DESCRIPTION:Factsheet och info
URL:https://www.tennis.se/kalender/wtt-seniors-jarfalla-classic-2/
LOCATION:Järfälla Tennissällskap\, 177 41 Järfälla\, Sweden\, Sverige
CATEGORIES:Tävling Internationella Veteran
ATTACH;FMTTYPE=image/jpeg:https://www.tennis.se/wp-content/uploads/2024/02/evenemang-wtt.jpg
GEO:59.418240374984;17.824320059129
END:VEVENT
BEGIN:VEVENT
DTSTART;TZID=Europe/Stockholm:20251025T130000
DTEND;TZID=Europe/Stockholm:20251025T150000
DTSTAMP:20260425T174312
CREATED:20251009T145109Z
LAST-MODIFIED:20251024T155108Z
UID:10001274-1761397200-1761404400@www.tennis.se
SUMMARY:Start Your Impossible Camp Uppsala
DESCRIPTION:Prova på paratennis på USIF Arena. Anmälan via länken. https://bit.ly/46GICZP
URL:https://www.tennis.se/kalender/start-your-impossible-camp-uppsala/
LOCATION:USIF Arena\, Torgny Segerstedts Allé 2\, 756 44 Uppsala\, Sverige\, Sverige
CATEGORIES:Rekrytering Paratennis
ATTACH;FMTTYPE=image/jpeg:https://www.tennis.se/wp-content/uploads/2024/02/eveneman-paratennis.jpg
GEO:59.831668124484;17.633557729489
END:VEVENT
BEGIN:VEVENT
DTSTART;VALUE=DATE:20251027
DTEND;VALUE=DATE:20251031
DTSTAMP:20260425T174312
CREATED:20250710T092350Z
LAST-MODIFIED:20251030T135109Z
UID:10001218-1761523200-1761868799@www.tennis.se
SUMMARY:Svedalaspelen Indoor Herrar - Vintertour 2025
DESCRIPTION:Factsheetoch anmälan
URL:https://www.tennis.se/kalender/svedalaspelen-indoor-herrar-vintertour-2025/
LOCATION:Svedala tennishall\, Tennisgatan 3\, 233 32 Svedala\, Sweden\, Sverige
CATEGORIES:Tävling Nationella Sommar- och Vintertour
ATTACH;FMTTYPE=image/jpeg:https://www.tennis.se/wp-content/uploads/2024/02/evenemang-sommar-vintertour.jpg
GEO:55.514652637972;13.230717821819
END:VEVENT
BEGIN:VEVENT
DTSTART;VALUE=DATE:20251027
DTEND;VALUE=DATE:20251103
DTSTAMP:20260425T174312
CREATED:20250425T222128Z
LAST-MODIFIED:20251102T183607Z
UID:10001166-1761523200-1762127999@www.tennis.se
SUMMARY:W15 Näsbypark
DESCRIPTION:
URL:https://www.tennis.se/kalender/w15-nasbypark-2/
LOCATION:Näsbyparks Tennisklubb\, Grindstuguvägen 36\, 183 64 Täby\, Sweden\, Sverige
CATEGORIES:Tävling Internationella Senior
ATTACH;FMTTYPE=image/jpeg:https://www.tennis.se/wp-content/uploads/2024/02/evenemang-wtt.jpg
GEO:59.444176641524;18.101076664414
END:VEVENT
BEGIN:VEVENT
DTSTART;VALUE=DATE:20251030
DTEND;VALUE=DATE:20251103
DTSTAMP:20260425T174312
CREATED:20250710T092352Z
LAST-MODIFIED:20251102T143640Z
UID:10001219-1761782400-1762127999@www.tennis.se
SUMMARY:CA Fastigheter Cup - Vintertour 2025
DESCRIPTION:Factsheetoch anmälan
URL:https://www.tennis.se/kalender/ca-fastigheter-cup-vintertour-2025/
LOCATION:Kalmar Tennisklubb + Padel\, 392 36 Kalmar\, Sweden\, Sverige
CATEGORIES:Tävling Nationella Sommar- och Vintertour
ATTACH;FMTTYPE=image/jpeg:https://www.tennis.se/wp-content/uploads/2024/02/evenemang-sommar-vintertour.jpg
GEO:56.680334486162;16.357534638112
END:VEVENT
BEGIN:VEVENT
DTSTART;VALUE=DATE:20251101
DTEND;VALUE=DATE:20251103
DTSTAMP:20260425T174312
CREATED:20250911T140606Z
LAST-MODIFIED:20251102T160602Z
UID:10001243-1761955200-1762127999@www.tennis.se
SUMMARY:Stockholm Paragames
DESCRIPTION:Välkommen till Stockholm Paragames som spelas på Farsta Tennisklubb. För mer information\, klicka på länken nedan.  \nStockholm Paragames
URL:https://www.tennis.se/kalender/stockholm-paragames-2/
CATEGORIES:Rekrytering Paratennis
ATTACH;FMTTYPE=image/jpeg:https://www.tennis.se/wp-content/uploads/2024/02/eveneman-paratennis.jpg
END:VEVENT
BEGIN:VEVENT
DTSTART;VALUE=DATE:20251106
DTEND;VALUE=DATE:20251109
DTSTAMP:20260425T174312
CREATED:20250710T092353Z
LAST-MODIFIED:20251108T110634Z
UID:10001220-1762387200-1762646399@www.tennis.se
SUMMARY:Ystad Indoor Atlanfonder Cup - Vintertour 2025
DESCRIPTION:Factsheetoch anmälan
URL:https://www.tennis.se/kalender/ystad-indoor-atlanfonder-cup-vintertour-2025/
LOCATION:Ystads tennisklubb\, Spaljégatan 14\, 271 52 Ystad\, Sweden\, Sverige
CATEGORIES:Tävling Nationella Sommar- och Vintertour
ATTACH;FMTTYPE=image/jpeg:https://www.tennis.se/wp-content/uploads/2024/02/evenemang-sommar-vintertour.jpg
GEO:55.432358559614;13.793659290977
END:VEVENT
BEGIN:VEVENT
DTSTART;TZID=Europe/Stockholm:20251106T170000
DTEND;TZID=Europe/Stockholm:20251106T220000
DTSTAMP:20260425T174312
CREATED:20250612T053621Z
LAST-MODIFIED:20251106T160618Z
UID:10001194-1762448400-1762466400@www.tennis.se
SUMMARY:Matchledarutbildning Stockholm digitalt
DESCRIPTION:Matchledarutbildningen är det andra steget i utbildningsprogrammet för funktionärer. Introduktionsutbildning för funktionärer är förkunskapskrav. \nInformation och anmälan.
URL:https://www.tennis.se/kalender/matchledarutbildning-stockholm-digitalt-4/
CATEGORIES:Utbildning Funktionärer
ATTACH;FMTTYPE=image/jpeg:https://www.tennis.se/wp-content/uploads/2024/02/evenemang-utbildning.jpg
END:VEVENT
BEGIN:VEVENT
DTSTART;VALUE=DATE:20251107
DTEND;VALUE=DATE:20251110
DTSTAMP:20260425T174312
CREATED:20250407T210712Z
LAST-MODIFIED:20251109T072308Z
UID:10001151-1762473600-1762732799@www.tennis.se
SUMMARY:STL Inne 2025-2026 PF15
DESCRIPTION:
URL:https://www.tennis.se/kalender/stl-inne-2025-2026-pf15-2/
CATEGORIES:Seriespel
ATTACH;FMTTYPE=image/jpeg:https://www.tennis.se/wp-content/uploads/2024/02/evenemang-stl.jpg
END:VEVENT
BEGIN:VEVENT
DTSTART;VALUE=DATE:20251108
DTEND;VALUE=DATE:20251110
DTSTAMP:20260425T174312
CREATED:20250411T220619Z
LAST-MODIFIED:20251109T162115Z
UID:10001162-1762560000-1762732799@www.tennis.se
SUMMARY:Förbundstävlingsledarutbildning\, Stockholm
DESCRIPTION:Genomförd och godkänd förbundstävlingsledarutbildning är förbundets krav för att få vara tävlingsledare på nationella tävlingar i Sverige. Förkunskapskraven är genomförd och godkänd Grundläggande tävlingsledarutbildning (inklusive matchledarutbildning). \nInformation och anmälan.
URL:https://www.tennis.se/kalender/forbundstavlingsledarutbildning-stockholm-3/
CATEGORIES:Utbildning Funktionärer
ATTACH;FMTTYPE=image/jpeg:https://www.tennis.se/wp-content/uploads/2024/02/evenemang-utbildning.jpg
END:VEVENT
BEGIN:VEVENT
DTSTART;VALUE=DATE:20251108
DTEND;VALUE=DATE:20251110
DTSTAMP:20260425T174312
CREATED:20250828T123620Z
LAST-MODIFIED:20251109T155117Z
UID:10001230-1762560000-1762732799@www.tennis.se
SUMMARY:Bastränarutbildning Väst helg 2/2
DESCRIPTION:SvTF Bastränarutbildning är första steget i det nya utbildningsprogrammet för tränare. \nMer information och anmälan.
URL:https://www.tennis.se/kalender/bastranarutbildning-vast-helg-2-2/
CATEGORIES:Utbildning Tränare
ATTACH;FMTTYPE=image/jpeg:https://www.tennis.se/wp-content/uploads/2024/02/evenemang-utbildning.jpg
END:VEVENT
BEGIN:VEVENT
DTSTART;TZID=Europe/Stockholm:20251111T173000
DTEND;TZID=Europe/Stockholm:20251111T210000
DTSTAMP:20260425T174312
CREATED:20250920T120618Z
LAST-MODIFIED:20251111T163607Z
UID:10001245-1762882200-1762894800@www.tennis.se
SUMMARY:Matchledarutbildning Väst digitalt
DESCRIPTION:Matchledarutbildningen är det andra steget i utbildningsprogrammet för funktionärer. Introduktionsutbildning för funktionärer är förkunskapskrav. \nInformation och anmälan.
URL:https://www.tennis.se/kalender/matchledarutbildning-vast-digitalt-3/
CATEGORIES:Utbildning Funktionärer
ATTACH;FMTTYPE=image/jpeg:https://www.tennis.se/wp-content/uploads/2024/02/evenemang-utbildning.jpg
END:VEVENT
END:VCALENDAR