BEGIN:VCALENDAR
VERSION:2.0
PRODID:-//Svenska Tennisförbundet - ECPv6.15.20//NONSGML v1.0//EN
CALSCALE:GREGORIAN
METHOD:PUBLISH
X-ORIGINAL-URL:https://www.tennis.se
X-WR-CALDESC:Händelser för Svenska Tennisförbundet
REFRESH-INTERVAL;VALUE=DURATION:PT1H
X-Robots-Tag:noindex
X-PUBLISHED-TTL:PT1H
BEGIN:VTIMEZONE
TZID:Europe/Stockholm
BEGIN:DAYLIGHT
TZOFFSETFROM:+0100
TZOFFSETTO:+0200
TZNAME:CEST
DTSTART:20250330T010000
END:DAYLIGHT
BEGIN:STANDARD
TZOFFSETFROM:+0200
TZOFFSETTO:+0100
TZNAME:CET
DTSTART:20251026T010000
END:STANDARD
BEGIN:DAYLIGHT
TZOFFSETFROM:+0100
TZOFFSETTO:+0200
TZNAME:CEST
DTSTART:20260329T010000
END:DAYLIGHT
BEGIN:STANDARD
TZOFFSETFROM:+0200
TZOFFSETTO:+0100
TZNAME:CET
DTSTART:20261025T010000
END:STANDARD
BEGIN:DAYLIGHT
TZOFFSETFROM:+0100
TZOFFSETTO:+0200
TZNAME:CEST
DTSTART:20270328T010000
END:DAYLIGHT
BEGIN:STANDARD
TZOFFSETFROM:+0200
TZOFFSETTO:+0100
TZNAME:CET
DTSTART:20271031T010000
END:STANDARD
END:VTIMEZONE
BEGIN:VEVENT
DTSTART;VALUE=DATE:20260519
DTEND;VALUE=DATE:20260523
DTSTAMP:20260425T044409
CREATED:20260202T131516Z
LAST-MODIFIED:20260424T063609Z
UID:10001451-1779148800-1779494399@www.tennis.se
SUMMARY:Mälarhöjdens - Sommartour 2026 (B 15 000kr)
DESCRIPTION:Factsheet och anmälan
URL:https://www.tennis.se/kalender/malarhojdens-sommartour-2026-b-15-000kr/
LOCATION:Mälarhöjdens IK Tennissektionen\, Lotta Svärds gränd 22\, 129 55 Hägersten\, Sweden\, Sverige
CATEGORIES:Tävling Nationella Sommar- och Vintertour
ATTACH;FMTTYPE=image/jpeg:https://www.tennis.se/wp-content/uploads/2024/02/evenemang-sommar-vintertour.jpg
GEO:59.28850891653;17.953938102877
END:VEVENT
BEGIN:VEVENT
DTSTART;VALUE=DATE:20260525
DTEND;VALUE=DATE:20260528
DTSTAMP:20260425T044409
CREATED:20260202T131517Z
LAST-MODIFIED:20260424T063613Z
UID:10001452-1779667200-1779926399@www.tennis.se
SUMMARY:ATL Open - Sommartour 2026 (B 15 000kr)
DESCRIPTION:Factsheet och anmälan
URL:https://www.tennis.se/kalender/atl-open-sommartour-2026-b-15-000kr/
LOCATION:Allmänna Tennisklubben Lund\, Lovisastigen 4\, 222 41 Lund\, Sweden\, Sverige
CATEGORIES:Tävling Nationella Sommar- och Vintertour
ATTACH;FMTTYPE=image/jpeg:https://www.tennis.se/wp-content/uploads/2024/02/evenemang-sommar-vintertour.jpg
GEO:55.719717802666;13.200710245236
END:VEVENT
BEGIN:VEVENT
DTSTART;VALUE=DATE:20260603
DTEND;VALUE=DATE:20260607
DTSTAMP:20260425T044409
CREATED:20260202T131519Z
LAST-MODIFIED:20260424T063621Z
UID:10001453-1780444800-1780790399@www.tennis.se
SUMMARY:Audi Danderyd Open - Sommartour 2026 (Super 30 000kr)
DESCRIPTION:Factsheet och anmälan
URL:https://www.tennis.se/kalender/audi-danderyd-open-sommartour-2026-super-30-000kr/
LOCATION:Näsbyparks Tennisklubb\, Grindstuguvägen 36\, 183 64 Täby\, Sweden\, Sverige
CATEGORIES:Tävling Nationella Sommar- och Vintertour
ATTACH;FMTTYPE=image/jpeg:https://www.tennis.se/wp-content/uploads/2024/02/evenemang-sommar-vintertour.jpg
GEO:59.444176641524;18.101076664414
END:VEVENT
BEGIN:VEVENT
DTSTART;VALUE=DATE:20260606
DTEND;VALUE=DATE:20260610
DTSTAMP:20260425T044409
CREATED:20260202T131522Z
LAST-MODIFIED:20260424T063617Z
UID:10001454-1780704000-1781049599@www.tennis.se
SUMMARY:Tabergsdalen Sigma Open - SommarTour 2026 (A 20 000kr)
DESCRIPTION:Factsheet och anmälan
URL:https://www.tennis.se/kalender/tabergsdalen-sigma-open-sommartour-2026-a-20-000kr/
LOCATION:Tabergsdalens Tennisklubb\, Vallgatan 20\, 562 33 Norrahammar\, Sweden\, Sverige
CATEGORIES:Tävling Nationella Sommar- och Vintertour
ATTACH;FMTTYPE=image/jpeg:https://www.tennis.se/wp-content/uploads/2024/02/evenemang-sommar-vintertour.jpg
GEO:57.705692165537;14.122660300694
END:VEVENT
BEGIN:VEVENT
DTSTART;VALUE=DATE:20260619
DTEND;VALUE=DATE:20260622
DTSTAMP:20260425T044409
CREATED:20260202T131524Z
LAST-MODIFIED:20260424T063625Z
UID:10001455-1781827200-1782086399@www.tennis.se
SUMMARY:Audi Open Åhus - Sommartour 2026 (C 10 000kr)
DESCRIPTION:Factsheet och anmälan
URL:https://www.tennis.se/kalender/audi-open-ahus-sommartour-2026-c-10-000kr/
LOCATION:Åhus Tennisklubb\, Sandvaktaregatan 3\, 296 35 Åhus\, Sweden\, Sverige
CATEGORIES:Tävling Nationella Sommar- och Vintertour
ATTACH;FMTTYPE=image/jpeg:https://www.tennis.se/wp-content/uploads/2024/02/evenemang-sommar-vintertour.jpg
GEO:55.928047968612;14.284873399417
END:VEVENT
BEGIN:VEVENT
DTSTART;VALUE=DATE:20260622
DTEND;VALUE=DATE:20260626
DTSTAMP:20260425T044409
CREATED:20260202T131528Z
LAST-MODIFIED:20260424T063628Z
UID:10001457-1782086400-1782431999@www.tennis.se
SUMMARY:Midnattssolcupen Luleå - Sommartour 2026 (Super 30 000kr)
DESCRIPTION:Factsheet och anmälan
URL:https://www.tennis.se/kalender/midnattssolcupen-lulea-sommartour-2026-super-30-000kr/
LOCATION:Luleå Tennisklubb\, Arcusvägen 59\, 975 94 Luleå\, Sweden\, Sverige
CATEGORIES:Tävling Nationella Sommar- och Vintertour
ATTACH;FMTTYPE=image/jpeg:https://www.tennis.se/wp-content/uploads/2024/02/evenemang-sommar-vintertour.jpg
GEO:65.59635802832;22.059151581444
END:VEVENT
BEGIN:VEVENT
DTSTART;VALUE=DATE:20260625
DTEND;VALUE=DATE:20260629
DTSTAMP:20260425T044409
CREATED:20260202T131526Z
LAST-MODIFIED:20260424T063639Z
UID:10001456-1782345600-1782691199@www.tennis.se
SUMMARY:Beddingespelen - Sommartour 2026 (B 15 000kr)
DESCRIPTION:Factsheet och anmälan
URL:https://www.tennis.se/kalender/beddingespelen-sommartour-2026-b-15-000kr/
LOCATION:Fair Play Tennisklubb\, Erikslustvägen 56\, 217 73 Malmö\, Sweden\, Sverige
CATEGORIES:Tävling Nationella Sommar- och Vintertour
ATTACH;FMTTYPE=image/jpeg:https://www.tennis.se/wp-content/uploads/2024/02/evenemang-sommar-vintertour.jpg
GEO:55.590240611263;12.960672983732
END:VEVENT
BEGIN:VEVENT
DTSTART;VALUE=DATE:20260628
DTEND;VALUE=DATE:20260701
DTSTAMP:20260425T044409
CREATED:20260202T131529Z
LAST-MODIFIED:20260424T063634Z
UID:10001458-1782604800-1782863999@www.tennis.se
SUMMARY:Ystad - Sommartour 2026 (A 20 000kr)
DESCRIPTION:Factsheet och anmälan
URL:https://www.tennis.se/kalender/ystad-sommartour-2026-a-20-000kr/
LOCATION:Ystads tennisklubb\, Spaljégatan 14\, 271 52 Ystad\, Sweden\, Sverige
CATEGORIES:Tävling Nationella Sommar- och Vintertour
ATTACH;FMTTYPE=image/jpeg:https://www.tennis.se/wp-content/uploads/2024/02/evenemang-sommar-vintertour.jpg
GEO:55.432358559614;13.793659290977
END:VEVENT
BEGIN:VEVENT
DTSTART;VALUE=DATE:20260703
DTEND;VALUE=DATE:20260706
DTSTAMP:20260425T044409
CREATED:20260202T131531Z
LAST-MODIFIED:20260424T063642Z
UID:10001459-1783036800-1783295999@www.tennis.se
SUMMARY:KalmarSpelen Råbergs Bil - Sommartour 2026 (A 20 000kr)
DESCRIPTION:Factsheet och anmälan
URL:https://www.tennis.se/kalender/kalmarspelen-rabergs-bil-sommartour-2026-a-20-000kr/
LOCATION:Kalmar Tennisklubb + Padel\, 392 36 Kalmar\, Sweden\, Sverige
CATEGORIES:Tävling Nationella Sommar- och Vintertour
ATTACH;FMTTYPE=image/jpeg:https://www.tennis.se/wp-content/uploads/2024/02/evenemang-sommar-vintertour.jpg
GEO:56.680334486162;16.357534638112
END:VEVENT
BEGIN:VEVENT
DTSTART;VALUE=DATE:20260709
DTEND;VALUE=DATE:20260713
DTSTAMP:20260425T044409
CREATED:20260202T131535Z
LAST-MODIFIED:20260424T063650Z
UID:10001461-1783555200-1783900799@www.tennis.se
SUMMARY:Strandbadsturneringen Elit - Sommartour 2026 (B 15 000kr)
DESCRIPTION:Factsheet och anmälan
URL:https://www.tennis.se/kalender/strandbadsturneringen-elit-sommartour-2026-b-15-000kr/
LOCATION:Falkenbergs Tennisklubb\, Elvägen 9\, 311 48 Falkenberg\, Sweden\, Sverige
CATEGORIES:Tävling Nationella Sommar- och Vintertour
ATTACH;FMTTYPE=image/jpeg:https://www.tennis.se/wp-content/uploads/2024/02/evenemang-sommar-vintertour.jpg
GEO:56.900969129569;12.525264215748
END:VEVENT
BEGIN:VEVENT
DTSTART;VALUE=DATE:20260713
DTEND;VALUE=DATE:20260717
DTSTAMP:20260425T044409
CREATED:20260202T131533Z
LAST-MODIFIED:20260424T063646Z
UID:10001460-1783900800-1784246399@www.tennis.se
SUMMARY:Höllviksspelen - Sommartour 2026 (C 10 000kr)
DESCRIPTION:Factsheet och anmälan
URL:https://www.tennis.se/kalender/hollviksspelen-sommartour-2026-c-10-000kr/
LOCATION:Höllvikens Tennisklubb\, Östersjövägen 41\, 236 36 Höllviken\, Sweden\, Sverige
CATEGORIES:Tävling Nationella Sommar- och Vintertour
ATTACH;FMTTYPE=image/jpeg:https://www.tennis.se/wp-content/uploads/2024/02/evenemang-sommar-vintertour.jpg
GEO:55.405009859916;12.960791929576
END:VEVENT
BEGIN:VEVENT
DTSTART;VALUE=DATE:20260720
DTEND;VALUE=DATE:20260724
DTSTAMP:20260425T044409
CREATED:20260202T131536Z
LAST-MODIFIED:20260424T063703Z
UID:10001462-1784505600-1784851199@www.tennis.se
SUMMARY:Holmen Board & Paper Cup - Sommartour 2026 (Super 30 000kr)
DESCRIPTION:Factsheet och anmälan
URL:https://www.tennis.se/kalender/holmen-board-paper-cup-sommartour-2026-super-30-000kr/
LOCATION:Norrköpings Tennisklubb\, Himmelstalund Racketstadion\, 603 36 Norrköping\, Sweden\, Sverige
CATEGORIES:Tävling Nationella Sommar- och Vintertour
ATTACH;FMTTYPE=image/jpeg:https://www.tennis.se/wp-content/uploads/2024/02/evenemang-sommar-vintertour.jpg
GEO:58.589561472336;16.136594182833
END:VEVENT
BEGIN:VEVENT
DTSTART;VALUE=DATE:20260724
DTEND;VALUE=DATE:20260727
DTSTAMP:20260425T044409
CREATED:20260202T131538Z
LAST-MODIFIED:20260424T063658Z
UID:10001463-1784851200-1785110399@www.tennis.se
SUMMARY:Affärsverken Karlskrona Open - Sommartour 2026 (C 10 000kr)
DESCRIPTION:Factsheet och anmälan
URL:https://www.tennis.se/kalender/affarsverken-karlskrona-open-sommartour-2026-c-10-000kr/
LOCATION:Karlskrona Tennisklubb\, Arenavägen 19\, 371 55 Karlskrona\, Sweden\, Sverige
CATEGORIES:Tävling Nationella Sommar- och Vintertour
ATTACH;FMTTYPE=image/jpeg:https://www.tennis.se/wp-content/uploads/2024/02/evenemang-sommar-vintertour.jpg
GEO:56.21876690286;15.603570876428
END:VEVENT
BEGIN:VEVENT
DTSTART;VALUE=DATE:20260727
DTEND;VALUE=DATE:20260731
DTSTAMP:20260425T044409
CREATED:20260305T133006Z
LAST-MODIFIED:20260424T063712Z
UID:10001471-1785110400-1785455999@www.tennis.se
SUMMARY:Långtora - Sommartour 2026
DESCRIPTION:Factsheet och anmälan
URL:https://www.tennis.se/kalender/langtora-sommartour-2026/
LOCATION:Långtora tennis\, LÅNGTORA LYGNESTA 1\, 745 96 Enköping\, Sverige\, Sverige
CATEGORIES:Tävling Nationella Sommar- och Vintertour
ATTACH;FMTTYPE=image/jpeg:https://www.tennis.se/wp-content/uploads/2024/02/evenemang-sommar-vintertour.jpg
GEO:59.725194062332;17.124690338497
END:VEVENT
BEGIN:VEVENT
DTSTART;VALUE=DATE:20260731
DTEND;VALUE=DATE:20260803
DTSTAMP:20260425T044409
CREATED:20260202T131540Z
LAST-MODIFIED:20260424T063708Z
UID:10001464-1785456000-1785715199@www.tennis.se
SUMMARY:Mela Invest Open - Sommartour 2026 (A 20 000kr)
DESCRIPTION:Factsheet och anmälan
URL:https://www.tennis.se/kalender/mela-invest-open-sommartour-2026-a-20-000kr/
LOCATION:Värnamo Tennisklubb\, LJUSSEVEKA 1\, 331 34 Värnamo\, Sweden\, Sverige
CATEGORIES:Tävling Nationella Sommar- och Vintertour
ATTACH;FMTTYPE=image/jpeg:https://www.tennis.se/wp-content/uploads/2024/02/evenemang-sommar-vintertour.jpg
GEO:57.202930188499;14.047483308117
END:VEVENT
END:VCALENDAR