BEGIN:VCALENDAR
VERSION:2.0
PRODID:-//Svenska Tennisförbundet - ECPv6.15.20//NONSGML v1.0//EN
CALSCALE:GREGORIAN
METHOD:PUBLISH
X-WR-CALNAME:Svenska Tennisförbundet
X-ORIGINAL-URL:https://www.tennis.se
X-WR-CALDESC:Händelser för Svenska Tennisförbundet
REFRESH-INTERVAL;VALUE=DURATION:PT1H
X-Robots-Tag:noindex
X-PUBLISHED-TTL:PT1H
BEGIN:VTIMEZONE
TZID:Europe/Stockholm
BEGIN:DAYLIGHT
TZOFFSETFROM:+0100
TZOFFSETTO:+0200
TZNAME:CEST
DTSTART:20250330T010000
END:DAYLIGHT
BEGIN:STANDARD
TZOFFSETFROM:+0200
TZOFFSETTO:+0100
TZNAME:CET
DTSTART:20251026T010000
END:STANDARD
BEGIN:DAYLIGHT
TZOFFSETFROM:+0100
TZOFFSETTO:+0200
TZNAME:CEST
DTSTART:20260329T010000
END:DAYLIGHT
BEGIN:STANDARD
TZOFFSETFROM:+0200
TZOFFSETTO:+0100
TZNAME:CET
DTSTART:20261025T010000
END:STANDARD
BEGIN:DAYLIGHT
TZOFFSETFROM:+0100
TZOFFSETTO:+0200
TZNAME:CEST
DTSTART:20270328T010000
END:DAYLIGHT
BEGIN:STANDARD
TZOFFSETFROM:+0200
TZOFFSETTO:+0100
TZNAME:CET
DTSTART:20271031T010000
END:STANDARD
END:VTIMEZONE
BEGIN:VEVENT
DTSTART;VALUE=DATE:20261114
DTEND;VALUE=DATE:20261116
DTSTAMP:20260420T085312
CREATED:20251121T102153Z
LAST-MODIFIED:20260420T053645Z
UID:10001358-1794614400-1794787199@www.tennis.se
SUMMARY:Bastränarutbildning Borås helg 2/2
DESCRIPTION:SvTF Bastränarutbildning är första steget i det nya utbildningsprogrammet för tränare. \nMer information och anmälan.
URL:https://www.tennis.se/kalender/bastranarutbildning-boras-helg-2-2/
LOCATION:Borås Tenniscenter\, Ålgårdsvägen 30\, 506 30 Borås\, Sverige\, Sverige
CATEGORIES:Utbildning Tränare
ATTACH;FMTTYPE=image/jpeg:https://www.tennis.se/wp-content/uploads/2024/02/evenemang-utbildning.jpg
GEO:57.734984177193;12.932287543607
END:VEVENT
BEGIN:VEVENT
DTSTART;VALUE=DATE:20261114
DTEND;VALUE=DATE:20261116
DTSTAMP:20260420T085312
CREATED:20260403T070718Z
LAST-MODIFIED:20260419T095213Z
UID:10001488-1794614400-1794787199@www.tennis.se
SUMMARY:Herrar/Damer Division 2 Omg 1-2
DESCRIPTION:
URL:https://www.tennis.se/kalender/herrar-damer-division-2-omg-1-2/
CATEGORIES:Seriespel
ATTACH;FMTTYPE=image/jpeg:https://www.tennis.se/wp-content/uploads/2024/02/evenemang-stl.jpg
END:VEVENT
BEGIN:VEVENT
DTSTART;VALUE=DATE:20261115
DTEND;VALUE=DATE:20261116
DTSTAMP:20260420T085312
CREATED:20260403T070717Z
LAST-MODIFIED:20260419T095215Z
UID:10001487-1794700800-1794787199@www.tennis.se
SUMMARY:G/O Omg 3
DESCRIPTION:
URL:https://www.tennis.se/kalender/g-o-omg-3/
CATEGORIES:Seriespel
ATTACH;FMTTYPE=image/jpeg:https://www.tennis.se/wp-content/uploads/2024/02/evenemang-stl.jpg
END:VEVENT
BEGIN:VEVENT
DTSTART;VALUE=DATE:20261120
DTEND;VALUE=DATE:20261123
DTSTAMP:20260420T085312
CREATED:20260403T070723Z
LAST-MODIFIED:20260419T095221Z
UID:10001491-1795132800-1795391999@www.tennis.se
SUMMARY:PF18 Omg 3-5
DESCRIPTION:
URL:https://www.tennis.se/kalender/pf18-omg-3-5/
CATEGORIES:Seriespel
ATTACH;FMTTYPE=image/jpeg:https://www.tennis.se/wp-content/uploads/2024/02/evenemang-stl.jpg
END:VEVENT
BEGIN:VEVENT
DTSTART;VALUE=DATE:20261121
DTEND;VALUE=DATE:20261122
DTSTAMP:20260420T085312
CREATED:20260403T070722Z
LAST-MODIFIED:20260419T095217Z
UID:10001490-1795219200-1795305599@www.tennis.se
SUMMARY:HD55+ Omg 4
DESCRIPTION:
URL:https://www.tennis.se/kalender/hd55-omg-4/
CATEGORIES:Seriespel
ATTACH;FMTTYPE=image/jpeg:https://www.tennis.se/wp-content/uploads/2024/02/evenemang-stl.jpg
END:VEVENT
BEGIN:VEVENT
DTSTART;VALUE=DATE:20261121
DTEND;VALUE=DATE:20261123
DTSTAMP:20260420T085312
CREATED:20251121T102154Z
LAST-MODIFIED:20260420T053649Z
UID:10001359-1795219200-1795391999@www.tennis.se
SUMMARY:Bastränarutbildning Stockholm helg 1/2
DESCRIPTION:SvTF Bastränarutbildning är första steget i det nya utbildningsprogrammet för tränare. \nMer information och anmälan.
URL:https://www.tennis.se/kalender/bastranarutbildning-stockholm-helg-1-2-11/
CATEGORIES:Utbildning Tränare
ATTACH;FMTTYPE=image/jpeg:https://www.tennis.se/wp-content/uploads/2024/02/evenemang-utbildning.jpg
END:VEVENT
BEGIN:VEVENT
DTSTART;VALUE=DATE:20261121
DTEND;VALUE=DATE:20261123
DTSTAMP:20260420T085312
CREATED:20251121T102156Z
LAST-MODIFIED:20260420T053647Z
UID:10001360-1795219200-1795391999@www.tennis.se
SUMMARY:Bastränarutbildning Båstad helg 2/2
DESCRIPTION:SvTF Bastränarutbildning är första steget i det nya utbildningsprogrammet för tränare. \nMer information och anmälan.
URL:https://www.tennis.se/kalender/bastranarutbildning-bastad-helg-2-2-6/
LOCATION:Båstad Sportcenter\, Korrödsvägen 9\, 269 38 Båstad\, Sverige\, Sverige
CATEGORIES:Utbildning Tränare
ATTACH;FMTTYPE=image/jpeg:https://www.tennis.se/wp-content/uploads/2024/02/evenemang-utbildning.jpg
GEO:56.424097023863;12.856890887878
END:VEVENT
BEGIN:VEVENT
DTSTART;VALUE=DATE:20261122
DTEND;VALUE=DATE:20261123
DTSTAMP:20260420T085312
CREATED:20260403T070720Z
LAST-MODIFIED:20260419T095219Z
UID:10001489-1795305600-1795391999@www.tennis.se
SUMMARY:Herrar/Damer Division 2 Omg 3
DESCRIPTION:
URL:https://www.tennis.se/kalender/herrar-damer-division-2-omg-3/
CATEGORIES:Seriespel
ATTACH;FMTTYPE=image/jpeg:https://www.tennis.se/wp-content/uploads/2024/02/evenemang-stl.jpg
END:VEVENT
BEGIN:VEVENT
DTSTART;VALUE=DATE:20261128
DTEND;VALUE=DATE:20261129
DTSTAMP:20260420T085312
CREATED:20260403T070727Z
LAST-MODIFIED:20260419T095222Z
UID:10001493-1795824000-1795910399@www.tennis.se
SUMMARY:Herrar/Damer Division 3- Omg 4
DESCRIPTION:
URL:https://www.tennis.se/kalender/herrar-damer-division-3-omg-4/
CATEGORIES:Seriespel
ATTACH;FMTTYPE=image/jpeg:https://www.tennis.se/wp-content/uploads/2024/02/evenemang-stl.jpg
END:VEVENT
BEGIN:VEVENT
DTSTART;VALUE=DATE:20261128
DTEND;VALUE=DATE:20261130
DTSTAMP:20260420T085312
CREATED:20260403T070725Z
LAST-MODIFIED:20260419T095227Z
UID:10001492-1795824000-1795996799@www.tennis.se
SUMMARY:G/O Omg 4-5
DESCRIPTION:
URL:https://www.tennis.se/kalender/g-o-omg-4-5/
CATEGORIES:Seriespel
ATTACH;FMTTYPE=image/jpeg:https://www.tennis.se/wp-content/uploads/2024/02/evenemang-stl.jpg
END:VEVENT
BEGIN:VEVENT
DTSTART;VALUE=DATE:20261128
DTEND;VALUE=DATE:20261130
DTSTAMP:20260420T085312
CREATED:20260403T070728Z
LAST-MODIFIED:20260419T095224Z
UID:10001494-1795824000-1795996799@www.tennis.se
SUMMARY:Herrar/Damer Division 2 Omg 4-5
DESCRIPTION:
URL:https://www.tennis.se/kalender/herrar-damer-division-2-omg-4-5/
CATEGORIES:Seriespel
ATTACH;FMTTYPE=image/jpeg:https://www.tennis.se/wp-content/uploads/2024/02/evenemang-stl.jpg
END:VEVENT
BEGIN:VEVENT
DTSTART;VALUE=DATE:20261205
DTEND;VALUE=DATE:20261206
DTSTAMP:20260420T085312
CREATED:20260403T070730Z
LAST-MODIFIED:20260419T095233Z
UID:10001495-1796428800-1796515199@www.tennis.se
SUMMARY:HD35-45 Omg 4
DESCRIPTION:
URL:https://www.tennis.se/kalender/hd35-45-omg-4/
CATEGORIES:Seriespel
ATTACH;FMTTYPE=image/jpeg:https://www.tennis.se/wp-content/uploads/2024/02/evenemang-stl.jpg
END:VEVENT
BEGIN:VEVENT
DTSTART;VALUE=DATE:20261205
DTEND;VALUE=DATE:20261206
DTSTAMP:20260420T085312
CREATED:20260403T070735Z
LAST-MODIFIED:20260419T095230Z
UID:10001498-1796428800-1796515199@www.tennis.se
SUMMARY:HD55+ Omg 5
DESCRIPTION:
URL:https://www.tennis.se/kalender/hd55-omg-5/
CATEGORIES:Seriespel
ATTACH;FMTTYPE=image/jpeg:https://www.tennis.se/wp-content/uploads/2024/02/evenemang-stl.jpg
END:VEVENT
BEGIN:VEVENT
DTSTART;VALUE=DATE:20261205
DTEND;VALUE=DATE:20261207
DTSTAMP:20260420T085312
CREATED:20251121T102157Z
LAST-MODIFIED:20260420T053651Z
UID:10001361-1796428800-1796601599@www.tennis.se
SUMMARY:Bastränarutbildning Stockholm helg 2/2
DESCRIPTION:SvTF Bastränarutbildning är första steget i det nya utbildningsprogrammet för tränare. \nMer information och anmälan.
URL:https://www.tennis.se/kalender/bastranarutbildning-stockholm-helg-2-2-12/
CATEGORIES:Utbildning Tränare
ATTACH;FMTTYPE=image/jpeg:https://www.tennis.se/wp-content/uploads/2024/02/evenemang-utbildning.jpg
END:VEVENT
BEGIN:VEVENT
DTSTART;VALUE=DATE:20261205
DTEND;VALUE=DATE:20261207
DTSTAMP:20260420T085312
CREATED:20251121T102158Z
LAST-MODIFIED:20260420T053653Z
UID:10001362-1796428800-1796601599@www.tennis.se
SUMMARY:Bastränarutbildning Malmö helg 1/2
DESCRIPTION:SvTF Bastränarutbildning är första steget i det nya utbildningsprogrammet för tränare. \nMer information och anmälan.
URL:https://www.tennis.se/kalender/bastranarutbildning-malmo-helg-1-2-2/
CATEGORIES:Utbildning Tränare
ATTACH;FMTTYPE=image/jpeg:https://www.tennis.se/wp-content/uploads/2024/02/evenemang-utbildning.jpg
END:VEVENT
BEGIN:VEVENT
DTSTART;VALUE=DATE:20261205
DTEND;VALUE=DATE:20261207
DTSTAMP:20260420T085312
CREATED:20260403T070732Z
LAST-MODIFIED:20260419T095232Z
UID:10001496-1796428800-1796601599@www.tennis.se
SUMMARY:Herrar/Damer Division 1 Omg 1-2
DESCRIPTION:
URL:https://www.tennis.se/kalender/herrar-damer-division-1-omg-1-2/
CATEGORIES:Seriespel
ATTACH;FMTTYPE=image/jpeg:https://www.tennis.se/wp-content/uploads/2024/02/evenemang-stl.jpg
END:VEVENT
BEGIN:VEVENT
DTSTART;VALUE=DATE:20261205
DTEND;VALUE=DATE:20261207
DTSTAMP:20260420T085312
CREATED:20260403T070734Z
LAST-MODIFIED:20260419T095228Z
UID:10001497-1796428800-1796601599@www.tennis.se
SUMMARY:PFJ13 Omg 4-5 (Stockholm)
DESCRIPTION:
URL:https://www.tennis.se/kalender/pfj13-omg-4-5-stockholm/
CATEGORIES:Seriespel
ATTACH;FMTTYPE=image/jpeg:https://www.tennis.se/wp-content/uploads/2024/02/evenemang-stl.jpg
END:VEVENT
BEGIN:VEVENT
DTSTART;VALUE=DATE:20261209
DTEND;VALUE=DATE:20261210
DTSTAMP:20260420T085312
CREATED:20260403T070737Z
LAST-MODIFIED:20260419T095235Z
UID:10001499-1796774400-1796860799@www.tennis.se
SUMMARY:Herrar/Damer Division 1 Omg 3
DESCRIPTION:
URL:https://www.tennis.se/kalender/herrar-damer-division-1-omg-3/
CATEGORIES:Seriespel
ATTACH;FMTTYPE=image/jpeg:https://www.tennis.se/wp-content/uploads/2024/02/evenemang-stl.jpg
END:VEVENT
BEGIN:VEVENT
DTSTART;VALUE=DATE:20261211
DTEND;VALUE=DATE:20261212
DTSTAMP:20260420T085312
CREATED:20260403T070745Z
LAST-MODIFIED:20260419T095243Z
UID:10001504-1796947200-1797033599@www.tennis.se
SUMMARY:Herrar omg 1 Elitserien powered by MATCHi
DESCRIPTION:
URL:https://www.tennis.se/kalender/herrar-omg-1-elitserien-powered-by-matchi/
CATEGORIES:Seriespel
ATTACH;FMTTYPE=image/jpeg:https://www.tennis.se/wp-content/uploads/2024/02/evenemang-stl.jpg
END:VEVENT
BEGIN:VEVENT
DTSTART;VALUE=DATE:20261211
DTEND;VALUE=DATE:20261214
DTSTAMP:20260420T085312
CREATED:20260403T070744Z
LAST-MODIFIED:20260419T095251Z
UID:10001503-1796947200-1797206399@www.tennis.se
SUMMARY:Herrar/Damer Division 1 Omg 4-6
DESCRIPTION:
URL:https://www.tennis.se/kalender/herrar-damer-division-1-omg-4-6/
CATEGORIES:Seriespel
ATTACH;FMTTYPE=image/jpeg:https://www.tennis.se/wp-content/uploads/2024/02/evenemang-stl.jpg
END:VEVENT
BEGIN:VEVENT
DTSTART;VALUE=DATE:20261212
DTEND;VALUE=DATE:20261213
DTSTAMP:20260420T085312
CREATED:20260403T070739Z
LAST-MODIFIED:20260419T095237Z
UID:10001500-1797033600-1797119999@www.tennis.se
SUMMARY:Damer omg 1 Elitserien powered by MATCHi
DESCRIPTION:
URL:https://www.tennis.se/kalender/damer-omg-1-elitserien-powered-by-matchi/
CATEGORIES:Seriespel
ATTACH;FMTTYPE=image/jpeg:https://www.tennis.se/wp-content/uploads/2024/02/evenemang-stl.jpg
END:VEVENT
BEGIN:VEVENT
DTSTART;VALUE=DATE:20261212
DTEND;VALUE=DATE:20261213
DTSTAMP:20260420T085312
CREATED:20260403T070740Z
LAST-MODIFIED:20260419T095239Z
UID:10001501-1797033600-1797119999@www.tennis.se
SUMMARY:HD35-45 Omg 5
DESCRIPTION:
URL:https://www.tennis.se/kalender/hd35-45-omg-5/
CATEGORIES:Seriespel
ATTACH;FMTTYPE=image/jpeg:https://www.tennis.se/wp-content/uploads/2024/02/evenemang-stl.jpg
END:VEVENT
BEGIN:VEVENT
DTSTART;VALUE=DATE:20261212
DTEND;VALUE=DATE:20261213
DTSTAMP:20260420T085312
CREATED:20260403T070742Z
LAST-MODIFIED:20260419T095245Z
UID:10001502-1797033600-1797119999@www.tennis.se
SUMMARY:Herrar/Damer Division 3- Omg 5
DESCRIPTION:
URL:https://www.tennis.se/kalender/herrar-damer-division-3-omg-5/
CATEGORIES:Seriespel
ATTACH;FMTTYPE=image/jpeg:https://www.tennis.se/wp-content/uploads/2024/02/evenemang-stl.jpg
END:VEVENT
BEGIN:VEVENT
DTSTART;VALUE=DATE:20261212
DTEND;VALUE=DATE:20261213
DTSTAMP:20260420T085312
CREATED:20260403T070748Z
LAST-MODIFIED:20260419T095241Z
UID:10001505-1797033600-1797119999@www.tennis.se
SUMMARY:Herrar omg 2 Elitserien powered by MATCHi
DESCRIPTION:
URL:https://www.tennis.se/kalender/herrar-omg-2-elitserien-powered-by-matchi/
CATEGORIES:Seriespel
ATTACH;FMTTYPE=image/jpeg:https://www.tennis.se/wp-content/uploads/2024/02/evenemang-stl.jpg
END:VEVENT
BEGIN:VEVENT
DTSTART;VALUE=DATE:20261212
DTEND;VALUE=DATE:20261214
DTSTAMP:20260420T085312
CREATED:20260403T070756Z
LAST-MODIFIED:20260419T095254Z
UID:10001509-1797033600-1797206399@www.tennis.se
SUMMARY:PFJ13 Omg 4-5 (ej Stockholm)
DESCRIPTION:
URL:https://www.tennis.se/kalender/pfj13-omg-4-5-ej-stockholm/
CATEGORIES:Seriespel
ATTACH;FMTTYPE=image/jpeg:https://www.tennis.se/wp-content/uploads/2024/02/evenemang-stl.jpg
END:VEVENT
BEGIN:VEVENT
DTSTART;VALUE=DATE:20261213
DTEND;VALUE=DATE:20261214
DTSTAMP:20260420T085312
CREATED:20260403T070752Z
LAST-MODIFIED:20260419T095249Z
UID:10001507-1797120000-1797206399@www.tennis.se
SUMMARY:Damer omg 2 Elitserien powered by MATCHi
DESCRIPTION:
URL:https://www.tennis.se/kalender/damer-omg-2-elitserien-powered-by-matchi/
CATEGORIES:Seriespel
ATTACH;FMTTYPE=image/jpeg:https://www.tennis.se/wp-content/uploads/2024/02/evenemang-stl.jpg
END:VEVENT
BEGIN:VEVENT
DTSTART;VALUE=DATE:20261213
DTEND;VALUE=DATE:20261214
DTSTAMP:20260420T085312
CREATED:20260403T070754Z
LAST-MODIFIED:20260419T095252Z
UID:10001508-1797120000-1797206399@www.tennis.se
SUMMARY:Herrar omg 3 Elitserien powered by MATCHi
DESCRIPTION:
URL:https://www.tennis.se/kalender/herrar-omg-3-elitserien-powered-by-matchi/
CATEGORIES:Seriespel
ATTACH;FMTTYPE=image/jpeg:https://www.tennis.se/wp-content/uploads/2024/02/evenemang-stl.jpg
END:VEVENT
BEGIN:VEVENT
DTSTART;VALUE=DATE:20261214
DTEND;VALUE=DATE:20261215
DTSTAMP:20260420T085312
CREATED:20260403T070750Z
LAST-MODIFIED:20260419T095247Z
UID:10001506-1797206400-1797292799@www.tennis.se
SUMMARY:Damer omg 3 Elitserien powered by MATCHi
DESCRIPTION:
URL:https://www.tennis.se/kalender/damer-omg-3-elitserien-powered-by-matchi/
CATEGORIES:Seriespel
ATTACH;FMTTYPE=image/jpeg:https://www.tennis.se/wp-content/uploads/2024/02/evenemang-stl.jpg
END:VEVENT
BEGIN:VEVENT
DTSTART;VALUE=DATE:20261215
DTEND;VALUE=DATE:20261216
DTSTAMP:20260420T085312
CREATED:20260403T070759Z
LAST-MODIFIED:20260419T095256Z
UID:10001511-1797292800-1797379199@www.tennis.se
SUMMARY:Herrar omg 4 Elitserien powered by MATCHi
DESCRIPTION:
URL:https://www.tennis.se/kalender/herrar-omg-4-elitserien-powered-by-matchi/
CATEGORIES:Seriespel
ATTACH;FMTTYPE=image/jpeg:https://www.tennis.se/wp-content/uploads/2024/02/evenemang-stl.jpg
END:VEVENT
BEGIN:VEVENT
DTSTART;VALUE=DATE:20261216
DTEND;VALUE=DATE:20261217
DTSTAMP:20260420T085312
CREATED:20260403T070757Z
LAST-MODIFIED:20260419T095303Z
UID:10001510-1797379200-1797465599@www.tennis.se
SUMMARY:Herrar omg 5 Elitserien powered by MATCHi
DESCRIPTION:
URL:https://www.tennis.se/kalender/herrar-omg-5-elitserien-powered-by-matchi/
CATEGORIES:Seriespel
ATTACH;FMTTYPE=image/jpeg:https://www.tennis.se/wp-content/uploads/2024/02/evenemang-stl.jpg
END:VEVENT
END:VCALENDAR