BEGIN:VCALENDAR
VERSION:2.0
PRODID:-//Svenska Tennisförbundet - ECPv6.15.20//NONSGML v1.0//EN
CALSCALE:GREGORIAN
METHOD:PUBLISH
X-ORIGINAL-URL:https://www.tennis.se
X-WR-CALDESC:Händelser för Svenska Tennisförbundet
REFRESH-INTERVAL;VALUE=DURATION:PT1H
X-Robots-Tag:noindex
X-PUBLISHED-TTL:PT1H
BEGIN:VTIMEZONE
TZID:Europe/Stockholm
BEGIN:DAYLIGHT
TZOFFSETFROM:+0100
TZOFFSETTO:+0200
TZNAME:CEST
DTSTART:20230326T010000
END:DAYLIGHT
BEGIN:STANDARD
TZOFFSETFROM:+0200
TZOFFSETTO:+0100
TZNAME:CET
DTSTART:20231029T010000
END:STANDARD
BEGIN:DAYLIGHT
TZOFFSETFROM:+0100
TZOFFSETTO:+0200
TZNAME:CEST
DTSTART:20240331T010000
END:DAYLIGHT
BEGIN:STANDARD
TZOFFSETFROM:+0200
TZOFFSETTO:+0100
TZNAME:CET
DTSTART:20241027T010000
END:STANDARD
BEGIN:DAYLIGHT
TZOFFSETFROM:+0100
TZOFFSETTO:+0200
TZNAME:CEST
DTSTART:20250330T010000
END:DAYLIGHT
BEGIN:STANDARD
TZOFFSETFROM:+0200
TZOFFSETTO:+0100
TZNAME:CET
DTSTART:20251026T010000
END:STANDARD
END:VTIMEZONE
BEGIN:VEVENT
DTSTART;VALUE=DATE:20240511
DTEND;VALUE=DATE:20240512
DTSTAMP:20260419T190754
CREATED:20240226T213816Z
LAST-MODIFIED:20240511T190611Z
UID:10000713-1715385600-1715471999@www.tennis.se
SUMMARY:STL Ute 55
DESCRIPTION:
URL:https://www.tennis.se/kalender/stl-ute-55/
CATEGORIES:Seriespel
ATTACH;FMTTYPE=image/jpeg:https://www.tennis.se/wp-content/uploads/2024/02/evenemang-stl.jpg
END:VEVENT
BEGIN:VEVENT
DTSTART;VALUE=DATE:20240511
DTEND;VALUE=DATE:20240512
DTSTAMP:20260419T190754
CREATED:20240226T213818Z
LAST-MODIFIED:20240511T190612Z
UID:10000714-1715385600-1715471999@www.tennis.se
SUMMARY:STL Ute 35-45 + 65-75
DESCRIPTION:
URL:https://www.tennis.se/kalender/stl-ute-35-45-65-75-2/
CATEGORIES:Seriespel
ATTACH;FMTTYPE=image/jpeg:https://www.tennis.se/wp-content/uploads/2024/02/evenemang-stl.jpg
END:VEVENT
BEGIN:VEVENT
DTSTART;VALUE=DATE:20240511
DTEND;VALUE=DATE:20240513
DTSTAMP:20260419T190754
CREATED:20240226T213814Z
LAST-MODIFIED:20240512T192107Z
UID:10000711-1715385600-1715558399@www.tennis.se
SUMMARY:STL Ute Herrar
DESCRIPTION:
URL:https://www.tennis.se/kalender/stl-ute-herrar/
CATEGORIES:Seriespel
ATTACH;FMTTYPE=image/jpeg:https://www.tennis.se/wp-content/uploads/2024/02/evenemang-stl.jpg
END:VEVENT
BEGIN:VEVENT
DTSTART;VALUE=DATE:20240512
DTEND;VALUE=DATE:20240513
DTSTAMP:20260419T190754
CREATED:20240226T213815Z
LAST-MODIFIED:20240512T192109Z
UID:10000712-1715472000-1715558399@www.tennis.se
SUMMARY:STL Ute Damer
DESCRIPTION:
URL:https://www.tennis.se/kalender/stl-ute-damer/
CATEGORIES:Seriespel
ATTACH;FMTTYPE=image/jpeg:https://www.tennis.se/wp-content/uploads/2024/02/evenemang-stl.jpg
END:VEVENT
BEGIN:VEVENT
DTSTART;VALUE=DATE:20240513
DTEND;VALUE=DATE:20240520
DTSTAMP:20260419T190754
CREATED:20240226T205431Z
LAST-MODIFIED:20240519T202458Z
UID:10000610-1715558400-1716163199@www.tennis.se
SUMMARY:Kalmar M15
DESCRIPTION:Factsheet och info
URL:https://www.tennis.se/kalender/kalmar-m15/
LOCATION:Kalmar Tennisklubb + Padel\, 392 36 Kalmar\, Sweden\, Sverige
CATEGORIES:Tävling Internationella Senior
ATTACH;FMTTYPE=image/jpeg:https://www.tennis.se/wp-content/uploads/2024/02/evenemang-wtt.jpg
GEO:56.680334486162;16.357534638112
END:VEVENT
BEGIN:VEVENT
DTSTART;VALUE=DATE:20240515
DTEND;VALUE=DATE:20240520
DTSTAMP:20260419T190754
CREATED:20240304T122759Z
LAST-MODIFIED:20240519T203602Z
UID:10000769-1715731200-1716163199@www.tennis.se
SUMMARY:U15 Läger
DESCRIPTION:
URL:https://www.tennis.se/kalender/u15-lager/
LOCATION:Båstad Sportcenter\, Korrödsvägen 9\, 269 38 Båstad\, Sweden\, Sverige
CATEGORIES:Elit/Landslag läger
ATTACH;FMTTYPE=image/jpeg:https://www.tennis.se/wp-content/uploads/2024/03/evenemang-lager-o-aktiviteter.jpg
GEO:56.423718810793;12.856553795768
END:VEVENT
BEGIN:VEVENT
DTSTART;VALUE=DATE:20240516
DTEND;VALUE=DATE:20240520
DTSTAMP:20260419T190754
CREATED:20240226T205523Z
LAST-MODIFIED:20240519T173609Z
UID:10000624-1715817600-1716163199@www.tennis.se
SUMMARY:Strandbjörksspelen - JSM Race (16)
DESCRIPTION:Factsheet och anmälan
URL:https://www.tennis.se/kalender/strandbjorksspelen-jsm-race-16/
LOCATION:Växjö Tennissällskap\, Värendsgatan 20\, 352 35 Växjö\, Sweden\, Sverige
CATEGORIES:Tävling Nationella JSM Race
ATTACH;FMTTYPE=image/jpeg:https://www.tennis.se/wp-content/uploads/2024/02/evenemang-jsm-race.jpg
GEO:56.871725428183;14.803791707242
END:VEVENT
BEGIN:VEVENT
DTSTART;VALUE=DATE:20240517
DTEND;VALUE=DATE:20240520
DTSTAMP:20260419T190754
CREATED:20240226T213823Z
LAST-MODIFIED:20240519T202306Z
UID:10000718-1715904000-1716163199@www.tennis.se
SUMMARY:STL Ute 13-års serier
DESCRIPTION:
URL:https://www.tennis.se/kalender/stl-ute-13-ars-serier/
CATEGORIES:Seriespel
ATTACH;FMTTYPE=image/jpeg:https://www.tennis.se/wp-content/uploads/2024/02/evenemang-stl.jpg
END:VEVENT
BEGIN:VEVENT
DTSTART;VALUE=DATE:20240518
DTEND;VALUE=DATE:20240519
DTSTAMP:20260419T190754
CREATED:20240226T213821Z
LAST-MODIFIED:20240518T200901Z
UID:10000717-1715990400-1716076799@www.tennis.se
SUMMARY:STL Ute 55
DESCRIPTION:
URL:https://www.tennis.se/kalender/stl-ute-55-2/
CATEGORIES:Seriespel
ATTACH;FMTTYPE=image/jpeg:https://www.tennis.se/wp-content/uploads/2024/02/evenemang-stl.jpg
END:VEVENT
BEGIN:VEVENT
DTSTART;VALUE=DATE:20240518
DTEND;VALUE=DATE:20240520
DTSTAMP:20260419T190754
CREATED:20240226T213819Z
LAST-MODIFIED:20240519T202309Z
UID:10000715-1715990400-1716163199@www.tennis.se
SUMMARY:STL Ute Damer
DESCRIPTION:
URL:https://www.tennis.se/kalender/stl-ute-damer-2/
CATEGORIES:Seriespel
ATTACH;FMTTYPE=image/jpeg:https://www.tennis.se/wp-content/uploads/2024/02/evenemang-stl.jpg
END:VEVENT
BEGIN:VEVENT
DTSTART;VALUE=DATE:20240518
DTEND;VALUE=DATE:20240526
DTSTAMP:20260419T190754
CREATED:20240226T205717Z
LAST-MODIFIED:20240525T053604Z
UID:10000663-1715990400-1716681599@www.tennis.se
SUMMARY:Jönköping J30
DESCRIPTION:Factsheet och info
URL:https://www.tennis.se/kalender/jonkoping-j30/
LOCATION:RC Bowl – Racket Center\, Mässvägen 6\, 554 54 Jönköping\, Sweden\, Sverige
CATEGORIES:Tävling Internationella Junior
ATTACH;FMTTYPE=image/jpeg:https://www.tennis.se/wp-content/uploads/2024/02/evenemang-wtt.jpg
GEO:57.789949058535;14.234649370454
END:VEVENT
BEGIN:VEVENT
DTSTART;VALUE=DATE:20240519
DTEND;VALUE=DATE:20240520
DTSTAMP:20260419T190754
CREATED:20240226T213820Z
LAST-MODIFIED:20240519T202308Z
UID:10000716-1716076800-1716163199@www.tennis.se
SUMMARY:STL Ute Herrar
DESCRIPTION:
URL:https://www.tennis.se/kalender/stl-ute-herrar-2/
CATEGORIES:Seriespel
ATTACH;FMTTYPE=image/jpeg:https://www.tennis.se/wp-content/uploads/2024/02/evenemang-stl.jpg
END:VEVENT
BEGIN:VEVENT
DTSTART;VALUE=DATE:20240524
DTEND;VALUE=DATE:20240527
DTSTAMP:20260419T190754
CREATED:20240226T213824Z
LAST-MODIFIED:20240526T215109Z
UID:10000719-1716508800-1716767999@www.tennis.se
SUMMARY:STL Ute 15-års serier
DESCRIPTION:
URL:https://www.tennis.se/kalender/stl-ute-15-ars-serier/
CATEGORIES:Seriespel
ATTACH;FMTTYPE=image/jpeg:https://www.tennis.se/wp-content/uploads/2024/02/evenemang-stl.jpg
END:VEVENT
BEGIN:VEVENT
DTSTART;VALUE=DATE:20240525
DTEND;VALUE=DATE:20240526
DTSTAMP:20260419T190754
CREATED:20240226T213827Z
LAST-MODIFIED:20240525T213630Z
UID:10000721-1716595200-1716681599@www.tennis.se
SUMMARY:STL Ute 35-45 + 65-75
DESCRIPTION:
URL:https://www.tennis.se/kalender/stl-ute-35-45-65-75-3/
CATEGORIES:Seriespel
ATTACH;FMTTYPE=image/jpeg:https://www.tennis.se/wp-content/uploads/2024/02/evenemang-stl.jpg
END:VEVENT
BEGIN:VEVENT
DTSTART;VALUE=DATE:20240525
DTEND;VALUE=DATE:20240527
DTSTAMP:20260419T190754
CREATED:20240226T205319Z
LAST-MODIFIED:20240526T035103Z
UID:10000600-1716595200-1716767999@www.tennis.se
SUMMARY:Bastränarutbildning Stockholm Del 1/2
DESCRIPTION:Info och anmälan
URL:https://www.tennis.se/kalender/bastranarutbildning-stockholm-del-1-2/
LOCATION:Tumba Tennisklubb\, Bryggarvägen 9\, 147 30 Tumba\, Sweden\, Sverige
CATEGORIES:Utbildning Tränare
ATTACH;FMTTYPE=image/jpeg:https://www.tennis.se/wp-content/uploads/2024/02/evenemang-utbildning.jpg
GEO:59.19916502099;17.847223263975
END:VEVENT
BEGIN:VEVENT
DTSTART;VALUE=DATE:20240525
DTEND;VALUE=DATE:20240527
DTSTAMP:20260419T190754
CREATED:20240226T213825Z
LAST-MODIFIED:20240526T215107Z
UID:10000720-1716595200-1716767999@www.tennis.se
SUMMARY:STL Ute 13-års serier
DESCRIPTION:
URL:https://www.tennis.se/kalender/stl-ute-13-ars-serier-2/
CATEGORIES:Seriespel
ATTACH;FMTTYPE=image/jpeg:https://www.tennis.se/wp-content/uploads/2024/02/evenemang-stl.jpg
END:VEVENT
BEGIN:VEVENT
DTSTART;VALUE=DATE:20240525
DTEND;VALUE=DATE:20240527
DTSTAMP:20260419T190754
CREATED:20240226T213829Z
LAST-MODIFIED:20240526T215106Z
UID:10000722-1716595200-1716767999@www.tennis.se
SUMMARY:STL Ute Herrar
DESCRIPTION:
URL:https://www.tennis.se/kalender/stl-ute-herrar-3/
CATEGORIES:Seriespel
ATTACH;FMTTYPE=image/jpeg:https://www.tennis.se/wp-content/uploads/2024/02/evenemang-stl.jpg
END:VEVENT
BEGIN:VEVENT
DTSTART;VALUE=DATE:20240525
DTEND;VALUE=DATE:20240527
DTSTAMP:20260419T190754
CREATED:20240226T213830Z
LAST-MODIFIED:20240526T215110Z
UID:10000723-1716595200-1716767999@www.tennis.se
SUMMARY:STL Ute Damer
DESCRIPTION:
URL:https://www.tennis.se/kalender/stl-ute-damer-3/
CATEGORIES:Seriespel
ATTACH;FMTTYPE=image/jpeg:https://www.tennis.se/wp-content/uploads/2024/02/evenemang-stl.jpg
END:VEVENT
BEGIN:VEVENT
DTSTART;VALUE=DATE:20240525
DTEND;VALUE=DATE:20240602
DTSTAMP:20260419T190754
CREATED:20240226T205718Z
LAST-MODIFIED:20240601T055106Z
UID:10000664-1716595200-1717286399@www.tennis.se
SUMMARY:Värnamo J100
DESCRIPTION:Factsheet och info
URL:https://www.tennis.se/kalender/varnamo-j100/
LOCATION:Värnamo Tennisklubb\, LJUSSEVEKA 1\, 331 34 Värnamo\, Sweden\, Sverige
CATEGORIES:Tävling Internationella Junior
ATTACH;FMTTYPE=image/jpeg:https://www.tennis.se/wp-content/uploads/2024/02/evenemang-wtt.jpg
GEO:57.202930188499;14.047483308117
END:VEVENT
BEGIN:VEVENT
DTSTART;VALUE=DATE:20240528
DTEND;VALUE=DATE:20240531
DTSTAMP:20260419T190754
CREATED:20240226T204605Z
LAST-MODIFIED:20240530T033603Z
UID:10000573-1716854400-1717113599@www.tennis.se
SUMMARY:ATL Euro Finans - Sommartour C 10 000kr
DESCRIPTION:Factsheet och anmälan
URL:https://www.tennis.se/kalender/atl-euro-finans-sommartour-c-10-000kr/
LOCATION:Allmänna Tennisklubben Lund\, Lovisastigen 4\, 222 41 Lund\, Sweden\, Sverige
CATEGORIES:Tävling Nationella Sommar- och Vintertour
ATTACH;FMTTYPE=image/jpeg:https://www.tennis.se/wp-content/uploads/2024/02/evenemang-sommar-vintertour.jpg
GEO:55.719717802666;13.200710245236
END:VEVENT
BEGIN:VEVENT
DTSTART;VALUE=DATE:20240528
DTEND;VALUE=DATE:20240602
DTSTAMP:20260419T190754
CREATED:20240226T205526Z
LAST-MODIFIED:20240601T182107Z
UID:10000626-1716854400-1717286399@www.tennis.se
SUMMARY:Euro Finans - JSM Race (16)
DESCRIPTION:Factsheet och anmälan
URL:https://www.tennis.se/kalender/euro-finans-jsm-race-16/
LOCATION:Allmänna Tennisklubben Lund\, Lovisastigen 4\, 222 41 Lund\, Sweden\, Sverige
CATEGORIES:Tävling Nationella JSM Race
ATTACH;FMTTYPE=image/jpeg:https://www.tennis.se/wp-content/uploads/2024/02/evenemang-jsm-race.jpg
GEO:55.719717802666;13.200710245236
END:VEVENT
BEGIN:VEVENT
DTSTART;VALUE=DATE:20240528
DTEND;VALUE=DATE:20240603
DTSTAMP:20260419T190754
CREATED:20240226T205525Z
LAST-MODIFIED:20240602T182111Z
UID:10000625-1716854400-1717372799@www.tennis.se
SUMMARY:Riviera Tennis - JSM Race (14\, 16\, 18)
DESCRIPTION:Factsheet och anmälan
URL:https://www.tennis.se/kalender/riviera-tennis-jsm-race-14-16-18/
LOCATION:Piteå Tennisklubb\, Batterigatan 3\, 941 47 Piteå\, Sweden\, Sverige
CATEGORIES:Tävling Nationella JSM Race
ATTACH;FMTTYPE=image/jpeg:https://www.tennis.se/wp-content/uploads/2024/02/evenemang-jsm-race.jpg
GEO:65.319691180887;21.441047409385
END:VEVENT
BEGIN:VEVENT
DTSTART;VALUE=DATE:20240529
DTEND;VALUE=DATE:20240602
DTSTAMP:20260419T190754
CREATED:20240226T205527Z
LAST-MODIFIED:20240601T182109Z
UID:10000627-1716940800-1717286399@www.tennis.se
SUMMARY:Långtora Open - JSM Race (14)
DESCRIPTION:Factsheet och anmälan
URL:https://www.tennis.se/kalender/langtora-open-jsm-race-14/
LOCATION:Långtora tennis\, LÅNGTORA LYGNESTA 1\, 745 96 Enköping\, Sweden\, Sverige
CATEGORIES:Tävling Nationella JSM Race
ATTACH;FMTTYPE=image/jpeg:https://www.tennis.se/wp-content/uploads/2024/02/evenemang-jsm-race.jpg
GEO:59.725447902744;17.124497187993
END:VEVENT
BEGIN:VEVENT
DTSTART;VALUE=DATE:20240531
DTEND;VALUE=DATE:20240603
DTSTAMP:20260419T190754
CREATED:20240226T204606Z
LAST-MODIFIED:20240602T040656Z
UID:10000574-1717113600-1717372799@www.tennis.se
SUMMARY:Tors Hammare Open - Sommartour A 20 000kr
DESCRIPTION:Factsheet och anmälan
URL:https://www.tennis.se/kalender/tors-hammare-open-sommartour-a-20-000kr/
LOCATION:TK Hobby\, Vagnmakarevägen 6\, 633 62 Eskilstuna\, Sweden\, Sverige
CATEGORIES:Tävling Nationella Sommar- och Vintertour
ATTACH;FMTTYPE=image/jpeg:https://www.tennis.se/wp-content/uploads/2024/02/evenemang-sommar-vintertour.jpg
GEO:59.375262643986;16.548648995028
END:VEVENT
BEGIN:VEVENT
DTSTART;VALUE=DATE:20240601
DTEND;VALUE=DATE:20240602
DTSTAMP:20260419T190754
CREATED:20240226T213831Z
LAST-MODIFIED:20240601T223635Z
UID:10000724-1717200000-1717286399@www.tennis.se
SUMMARY:STL Ute 55
DESCRIPTION:
URL:https://www.tennis.se/kalender/stl-ute-55-3/
CATEGORIES:Seriespel
ATTACH;FMTTYPE=image/jpeg:https://www.tennis.se/wp-content/uploads/2024/02/evenemang-stl.jpg
END:VEVENT
BEGIN:VEVENT
DTSTART;VALUE=DATE:20240601
DTEND;VALUE=DATE:20240603
DTSTAMP:20260419T190754
CREATED:20240226T205321Z
LAST-MODIFIED:20240602T040617Z
UID:10000601-1717200000-1717372799@www.tennis.se
SUMMARY:Bastränarutbildning Stockholm Del 2/2
DESCRIPTION:Info och anmälan
URL:https://www.tennis.se/kalender/bastranarutbildning-stockholm-del-2-2-2/
LOCATION:Tumba Tennisklubb\, Bryggarvägen 9\, 147 30 Tumba\, Sweden\, Sverige
CATEGORIES:Utbildning Tränare
ATTACH;FMTTYPE=image/jpeg:https://www.tennis.se/wp-content/uploads/2024/02/evenemang-utbildning.jpg
GEO:59.19916502099;17.847223263975
END:VEVENT
BEGIN:VEVENT
DTSTART;VALUE=DATE:20240601
DTEND;VALUE=DATE:20240606
DTSTAMP:20260419T190754
CREATED:20240226T205528Z
LAST-MODIFIED:20240605T185156Z
UID:10000628-1717200000-1717631999@www.tennis.se
SUMMARY:Söndrums TK:s - JSM-Race (14)
DESCRIPTION:Factsheet och anmälan
URL:https://www.tennis.se/kalender/sondrums-tks-jsm-race-14/
LOCATION:Söndrums Tennisklubb\, Bäckagårdsvägen 130\, 302 41 Halmstad\, Sweden\, Sverige
CATEGORIES:Tävling Nationella JSM Race
ATTACH;FMTTYPE=image/jpeg:https://www.tennis.se/wp-content/uploads/2024/02/evenemang-jsm-race.jpg
GEO:56.669527046924;12.795130500169
END:VEVENT
BEGIN:VEVENT
DTSTART;VALUE=DATE:20240601
DTEND;VALUE=DATE:20240606
DTSTAMP:20260419T190754
CREATED:20240226T205530Z
LAST-MODIFIED:20240605T185157Z
UID:10000629-1717200000-1717631999@www.tennis.se
SUMMARY:Åby TK - JSM Race (16)
DESCRIPTION:Factsheet och anmälan
URL:https://www.tennis.se/kalender/aby-tk-jsm-race-16/
LOCATION:Tennisklubb Åby\, Tennisvägen 2\, 616 34 Åby\, Sweden\, Sverige
CATEGORIES:Tävling Nationella JSM Race
ATTACH;FMTTYPE=image/jpeg:https://www.tennis.se/wp-content/uploads/2024/02/evenemang-jsm-race.jpg
GEO:58.658751163074;16.171206640309
END:VEVENT
BEGIN:VEVENT
DTSTART;VALUE=DATE:20240602
DTEND;VALUE=DATE:20240606
DTSTAMP:20260419T190754
CREATED:20240226T204608Z
LAST-MODIFIED:20240605T042150Z
UID:10000575-1717286400-1717631999@www.tennis.se
SUMMARY:Tabergsdalen Open Sigma - Sommartour C 10 000kr
DESCRIPTION:Factsheet och anmälan
URL:https://www.tennis.se/kalender/tabergsdalen-open-sigma-sommartour-c-10-000kr/
LOCATION:Tabergsdalens Tennisklubb\, Vallgatan 20\, 562 33 Norrahammar\, Sweden\, Sverige
CATEGORIES:Tävling Nationella Sommar- och Vintertour
ATTACH;FMTTYPE=image/jpeg:https://www.tennis.se/wp-content/uploads/2024/02/evenemang-sommar-vintertour.jpg
GEO:57.705692165537;14.122660300694
END:VEVENT
BEGIN:VEVENT
DTSTART;VALUE=DATE:20240605
DTEND;VALUE=DATE:20240609
DTSTAMP:20260419T190754
CREATED:20240226T204609Z
LAST-MODIFIED:20240608T045130Z
UID:10000576-1717545600-1717891199@www.tennis.se
SUMMARY:Audi Danderyd Open - Sommartour A 20 000kr
DESCRIPTION:Factsheet och anmälan
URL:https://www.tennis.se/kalender/audi-danderyd-open-sommartour-a-20-000kr/
LOCATION:Näsbyparks Tennisklubb\, Grindstuguvägen 36\, 183 64 Täby\, Sweden\, Sverige
CATEGORIES:Tävling Nationella Sommar- och Vintertour
ATTACH;FMTTYPE=image/jpeg:https://www.tennis.se/wp-content/uploads/2024/02/evenemang-sommar-vintertour.jpg
GEO:59.444176641524;18.101076664414
END:VEVENT
END:VCALENDAR