BEGIN:VCALENDAR
VERSION:2.0
PRODID:-//Svenska Tennisförbundet - ECPv6.15.20//NONSGML v1.0//EN
CALSCALE:GREGORIAN
METHOD:PUBLISH
X-ORIGINAL-URL:https://www.tennis.se
X-WR-CALDESC:Händelser för Svenska Tennisförbundet
REFRESH-INTERVAL;VALUE=DURATION:PT1H
X-Robots-Tag:noindex
X-PUBLISHED-TTL:PT1H
BEGIN:VTIMEZONE
TZID:Europe/Stockholm
BEGIN:DAYLIGHT
TZOFFSETFROM:+0100
TZOFFSETTO:+0200
TZNAME:CEST
DTSTART:20230326T010000
END:DAYLIGHT
BEGIN:STANDARD
TZOFFSETFROM:+0200
TZOFFSETTO:+0100
TZNAME:CET
DTSTART:20231029T010000
END:STANDARD
BEGIN:DAYLIGHT
TZOFFSETFROM:+0100
TZOFFSETTO:+0200
TZNAME:CEST
DTSTART:20240331T010000
END:DAYLIGHT
BEGIN:STANDARD
TZOFFSETFROM:+0200
TZOFFSETTO:+0100
TZNAME:CET
DTSTART:20241027T010000
END:STANDARD
BEGIN:DAYLIGHT
TZOFFSETFROM:+0100
TZOFFSETTO:+0200
TZNAME:CEST
DTSTART:20250330T010000
END:DAYLIGHT
BEGIN:STANDARD
TZOFFSETFROM:+0200
TZOFFSETTO:+0100
TZNAME:CET
DTSTART:20251026T010000
END:STANDARD
END:VTIMEZONE
BEGIN:VEVENT
DTSTART;TZID=Europe/Stockholm:20241112T100000
DTEND;TZID=Europe/Stockholm:20241112T120000
DTSTAMP:20260419T225718
CREATED:20241031T150606Z
LAST-MODIFIED:20241111T205104Z
UID:10000975-1731405600-1731412800@www.tennis.se
SUMMARY:Trygg Tennis tränarutbildning
DESCRIPTION:Endel av trygg tennis kvalitetsmärkning där man som klubb antingen kan samlatränarna och tillsammans vara med på denna föreläsning eller om man som klubbvill att tränarna ska få mer kunskap kring trygg tennis och kanske längre framvill kvalitetsmärka klubben. Oavsett ett bra tillfälle för tränarna att få merkunskap kring trygg tennis och vad det innebär i praktiken.\nAnmälan via mail till mikaela.lecomte.seger@tennis.se.
URL:https://www.tennis.se/kalender/trygg-tennis-tranarutbildning/
CATEGORIES:Mötesplatser
ATTACH;FMTTYPE=image/jpeg:https://www.tennis.se/wp-content/uploads/2024/02/evenemang-motesplats.jpg
END:VEVENT
BEGIN:VEVENT
DTSTART;VALUE=DATE:20241116
DTEND;VALUE=DATE:20241118
DTSTAMP:20260419T225718
CREATED:20240405T120520Z
LAST-MODIFIED:20241117T222103Z
UID:10000815-1731715200-1731887999@www.tennis.se
SUMMARY:Herrar & Damer Division 2
DESCRIPTION:
URL:https://www.tennis.se/kalender/herrar-damer-division-2/
CATEGORIES:Seriespel
ATTACH;FMTTYPE=image/jpeg:https://www.tennis.se/wp-content/uploads/2024/02/evenemang-stl.jpg
END:VEVENT
BEGIN:VEVENT
DTSTART;VALUE=DATE:20241116
DTEND;VALUE=DATE:20241118
DTSTAMP:20260419T225718
CREATED:20240405T120522Z
LAST-MODIFIED:20241117T222105Z
UID:10000816-1731715200-1731887999@www.tennis.se
SUMMARY:STL Inne 13-års serier
DESCRIPTION:Klassfria datum för 12\, 13\, och 14 årsklasser i tävlingar.
URL:https://www.tennis.se/kalender/stl-inne-13-ars-serier-2/
CATEGORIES:Seriespel
ATTACH;FMTTYPE=image/jpeg:https://www.tennis.se/wp-content/uploads/2024/02/evenemang-stl.jpg
END:VEVENT
BEGIN:VEVENT
DTSTART;VALUE=DATE:20241116
DTEND;VALUE=DATE:20241118
DTSTAMP:20260419T225718
CREATED:20240405T131556Z
LAST-MODIFIED:20241117T222106Z
UID:10000841-1731715200-1731887999@www.tennis.se
SUMMARY:STL Inne H/D 65+
DESCRIPTION:
URL:https://www.tennis.se/kalender/stl-inne-h-d-65-4/
CATEGORIES:Seriespel
ATTACH;FMTTYPE=image/jpeg:https://www.tennis.se/wp-content/uploads/2024/02/evenemang-stl.jpg
END:VEVENT
BEGIN:VEVENT
DTSTART;VALUE=DATE:20241116
DTEND;VALUE=DATE:20241118
DTSTAMP:20260419T225718
CREATED:20240813T083628Z
LAST-MODIFIED:20241117T232114Z
UID:10000904-1731715200-1731887999@www.tennis.se
SUMMARY:Bastränarutbildning Del 2/2
DESCRIPTION:SvTF Bastränarutbildning är första steget i utbildningsprogrammet för tränare. \nMer information och anmälan.
URL:https://www.tennis.se/kalender/bastranarutbildning-del-2-2-2/
LOCATION:TBA
CATEGORIES:Utbildning Tränare
ATTACH;FMTTYPE=image/jpeg:https://www.tennis.se/wp-content/uploads/2024/02/evenemang-utbildning.jpg
END:VEVENT
BEGIN:VEVENT
DTSTART;VALUE=DATE:20241116
DTEND;VALUE=DATE:20241118
DTSTAMP:20260419T225718
CREATED:20241011T135107Z
LAST-MODIFIED:20241117T212123Z
UID:10000964-1731715200-1731887999@www.tennis.se
SUMMARY:Start Your Impossible Camp
DESCRIPTION:Karlstad 15–17 november | Parasport Sverige
URL:https://www.tennis.se/kalender/start-your-impossible-camp/
LOCATION:Karlstads Tennisklubb\, Stadionvägen 2\, 653 39 Karlstad\, Sverige\, Sverige
CATEGORIES:Rekrytering Paratennis
ATTACH;FMTTYPE=image/jpeg:https://www.tennis.se/wp-content/uploads/2024/02/eveneman-paratennis.jpg
GEO:59.387153398846;13.48513830213
END:VEVENT
BEGIN:VEVENT
DTSTART;VALUE=DATE:20241117
DTEND;VALUE=DATE:20241123
DTSTAMP:20260419T225718
CREATED:20240304T123737Z
LAST-MODIFIED:20241108T195114Z
UID:10000806-1731801600-1732319999@www.tennis.se
SUMMARY:Lag-VM 45
DESCRIPTION:Info
URL:https://www.tennis.se/kalender/lag-vm-45/
LOCATION:Tokyo\, Japan\, Sverige
CATEGORIES:Landslag veteran
ATTACH;FMTTYPE=image/jpeg:https://www.tennis.se/wp-content/uploads/2024/03/evenemang-masterskap-veteran.jpg
GEO:36.248937755211;139.75491066976
END:VEVENT
BEGIN:VEVENT
DTSTART;TZID=Europe/Stockholm:20241118T190000
DTEND;TZID=Europe/Stockholm:20241118T210000
DTSTAMP:20260419T225718
CREATED:20241031T150607Z
LAST-MODIFIED:20241117T212115Z
UID:10000976-1731956400-1731963600@www.tennis.se
SUMMARY:Trygg Tennis tränarutbildning
DESCRIPTION:En del av trygg tennis kvalitetsmärkning där man som klubb antingen kan samla tränarna och tillsammans vara med på denna föreläsning eller om man som klubb vill att tränarna ska få mer kunskap kring trygg tennis och kanske längre fram vill kvalitetsmärka klubben. Oavsett ett bra tillfälle för tränarna att få mer kunskap kring trygg tennis och vad det innebär i praktiken.\nAnmälan via mail till mikaela.lecomte.seger@tennis.se.
URL:https://www.tennis.se/kalender/trygg-tennis-tranarutbildning-2/
CATEGORIES:Mötesplatser
ATTACH;FMTTYPE=image/jpeg:https://www.tennis.se/wp-content/uploads/2024/02/evenemang-motesplats.jpg
END:VEVENT
BEGIN:VEVENT
DTSTART;VALUE=DATE:20241121
DTEND;VALUE=DATE:20241125
DTSTAMP:20260419T225718
CREATED:20240304T122815Z
LAST-MODIFIED:20241123T235118Z
UID:10000778-1732147200-1732492799@www.tennis.se
SUMMARY:U12 & U13 TE Läger
DESCRIPTION:
URL:https://www.tennis.se/kalender/u12-u13-te-lager/
CATEGORIES:Elit/Landslag läger
ATTACH;FMTTYPE=image/jpeg:https://www.tennis.se/wp-content/uploads/2024/03/evenemang-lager-o-aktiviteter.jpg
END:VEVENT
BEGIN:VEVENT
DTSTART;VALUE=DATE:20241121
DTEND;VALUE=DATE:20241125
DTSTAMP:20260419T225718
CREATED:20240817T073620Z
LAST-MODIFIED:20241123T235111Z
UID:10000947-1732147200-1732492799@www.tennis.se
SUMMARY:XL Bygg Open - Vintertour 2024
DESCRIPTION:Info och factsheet
URL:https://www.tennis.se/kalender/xl-bygg-open-vintertour-2024/
CATEGORIES:Tävling Nationella Sommar- och Vintertour
ATTACH;FMTTYPE=image/jpeg:https://www.tennis.se/wp-content/uploads/2024/02/evenemang-sommar-vintertour.jpg
END:VEVENT
BEGIN:VEVENT
DTSTART;VALUE=DATE:20241122
DTEND;VALUE=DATE:20241125
DTSTAMP:20260419T225718
CREATED:20240405T120526Z
LAST-MODIFIED:20241124T223729Z
UID:10000819-1732233600-1732492799@www.tennis.se
SUMMARY:STL Inne 18-års serier
DESCRIPTION:Klassfria datum för 17 och 18-årsklasser i tävlingar.
URL:https://www.tennis.se/kalender/stl-inne-18-ars-serier-2/
CATEGORIES:Seriespel
ATTACH;FMTTYPE=image/jpeg:https://www.tennis.se/wp-content/uploads/2024/02/evenemang-stl.jpg
END:VEVENT
BEGIN:VEVENT
DTSTART;VALUE=DATE:20241123
DTEND;VALUE=DATE:20241124
DTSTAMP:20260419T225718
CREATED:20240405T131558Z
LAST-MODIFIED:20241123T222108Z
UID:10000842-1732320000-1732406399@www.tennis.se
SUMMARY:STL Inne Herrar & Damer Div 3-
DESCRIPTION:
URL:https://www.tennis.se/kalender/stl-inne-herrar-damer-div-3-4/
CATEGORIES:Seriespel
ATTACH;FMTTYPE=image/jpeg:https://www.tennis.se/wp-content/uploads/2024/02/evenemang-stl.jpg
END:VEVENT
BEGIN:VEVENT
DTSTART;VALUE=DATE:20241123
DTEND;VALUE=DATE:20241125
DTSTAMP:20260419T225718
CREATED:20240816T083644Z
LAST-MODIFIED:20241124T000607Z
UID:10000934-1732320000-1732492799@www.tennis.se
SUMMARY:Bastränarutbildning Stockholm helg 1/2
DESCRIPTION:Bastränarutbildningen är första steget i utbildningsprogrammet för tränare. \nMer information och anmälan.
URL:https://www.tennis.se/kalender/bastranarutbildning-stockholm-helg-1-2/
LOCATION:Tumba Tennisklubb\, Sverige
CATEGORIES:Utbildning Tränare
ATTACH;FMTTYPE=image/jpeg:https://www.tennis.se/wp-content/uploads/2024/02/evenemang-utbildning.jpg
GEO:59.199450171107;17.84868516879
END:VEVENT
BEGIN:VEVENT
DTSTART;VALUE=DATE:20241123
DTEND;VALUE=DATE:20241125
DTSTAMP:20260419T225718
CREATED:20240919T045154Z
LAST-MODIFIED:20241124T202104Z
UID:10000954-1732320000-1732492799@www.tennis.se
SUMMARY:Spelarutvecklingsträff rullstol junior
DESCRIPTION:För mer info och anmälan\, se bifogad fil. \nSpelarutvecklingsträff rullstol junior.pdf
URL:https://www.tennis.se/kalender/spelarutvecklingstraff-rullstol-junior/
LOCATION:Lidingö Tennisklubb\, Lidingövallen\, Kyrkviksstigen 4\, 181 46 Lidingö\, Sverige\, Sverige
CATEGORIES:Spelarutvecklingsträffar paratennis
ATTACH;FMTTYPE=image/jpeg:https://www.tennis.se/wp-content/uploads/2024/02/eveneman-paratennis.jpg
GEO:59.371375581433;18.159409290313
END:VEVENT
BEGIN:VEVENT
DTSTART;VALUE=DATE:20241123
DTEND;VALUE=DATE:20241125
DTSTAMP:20260419T225718
CREATED:20240919T045155Z
LAST-MODIFIED:20241124T202106Z
UID:10000955-1732320000-1732492799@www.tennis.se
SUMMARY:Spelarutvecklingsträff stående
DESCRIPTION:För mer information och anmälan\, se bifogad fil. \nSpelarutvecklingsträff stående.pdf
URL:https://www.tennis.se/kalender/spelarutvecklingstraff-staende-2/
LOCATION:Lidingö Tennisklubb\, Lidingövallen\, Kyrkviksstigen 4\, 181 46 Lidingö\, Sverige\, Sverige
CATEGORIES:Spelarutvecklingsträffar paratennis
ATTACH;FMTTYPE=image/jpeg:https://www.tennis.se/wp-content/uploads/2024/02/eveneman-paratennis.jpg
GEO:59.371375581433;18.159409290313
END:VEVENT
BEGIN:VEVENT
DTSTART;VALUE=DATE:20241123
DTEND;VALUE=DATE:20241125
DTSTAMP:20260419T225718
CREATED:20241001T130617Z
LAST-MODIFIED:20241124T000608Z
UID:10000956-1732320000-1732492799@www.tennis.se
SUMMARY:Multi SkillZ Tennis
DESCRIPTION:Multiskillz Tenns är Svenska Tennisförbundets nya kompletteringskurs som ingår i utbildningsprogrammet för tränare. \nMer information och anmälan.
URL:https://www.tennis.se/kalender/multi-skillz-tennis-2/
LOCATION:Båstad Sportcenter\, Korrödsvägen 9\, 269 38 Båstad\, Sverige\, Sverige
CATEGORIES:Utbildning Tränare
ATTACH;FMTTYPE=image/jpeg:https://www.tennis.se/wp-content/uploads/2024/02/evenemang-utbildning.jpg
GEO:56.424097023863;12.856890887878
END:VEVENT
BEGIN:VEVENT
DTSTART;VALUE=DATE:20241123
DTEND;VALUE=DATE:20241125
DTSTAMP:20260419T225718
CREATED:20241122T010604Z
LAST-MODIFIED:20241124T010602Z
UID:10000979-1732320000-1732492799@www.tennis.se
SUMMARY:Grundläggande Tävlingsledarutbildning (Syd - Båstad)
DESCRIPTION:Det här är första steget för tävlingsledare. Observera att Introduktionsutbildning för funktionärer är förkunskapskrav. \nLänk till anmälan.
URL:https://www.tennis.se/kalender/grundlaggande-tavlingsledarutbildning-syd-bastad/
LOCATION:Båstad Sportcenter\, Korrödsvägen 9\, 269 38 Båstad\, Sverige\, Sverige
CATEGORIES:Utbildning Funktionärer
ATTACH;FMTTYPE=image/jpeg:https://www.tennis.se/wp-content/uploads/2024/02/evenemang-utbildning.jpg
GEO:56.424097023863;12.856890887878
END:VEVENT
BEGIN:VEVENT
DTSTART;VALUE=DATE:20241123
DTEND;VALUE=DATE:20241130
DTSTAMP:20260419T225718
CREATED:20240628T070641Z
LAST-MODIFIED:20241129T010607Z
UID:10000886-1732320000-1732924799@www.tennis.se
SUMMARY:TE14 Norrköping
DESCRIPTION:
URL:https://www.tennis.se/kalender/te14-norrkoping/
LOCATION:Norrköpings Tennisklubb\, Himmelstalund Racketstadion\, 603 36 Norrköping\, Sweden\, Sverige
CATEGORIES:Tävling Internationella Junior
ATTACH;FMTTYPE=image/jpeg:https://www.tennis.se/wp-content/uploads/2024/02/evenemang-wtt.jpg
GEO:58.589561472336;16.136594182833
END:VEVENT
BEGIN:VEVENT
DTSTART;VALUE=DATE:20241123
DTEND;VALUE=DATE:20241201
DTSTAMP:20260419T225718
CREATED:20240304T123739Z
LAST-MODIFIED:20241108T195115Z
UID:10000807-1732320000-1733011199@www.tennis.se
SUMMARY:VM 45
DESCRIPTION:Info
URL:https://www.tennis.se/kalender/vm-45/
LOCATION:Tokyo\, Japan\, Sverige
CATEGORIES:Landslag veteran
ATTACH;FMTTYPE=image/jpeg:https://www.tennis.se/wp-content/uploads/2024/03/evenemang-masterskap-veteran.jpg
GEO:36.248937755211;139.75491066976
END:VEVENT
BEGIN:VEVENT
DTSTART;VALUE=DATE:20241124
DTEND;VALUE=DATE:20241125
DTSTAMP:20260419T225718
CREATED:20240405T120523Z
LAST-MODIFIED:20241124T223732Z
UID:10000817-1732406400-1732492799@www.tennis.se
SUMMARY:Herrar & Damer Division 2
DESCRIPTION:
URL:https://www.tennis.se/kalender/herrar-damer-division-2-2/
CATEGORIES:Seriespel
ATTACH;FMTTYPE=image/jpeg:https://www.tennis.se/wp-content/uploads/2024/02/evenemang-stl.jpg
END:VEVENT
BEGIN:VEVENT
DTSTART;VALUE=DATE:20241124
DTEND;VALUE=DATE:20241125
DTSTAMP:20260419T225718
CREATED:20240405T120524Z
LAST-MODIFIED:20241124T223726Z
UID:10000818-1732406400-1732492799@www.tennis.se
SUMMARY:STL Inne OL & Green Challenge
DESCRIPTION:Klassfria datum för 8\, 9\, 10 och 11-års klasser i tävlingar.
URL:https://www.tennis.se/kalender/stl-inne-ol-green-challenge-2/
CATEGORIES:Seriespel
ATTACH;FMTTYPE=image/jpeg:https://www.tennis.se/wp-content/uploads/2024/02/evenemang-stl.jpg
END:VEVENT
BEGIN:VEVENT
DTSTART;TZID=Europe/Stockholm:20241128T090000
DTEND;TZID=Europe/Stockholm:20241128T120000
DTSTAMP:20260419T225718
CREATED:20241011T145111Z
LAST-MODIFIED:20241127T220603Z
UID:10000966-1732784400-1732795200@www.tennis.se
SUMMARY:Inkluderingskonferens
DESCRIPTION:Digital två dagars inkluderingskonferens. För mer info och anmälan\, se bifogad fil. \nInkluderingskonferens.pdf
URL:https://www.tennis.se/kalender/inkluderingskonferens/
CATEGORIES:Mötesplatser
ATTACH;FMTTYPE=image/jpeg:https://www.tennis.se/wp-content/uploads/2024/02/evenemang-motesplats.jpg
END:VEVENT
BEGIN:VEVENT
DTSTART;VALUE=DATE:20241129
DTEND;VALUE=DATE:20241202
DTSTAMP:20260419T225718
CREATED:20240918T220604Z
LAST-MODIFIED:20241201T182103Z
UID:10000952-1732838400-1733097599@www.tennis.se
SUMMARY:Paratennis-SM
DESCRIPTION:För mer info och anmälan\, klicka på länken. Para Tennis SM | Svenska Tennisförbundet (tournamentsoftware.com)
URL:https://www.tennis.se/kalender/paratennis-sm-2/
LOCATION:Falu Tennisklubb\, Högskolegatan 15\, 791 31 Falun\, Sverige\, Sverige
CATEGORIES:Mästerskap paratennis
ATTACH;FMTTYPE=image/jpeg:https://www.tennis.se/wp-content/uploads/2024/03/evenemang-masterskap-paratennis.jpg
GEO:60.616030402978;15.651087215079
END:VEVENT
BEGIN:VEVENT
DTSTART;TZID=Europe/Stockholm:20241129T090000
DTEND;TZID=Europe/Stockholm:20241129T120000
DTSTAMP:20260419T225718
CREATED:20241011T145113Z
LAST-MODIFIED:20241128T220610Z
UID:10000967-1732870800-1732881600@www.tennis.se
SUMMARY:Inkluderingskonferens
DESCRIPTION:Digital två dagars inkluderingskonferens. För mer info och anmälan\, se bifogad fil. \nInkluderingskonferens.pdf
URL:https://www.tennis.se/kalender/inkluderingskonferens-2/
CATEGORIES:Mötesplatser
ATTACH;FMTTYPE=image/jpeg:https://www.tennis.se/wp-content/uploads/2024/02/evenemang-motesplats.jpg
END:VEVENT
BEGIN:VEVENT
DTSTART;VALUE=DATE:20241130
DTEND;VALUE=DATE:20241202
DTSTAMP:20260419T225718
CREATED:20240405T120527Z
LAST-MODIFIED:20241201T230604Z
UID:10000820-1732924800-1733097599@www.tennis.se
SUMMARY:STL Inne OL & Green Challenge
DESCRIPTION:Klassfria datum för 8\, 9\, 10 och 11-års klasser i tävlingar.
URL:https://www.tennis.se/kalender/stl-inne-ol-green-challenge-3/
CATEGORIES:Seriespel
ATTACH;FMTTYPE=image/jpeg:https://www.tennis.se/wp-content/uploads/2024/02/evenemang-stl.jpg
END:VEVENT
BEGIN:VEVENT
DTSTART;VALUE=DATE:20241130
DTEND;VALUE=DATE:20241202
DTSTAMP:20260419T225718
CREATED:20240405T120528Z
LAST-MODIFIED:20241201T230608Z
UID:10000821-1732924800-1733097599@www.tennis.se
SUMMARY:Herrar & Damer Division 1
DESCRIPTION:
URL:https://www.tennis.se/kalender/herrar-damer-division-1/
CATEGORIES:Seriespel
ATTACH;FMTTYPE=image/jpeg:https://www.tennis.se/wp-content/uploads/2024/02/evenemang-stl.jpg
END:VEVENT
BEGIN:VEVENT
DTSTART;VALUE=DATE:20241130
DTEND;VALUE=DATE:20241202
DTSTAMP:20260419T225718
CREATED:20240405T131605Z
LAST-MODIFIED:20241201T230606Z
UID:10000843-1732924800-1733097599@www.tennis.se
SUMMARY:STL Inne H/D 65+
DESCRIPTION:
URL:https://www.tennis.se/kalender/stl-inne-h-d-65-5/
CATEGORIES:Seriespel
ATTACH;FMTTYPE=image/jpeg:https://www.tennis.se/wp-content/uploads/2024/02/evenemang-stl.jpg
END:VEVENT
BEGIN:VEVENT
DTSTART;VALUE=DATE:20241130
DTEND;VALUE=DATE:20241202
DTSTAMP:20260419T225718
CREATED:20240813T083633Z
LAST-MODIFIED:20241201T005118Z
UID:10000906-1732924800-1733097599@www.tennis.se
SUMMARY:Bastränarutbildning Del 1/2
DESCRIPTION:SvTF Bastränarutbildning är första steget i utbildningsprogrammet för tränare. \nMer information och anmälan.
URL:https://www.tennis.se/kalender/bastranarutbildning-del-1-2-2/
LOCATION:Gefle Tennisklubb\, IDROTTSVÄGEN 3\, 806 33 Gävle\, Sverige\, Sverige
CATEGORIES:Utbildning Tränare
ATTACH;FMTTYPE=image/jpeg:https://www.tennis.se/wp-content/uploads/2024/02/evenemang-utbildning.jpg
GEO:60.690823144529;17.130329322561
END:VEVENT
BEGIN:VEVENT
DTSTART;VALUE=DATE:20241130
DTEND;VALUE=DATE:20241202
DTSTAMP:20260419T225718
CREATED:20240816T083645Z
LAST-MODIFIED:20241201T005116Z
UID:10000935-1732924800-1733097599@www.tennis.se
SUMMARY:Bastränarutbildning Stockholm helg 2/2
DESCRIPTION:Bastränarutbildningen är första steget i utbildningsprogrammet för tränare. \nMer information och anmälan.
URL:https://www.tennis.se/kalender/bastranarutbildning-stockholm-helg-2-2-2/
LOCATION:Tumba Tennisklubb\, Sverige
CATEGORIES:Utbildning Tränare
ATTACH;FMTTYPE=image/jpeg:https://www.tennis.se/wp-content/uploads/2024/02/evenemang-utbildning.jpg
GEO:59.199450171107;17.84868516879
END:VEVENT
BEGIN:VEVENT
DTSTART;VALUE=DATE:20241130
DTEND;VALUE=DATE:20241207
DTSTAMP:20260419T225718
CREATED:20240628T070640Z
LAST-MODIFIED:20241206T013607Z
UID:10000885-1732924800-1733529599@www.tennis.se
SUMMARY:TE14 Göteborg
DESCRIPTION:
URL:https://www.tennis.se/kalender/te14-goteborg/
LOCATION:Ullevi Tennisklubb\, Smålandsgatan 2\, 411 39 Göteborg\, Sweden\, Sverige
CATEGORIES:Tävling Internationella Junior
ATTACH;FMTTYPE=image/jpeg:https://www.tennis.se/wp-content/uploads/2024/02/evenemang-wtt.jpg
GEO:57.705593168085;11.980107557685
END:VEVENT
END:VCALENDAR