BEGIN:VCALENDAR
VERSION:2.0
PRODID:-//Svenska Tennisförbundet - ECPv6.15.20//NONSGML v1.0//EN
CALSCALE:GREGORIAN
METHOD:PUBLISH
X-ORIGINAL-URL:https://www.tennis.se
X-WR-CALDESC:Händelser för Svenska Tennisförbundet
REFRESH-INTERVAL;VALUE=DURATION:PT1H
X-Robots-Tag:noindex
X-PUBLISHED-TTL:PT1H
BEGIN:VTIMEZONE
TZID:Europe/Stockholm
BEGIN:DAYLIGHT
TZOFFSETFROM:+0100
TZOFFSETTO:+0200
TZNAME:CEST
DTSTART:20250330T010000
END:DAYLIGHT
BEGIN:STANDARD
TZOFFSETFROM:+0200
TZOFFSETTO:+0100
TZNAME:CET
DTSTART:20251026T010000
END:STANDARD
BEGIN:DAYLIGHT
TZOFFSETFROM:+0100
TZOFFSETTO:+0200
TZNAME:CEST
DTSTART:20260329T010000
END:DAYLIGHT
BEGIN:STANDARD
TZOFFSETFROM:+0200
TZOFFSETTO:+0100
TZNAME:CET
DTSTART:20261025T010000
END:STANDARD
BEGIN:DAYLIGHT
TZOFFSETFROM:+0100
TZOFFSETTO:+0200
TZNAME:CEST
DTSTART:20270328T010000
END:DAYLIGHT
BEGIN:STANDARD
TZOFFSETFROM:+0200
TZOFFSETTO:+0100
TZNAME:CET
DTSTART:20271031T010000
END:STANDARD
END:VTIMEZONE
BEGIN:VEVENT
DTSTART;VALUE=DATE:20260516
DTEND;VALUE=DATE:20260524
DTSTAMP:20260420T222909
CREATED:20251212T140622Z
LAST-MODIFIED:20260420T152104Z
UID:10001366-1778889600-1779580799@www.tennis.se
SUMMARY:Värnamo J100
DESCRIPTION:
URL:https://www.tennis.se/kalender/varnamo-j100-3/
LOCATION:Värnamo Tennisklubb\, LJUSSEVEKA 1\, 331 34 Värnamo\, Sweden\, Sverige
CATEGORIES:Tävling Internationella Junior
ATTACH;FMTTYPE=image/jpeg:https://www.tennis.se/wp-content/uploads/2026/01/kalender-internationella-juniortavl.jpg
GEO:57.202930188499;14.047483308117
END:VEVENT
BEGIN:VEVENT
DTSTART;VALUE=DATE:20260519
DTEND;VALUE=DATE:20260520
DTSTAMP:20260420T222909
CREATED:20251121T100631Z
LAST-MODIFIED:20260420T052137Z
UID:10001326-1779148800-1779235199@www.tennis.se
SUMMARY:Matchledarutbildning Väst digitalt
DESCRIPTION:Matchledarutbildningen är det andra steget i utbildningsprogrammet för funktionärer. Introduktionsutbildning för funktionärer är förkunskapskrav. \nInformation och anmälan.
URL:https://www.tennis.se/kalender/matchledarutbildning-vast-digitalt-5/
CATEGORIES:Utbildning Funktionärer
ATTACH;FMTTYPE=image/jpeg:https://www.tennis.se/wp-content/uploads/2024/02/evenemang-utbildning.jpg
END:VEVENT
BEGIN:VEVENT
DTSTART;VALUE=DATE:20260519
DTEND;VALUE=DATE:20260523
DTSTAMP:20260420T222909
CREATED:20260202T131516Z
LAST-MODIFIED:20260420T063607Z
UID:10001451-1779148800-1779494399@www.tennis.se
SUMMARY:Mälarhöjdens - Sommartour 2026 (B 15 000kr)
DESCRIPTION:Factsheet och anmälan
URL:https://www.tennis.se/kalender/malarhojdens-sommartour-2026-b-15-000kr/
LOCATION:Mälarhöjdens IK Tennissektionen\, Lotta Svärds gränd 22\, 129 55 Hägersten\, Sweden\, Sverige
CATEGORIES:Tävling Nationella Sommar- och Vintertour
ATTACH;FMTTYPE=image/jpeg:https://www.tennis.se/wp-content/uploads/2024/02/evenemang-sommar-vintertour.jpg
GEO:59.28850891653;17.953938102877
END:VEVENT
BEGIN:VEVENT
DTSTART;VALUE=DATE:20260520
DTEND;VALUE=DATE:20260525
DTSTAMP:20260420T222909
CREATED:20260202T130408Z
LAST-MODIFIED:20260419T212251Z
UID:10001411-1779235200-1779667199@www.tennis.se
SUMMARY:Eskilstuna Junior Cup - JSM Race 2026 (16)
DESCRIPTION:Factsheet och anmälan
URL:https://www.tennis.se/kalender/eskilstuna-junior-cup-jsm-race-2026-16/
LOCATION:TK Hobby\, Vagnmakarevägen 6\, 633 62 Eskilstuna\, Sweden\, Sverige
CATEGORIES:Tävling Nationella JSM Race
ATTACH;FMTTYPE=image/jpeg:https://www.tennis.se/wp-content/uploads/2024/02/evenemang-jsm-race.jpg
GEO:59.375262643986;16.548648995028
END:VEVENT
BEGIN:VEVENT
DTSTART;VALUE=DATE:20260520
DTEND;VALUE=DATE:20260525
DTSTAMP:20260420T222909
CREATED:20260202T130410Z
LAST-MODIFIED:20260419T212252Z
UID:10001412-1779235200-1779667199@www.tennis.se
SUMMARY:Bjärred Open 16 - JSM Race 2026 (16)
DESCRIPTION:Factsheet och anmälan
URL:https://www.tennis.se/kalender/bjarred-open-16-jsm-race-2026-16/
LOCATION:Lomma-Bjärreds Tennisklubb\, Tennisväg 2\, 237 41 Bjärred\, Sweden\, Sverige
CATEGORIES:Tävling Nationella JSM Race
ATTACH;FMTTYPE=image/jpeg:https://www.tennis.se/wp-content/uploads/2024/02/evenemang-jsm-race.jpg
GEO:55.728825920567;13.034692022756
END:VEVENT
BEGIN:VEVENT
DTSTART;VALUE=DATE:20260523
DTEND;VALUE=DATE:20260524
DTSTAMP:20260420T222909
CREATED:20251121T100633Z
LAST-MODIFIED:20260420T052139Z
UID:10001327-1779494400-1779580799@www.tennis.se
SUMMARY:Grundläggande Tävlingsledarutbildning (Syd - digitalt)
DESCRIPTION:Den här utbildningen är det tredje steget i utbildningsstegen för tävlingsledare\, därav är de två första stegen – Introduktionsutbildning för funktionärer och Matchledarutbildningen är förkunskapskrav.\nLänk till anmälan kommer.
URL:https://www.tennis.se/kalender/grundlaggande-tavlingsledarutbildning-syd-digitalt-3/
CATEGORIES:Utbildning Funktionärer
ATTACH;FMTTYPE=image/jpeg:https://www.tennis.se/wp-content/uploads/2024/02/evenemang-utbildning.jpg
END:VEVENT
BEGIN:VEVENT
DTSTART;VALUE=DATE:20260523
DTEND;VALUE=DATE:20260525
DTSTAMP:20260420T222909
CREATED:20251029T133741Z
LAST-MODIFIED:20260420T095410Z
UID:10001281-1779494400-1779667199@www.tennis.se
SUMMARY:STL Ute 2026 H/D55-75
DESCRIPTION:
URL:https://www.tennis.se/kalender/stl-ute-2026-h-d55-75/
CATEGORIES:Seriespel
ATTACH;FMTTYPE=image/jpeg:https://www.tennis.se/wp-content/uploads/2024/02/evenemang-stl.jpg
END:VEVENT
BEGIN:VEVENT
DTSTART;VALUE=DATE:20260523
DTEND;VALUE=DATE:20260525
DTSTAMP:20260420T222909
CREATED:20251029T133744Z
LAST-MODIFIED:20260420T095414Z
UID:10001282-1779494400-1779667199@www.tennis.se
SUMMARY:STL Ute 2026 PFJ13ABC*
DESCRIPTION:Gäller för övriga Sverige (Syd/Göteborg/Väst/Norr)
URL:https://www.tennis.se/kalender/stl-ute-2026-pfj13abc-2/
CATEGORIES:Seriespel
ATTACH;FMTTYPE=image/jpeg:https://www.tennis.se/wp-content/uploads/2024/02/evenemang-stl.jpg
END:VEVENT
BEGIN:VEVENT
DTSTART;VALUE=DATE:20260523
DTEND;VALUE=DATE:20260525
DTSTAMP:20260420T222909
CREATED:20251106T065925Z
LAST-MODIFIED:20260420T095412Z
UID:10001297-1779494400-1779667199@www.tennis.se
SUMMARY:STL Ute 2026 Damer
DESCRIPTION:
URL:https://www.tennis.se/kalender/stl-ute-2026-damer/
CATEGORIES:Seriespel
ATTACH;FMTTYPE=image/jpeg:https://www.tennis.se/wp-content/uploads/2024/02/evenemang-stl.jpg
END:VEVENT
BEGIN:VEVENT
DTSTART;VALUE=DATE:20260523
DTEND;VALUE=DATE:20260525
DTSTAMP:20260420T222909
CREATED:20260115T110606Z
LAST-MODIFIED:20260420T125106Z
UID:10001379-1779494400-1779667199@www.tennis.se
SUMMARY:Spelarutvecklingsträff rullstol
DESCRIPTION:För mer info och anmälan\, se inbjudan nedan.  \nSpelarutvecklingsträff rullstol.pdf
URL:https://www.tennis.se/kalender/spelarutvecklingstraff-rullstol-4/
LOCATION:Västerhaninge Racket- och Idrottsklubb\, Rörvägen 13\, 136 50 Jordbro\, Sverige\, Sverige
CATEGORIES:Spelarutvecklingsträffar paratennis
ATTACH;FMTTYPE=image/jpeg:https://www.tennis.se/wp-content/uploads/2026/01/kalender-paratennis-utveckling.jpg
GEO:59.141982385999;18.112457657633
END:VEVENT
BEGIN:VEVENT
DTSTART;VALUE=DATE:20260523
DTEND;VALUE=DATE:20260525
DTSTAMP:20260420T222909
CREATED:20260115T110608Z
LAST-MODIFIED:20260420T125104Z
UID:10001380-1779494400-1779667199@www.tennis.se
SUMMARY:Spelarutvecklingsträff stående
DESCRIPTION:För mer information och anmälan\, se inbjudan nedan.  \nSpelarutvecklingsträff stående.pdf
URL:https://www.tennis.se/kalender/spelarutvecklingstraff-staende-5/
LOCATION:Västerhaninge Racket- och Idrottsklubb\, Rörvägen 13\, 136 50 Jordbro\, Sverige\, Sverige
CATEGORIES:Spelarutvecklingsträffar paratennis
ATTACH;FMTTYPE=image/jpeg:https://www.tennis.se/wp-content/uploads/2026/01/kalender-paratennis-utveckling.jpg
GEO:59.141982385999;18.112457657633
END:VEVENT
BEGIN:VEVENT
DTSTART;VALUE=DATE:20260523
DTEND;VALUE=DATE:20260531
DTSTAMP:20260420T222909
CREATED:20251212T140627Z
LAST-MODIFIED:20260420T152106Z
UID:10001368-1779494400-1780185599@www.tennis.se
SUMMARY:Ystad J30/J60
DESCRIPTION:
URL:https://www.tennis.se/kalender/ystad-j30-j60/
LOCATION:Ystads Tennisklubb\, Saltsjöbadsvägen\, 271 39 Ystad\, Sverige\, Sverige
CATEGORIES:Tävling Internationella Junior
ATTACH;FMTTYPE=image/jpeg:https://www.tennis.se/wp-content/uploads/2026/01/kalender-internationella-juniortavl.jpg
GEO:55.434306884465;13.793916821908
END:VEVENT
BEGIN:VEVENT
DTSTART;VALUE=DATE:20260525
DTEND;VALUE=DATE:20260528
DTSTAMP:20260420T222909
CREATED:20260202T131517Z
LAST-MODIFIED:20260420T063609Z
UID:10001452-1779667200-1779926399@www.tennis.se
SUMMARY:ATL Open - Sommartour 2026 (B 15 000kr)
DESCRIPTION:Factsheet och anmälan
URL:https://www.tennis.se/kalender/atl-open-sommartour-2026-b-15-000kr/
LOCATION:Allmänna Tennisklubben Lund\, Lovisastigen 4\, 222 41 Lund\, Sweden\, Sverige
CATEGORIES:Tävling Nationella Sommar- och Vintertour
ATTACH;FMTTYPE=image/jpeg:https://www.tennis.se/wp-content/uploads/2024/02/evenemang-sommar-vintertour.jpg
GEO:55.719717802666;13.200710245236
END:VEVENT
BEGIN:VEVENT
DTSTART;VALUE=DATE:20260527
DTEND;VALUE=DATE:20260601
DTSTAMP:20260420T222909
CREATED:20260202T130412Z
LAST-MODIFIED:20260419T212257Z
UID:10001413-1779840000-1780271999@www.tennis.se
SUMMARY:Riviera Tennis - JSM Race 2026 (18)
DESCRIPTION:Factsheet och anmälan
URL:https://www.tennis.se/kalender/riviera-tennis-jsm-race-2026-18/
LOCATION:Piteå Tennisklubb\, Batterigatan 3\, 941 47 Piteå\, Sweden\, Sverige
CATEGORIES:Tävling Nationella JSM Race
ATTACH;FMTTYPE=image/jpeg:https://www.tennis.se/wp-content/uploads/2024/02/evenemang-jsm-race.jpg
GEO:65.319691180887;21.441047409385
END:VEVENT
BEGIN:VEVENT
DTSTART;VALUE=DATE:20260527
DTEND;VALUE=DATE:20260601
DTSTAMP:20260420T222910
CREATED:20260202T130414Z
LAST-MODIFIED:20260419T212259Z
UID:10001414-1779840000-1780271999@www.tennis.se
SUMMARY:Riviera Tennis - JSM Race 2026 (14)
DESCRIPTION:Factsheet och anmälan
URL:https://www.tennis.se/kalender/riviera-tennis-jsm-race-2026-14/
LOCATION:Piteå Tennisklubb\, Batterigatan 3\, 941 47 Piteå\, Sweden\, Sverige
CATEGORIES:Tävling Nationella JSM Race
ATTACH;FMTTYPE=image/jpeg:https://www.tennis.se/wp-content/uploads/2024/02/evenemang-jsm-race.jpg
GEO:65.319691180887;21.441047409385
END:VEVENT
BEGIN:VEVENT
DTSTART;VALUE=DATE:20260527
DTEND;VALUE=DATE:20260601
DTSTAMP:20260420T222910
CREATED:20260202T130416Z
LAST-MODIFIED:20260419T212255Z
UID:10001415-1779840000-1780271999@www.tennis.se
SUMMARY:ATL Open 16 - JSM Race 2026 (16)
DESCRIPTION:Factsheet och anmälan
URL:https://www.tennis.se/kalender/atl-open-16-jsm-race-2026-16/
LOCATION:Allmänna Tennisklubben Lund\, Lovisastigen 4\, 222 41 Lund\, Sweden\, Sverige
CATEGORIES:Tävling Nationella JSM Race
ATTACH;FMTTYPE=image/jpeg:https://www.tennis.se/wp-content/uploads/2024/02/evenemang-jsm-race.jpg
GEO:55.719717802666;13.200710245236
END:VEVENT
BEGIN:VEVENT
DTSTART;VALUE=DATE:20260530
DTEND;VALUE=DATE:20260601
DTSTAMP:20260420T222910
CREATED:20251029T133746Z
LAST-MODIFIED:20260420T095417Z
UID:10001283-1780099200-1780271999@www.tennis.se
SUMMARY:STL Ute 2026 H/D35-75
DESCRIPTION:
URL:https://www.tennis.se/kalender/stl-ute-2026-h-d35-75/
CATEGORIES:Seriespel
ATTACH;FMTTYPE=image/jpeg:https://www.tennis.se/wp-content/uploads/2024/02/evenemang-stl.jpg
END:VEVENT
BEGIN:VEVENT
DTSTART;VALUE=DATE:20260530
DTEND;VALUE=DATE:20260601
DTSTAMP:20260420T222910
CREATED:20251029T133749Z
LAST-MODIFIED:20260420T095415Z
UID:10001284-1780099200-1780271999@www.tennis.se
SUMMARY:STL Ute 2026 Grön/Orange
DESCRIPTION:
URL:https://www.tennis.se/kalender/stl-ute-2026-gron-orange/
CATEGORIES:Seriespel
ATTACH;FMTTYPE=image/jpeg:https://www.tennis.se/wp-content/uploads/2024/02/evenemang-stl.jpg
END:VEVENT
BEGIN:VEVENT
DTSTART;VALUE=DATE:20260530
DTEND;VALUE=DATE:20260606
DTSTAMP:20260420T222910
CREATED:20251212T140624Z
LAST-MODIFIED:20260420T152109Z
UID:10001367-1780099200-1780703999@www.tennis.se
SUMMARY:Båstad J60
DESCRIPTION:
URL:https://www.tennis.se/kalender/bastad-j60-3/
LOCATION:Båstad Sportcenter\, Korrödsvägen 9\, 269 38 Båstad\, Sweden\, Sverige
CATEGORIES:Tävling Internationella Junior
ATTACH;FMTTYPE=image/jpeg:https://www.tennis.se/wp-content/uploads/2026/01/kalender-internationella-juniortavl.jpg
GEO:56.423718810793;12.856553795768
END:VEVENT
BEGIN:VEVENT
DTSTART;VALUE=DATE:20260602
DTEND;VALUE=DATE:20260604
DTSTAMP:20260420T222910
CREATED:20260115T193608Z
LAST-MODIFIED:20260420T162106Z
UID:10001385-1780358400-1780531199@www.tennis.se
SUMMARY:Tränarutbildning Paratennis
DESCRIPTION:
URL:https://www.tennis.se/kalender/tranarutbildning-paratennis-2/
LOCATION:Salkhallen\, Gustavslundsvägen 159\, 167 51 Bromma\, Sverige\, Sverige
CATEGORIES:Mötesplatser
ATTACH;FMTTYPE=image/jpeg:https://www.tennis.se/wp-content/uploads/2024/02/evenemang-motesplats.jpg
GEO:59.33257411626;17.982184843686
END:VEVENT
BEGIN:VEVENT
DTSTART;VALUE=DATE:20260603
DTEND;VALUE=DATE:20260607
DTSTAMP:20260420T222910
CREATED:20260202T131519Z
LAST-MODIFIED:20260420T063613Z
UID:10001453-1780444800-1780790399@www.tennis.se
SUMMARY:Audi Danderyd Open - Sommartour 2026 (Super 30 000kr)
DESCRIPTION:Factsheet och anmälan
URL:https://www.tennis.se/kalender/audi-danderyd-open-sommartour-2026-super-30-000kr/
LOCATION:Näsbyparks Tennisklubb\, Grindstuguvägen 36\, 183 64 Täby\, Sweden\, Sverige
CATEGORIES:Tävling Nationella Sommar- och Vintertour
ATTACH;FMTTYPE=image/jpeg:https://www.tennis.se/wp-content/uploads/2024/02/evenemang-sommar-vintertour.jpg
GEO:59.444176641524;18.101076664414
END:VEVENT
BEGIN:VEVENT
DTSTART;VALUE=DATE:20260604
DTEND;VALUE=DATE:20260608
DTSTAMP:20260420T222910
CREATED:20251106T070014Z
LAST-MODIFIED:20260420T052120Z
UID:10001300-1780531200-1780876799@www.tennis.se
SUMMARY:EHNGC 2026 Regionskval
DESCRIPTION:
URL:https://www.tennis.se/kalender/ehngc-2026-regionskval/
CATEGORIES:Tävling Nationella med större status
ATTACH;FMTTYPE=image/jpeg:https://www.tennis.se/wp-content/uploads/2024/02/evenemang-tavling.jpg
END:VEVENT
BEGIN:VEVENT
DTSTART;VALUE=DATE:20260606
DTEND;VALUE=DATE:20260608
DTSTAMP:20260420T222910
CREATED:20251121T102143Z
LAST-MODIFIED:20260420T053633Z
UID:10001352-1780704000-1780876799@www.tennis.se
SUMMARY:Bastränarutbildning Jönköping helg 1/2
DESCRIPTION:SvTF Bastränarutbildning är första steget i det nya utbildningsprogrammet för tränare. \nMer information och anmälan.
URL:https://www.tennis.se/kalender/bastranarutbildning-jonkoping-helg-1-2/
LOCATION:Best Western RC Hotel\, Mässvägen 6\, 534 54 Jönköping\, Sverige\, Sverige
CATEGORIES:Utbildning Tränare
ATTACH;FMTTYPE=image/jpeg:https://www.tennis.se/wp-content/uploads/2024/02/evenemang-utbildning.jpg
GEO:57.789944350601;14.234820621376
END:VEVENT
BEGIN:VEVENT
DTSTART;VALUE=DATE:20260606
DTEND;VALUE=DATE:20260610
DTSTAMP:20260420T222910
CREATED:20260202T131522Z
LAST-MODIFIED:20260420T063611Z
UID:10001454-1780704000-1781049599@www.tennis.se
SUMMARY:Tabergsdalen Sigma Open - SommarTour 2026 (A 20 000kr)
DESCRIPTION:Factsheet och anmälan
URL:https://www.tennis.se/kalender/tabergsdalen-sigma-open-sommartour-2026-a-20-000kr/
LOCATION:Tabergsdalens Tennisklubb\, Vallgatan 20\, 562 33 Norrahammar\, Sweden\, Sverige
CATEGORIES:Tävling Nationella Sommar- och Vintertour
ATTACH;FMTTYPE=image/jpeg:https://www.tennis.se/wp-content/uploads/2024/02/evenemang-sommar-vintertour.jpg
GEO:57.705692165537;14.122660300694
END:VEVENT
BEGIN:VEVENT
DTSTART;VALUE=DATE:20260608
DTEND;VALUE=DATE:20260615
DTSTAMP:20260420T222910
CREATED:20251212T193615Z
LAST-MODIFIED:20260420T135111Z
UID:10001371-1780876800-1781481599@www.tennis.se
SUMMARY:Värnamo M25
DESCRIPTION:
URL:https://www.tennis.se/kalender/varnamo-m25-3/
LOCATION:Värnamo Tennisklubb\, LJUSSEVEKA 1\, 331 34 Värnamo\, Sweden\, Sverige
CATEGORIES:Tävling Internationella Senior
ATTACH;FMTTYPE=image/jpeg:https://www.tennis.se/wp-content/uploads/2024/02/evenemang-wtt.jpg
GEO:57.202930188499;14.047483308117
END:VEVENT
BEGIN:VEVENT
DTSTART;VALUE=DATE:20260608
DTEND;VALUE=DATE:20260616
DTSTAMP:20260420T222910
CREATED:20260202T130421Z
LAST-MODIFIED:20260419T212304Z
UID:10001418-1780876800-1781567999@www.tennis.se
SUMMARY:Båstadtennis Corem Open - JSM Race 2026 (16)
DESCRIPTION:Factsheet och anmälan
URL:https://www.tennis.se/kalender/bastadtennis-corem-open-jsm-race-2026-16/
LOCATION:Båstad Sportcenter\, Korrödsvägen 9\, 269 38 Båstad\, Sweden\, Sverige
CATEGORIES:Tävling Nationella JSM Race
ATTACH;FMTTYPE=image/jpeg:https://www.tennis.se/wp-content/uploads/2024/02/evenemang-jsm-race.jpg
GEO:56.423718810793;12.856553795768
END:VEVENT
BEGIN:VEVENT
DTSTART;VALUE=DATE:20260611
DTEND;VALUE=DATE:20260620
DTSTAMP:20260420T222910
CREATED:20260202T130419Z
LAST-MODIFIED:20260419T212301Z
UID:10001417-1781136000-1781913599@www.tennis.se
SUMMARY:Båstadtennis Corem Open - JSM Race 2026 (14)
DESCRIPTION:Factsheet och anmälan
URL:https://www.tennis.se/kalender/bastadtennis-corem-open-jsm-race-2026-14/
LOCATION:Båstad Sportcenter\, Korrödsvägen 9\, 269 38 Båstad\, Sweden\, Sverige
CATEGORIES:Tävling Nationella JSM Race
ATTACH;FMTTYPE=image/jpeg:https://www.tennis.se/wp-content/uploads/2024/02/evenemang-jsm-race.jpg
GEO:56.423718810793;12.856553795768
END:VEVENT
BEGIN:VEVENT
DTSTART;VALUE=DATE:20260612
DTEND;VALUE=DATE:20260615
DTSTAMP:20260420T222910
CREATED:20260115T132112Z
LAST-MODIFIED:20260419T215119Z
UID:10001382-1781222400-1781481599@www.tennis.se
SUMMARY:Paratennis-SM utomhus
DESCRIPTION:Paratennis-SM utomhus spelas i Falkenberg. För mer information och anmälan gå in på tävling online. \nSvenska Tennisförbundet
URL:https://www.tennis.se/kalender/paratennis-sm-utomhus-3/
LOCATION:Falkenbergs Tennisklubb\, Elvägen 9\, 311 48 Falkenberg\, Sverige\, Sverige
CATEGORIES:Tävlingar paratennis
ATTACH;FMTTYPE=image/jpeg:https://www.tennis.se/wp-content/uploads/2026/01/kalender-paratennis-tavling.jpg
GEO:56.900646106539;12.525210014118
END:VEVENT
BEGIN:VEVENT
DTSTART;VALUE=DATE:20260613
DTEND;VALUE=DATE:20260615
DTSTAMP:20260420T222910
CREATED:20251029T133751Z
LAST-MODIFIED:20260420T095419Z
UID:10001285-1781308800-1781481599@www.tennis.se
SUMMARY:STL Ute 2026 PF18AB
DESCRIPTION:
URL:https://www.tennis.se/kalender/stl-ute-2026-pf18ab/
CATEGORIES:Seriespel
ATTACH;FMTTYPE=image/jpeg:https://www.tennis.se/wp-content/uploads/2024/02/evenemang-stl.jpg
END:VEVENT
BEGIN:VEVENT
DTSTART;VALUE=DATE:20260613
DTEND;VALUE=DATE:20260615
DTSTAMP:20260420T222910
CREATED:20251029T133753Z
LAST-MODIFIED:20260420T095421Z
UID:10001286-1781308800-1781481599@www.tennis.se
SUMMARY:STL Ute 2026 H/D35-75
DESCRIPTION:
URL:https://www.tennis.se/kalender/stl-ute-2026-h-d35-75-2/
CATEGORIES:Seriespel
ATTACH;FMTTYPE=image/jpeg:https://www.tennis.se/wp-content/uploads/2024/02/evenemang-stl.jpg
END:VEVENT
END:VCALENDAR