BEGIN:VCALENDAR
VERSION:2.0
PRODID:-//Svenska Tennisförbundet - ECPv6.15.20//NONSGML v1.0//EN
CALSCALE:GREGORIAN
METHOD:PUBLISH
X-WR-CALNAME:Svenska Tennisförbundet
X-ORIGINAL-URL:https://www.tennis.se
X-WR-CALDESC:Händelser för Svenska Tennisförbundet
REFRESH-INTERVAL;VALUE=DURATION:PT1H
X-Robots-Tag:noindex
X-PUBLISHED-TTL:PT1H
BEGIN:VTIMEZONE
TZID:Europe/Stockholm
BEGIN:DAYLIGHT
TZOFFSETFROM:+0100
TZOFFSETTO:+0200
TZNAME:CEST
DTSTART:20240331T010000
END:DAYLIGHT
BEGIN:STANDARD
TZOFFSETFROM:+0200
TZOFFSETTO:+0100
TZNAME:CET
DTSTART:20241027T010000
END:STANDARD
BEGIN:DAYLIGHT
TZOFFSETFROM:+0100
TZOFFSETTO:+0200
TZNAME:CEST
DTSTART:20250330T010000
END:DAYLIGHT
BEGIN:STANDARD
TZOFFSETFROM:+0200
TZOFFSETTO:+0100
TZNAME:CET
DTSTART:20251026T010000
END:STANDARD
BEGIN:DAYLIGHT
TZOFFSETFROM:+0100
TZOFFSETTO:+0200
TZNAME:CEST
DTSTART:20260329T010000
END:DAYLIGHT
BEGIN:STANDARD
TZOFFSETFROM:+0200
TZOFFSETTO:+0100
TZNAME:CET
DTSTART:20261025T010000
END:STANDARD
END:VTIMEZONE
BEGIN:VEVENT
DTSTART;VALUE=DATE:20250308
DTEND;VALUE=DATE:20250309
DTSTAMP:20260420T004416
CREATED:20240815T052312Z
LAST-MODIFIED:20250308T192111Z
UID:10000922-1741392000-1741478399@www.tennis.se
SUMMARY:STL Våren GC/OL
DESCRIPTION:
URL:https://www.tennis.se/kalender/stl-varen-gc-ol-2/
CATEGORIES:Seriespel
ATTACH;FMTTYPE=image/jpeg:https://www.tennis.se/wp-content/uploads/2024/02/evenemang-stl.jpg
END:VEVENT
BEGIN:VEVENT
DTSTART;VALUE=DATE:20250308
DTEND;VALUE=DATE:20250310
DTSTAMP:20260420T004416
CREATED:20241213T133950Z
LAST-MODIFIED:20250309T222128Z
UID:10001023-1741392000-1741564799@www.tennis.se
SUMMARY:Bastränarutbildning Örebro helg 2/2
DESCRIPTION:SvTF Bastränarutbildning är första steget i det nya utbildningsprogrammet för tränare. \nMer information och anmälan.
URL:https://www.tennis.se/kalender/bastranarutbildning-orebro-helg-2-2/
LOCATION:Örebro Tennisklubb\, Stenbackevägen\, 702 43 Örebro\, Sverige
CATEGORIES:Utbildning Tränare
ATTACH;FMTTYPE=image/jpeg:https://www.tennis.se/wp-content/uploads/2024/02/evenemang-utbildning.jpg
END:VEVENT
BEGIN:VEVENT
DTSTART;VALUE=DATE:20250308
DTEND;VALUE=DATE:20250310
DTSTAMP:20260420T004416
CREATED:20250124T182117Z
LAST-MODIFIED:20250309T222126Z
UID:10001059-1741392000-1741564799@www.tennis.se
SUMMARY:Bastränarutbildning Båstad helg 2/2
DESCRIPTION:SvTF Bastränarutbildning är första steget i det nya utbildningsprogrammet för tränare. \nMer information och anmälan.
URL:https://www.tennis.se/kalender/bastranarutbildning-bastad-helg-2-2-3/
LOCATION:Båstad Sportcenter\, Korrödsvägen 9\, 269 38 Båstad\, Sverige\, Sverige
CATEGORIES:Utbildning Tränare
ATTACH;FMTTYPE=image/jpeg:https://www.tennis.se/wp-content/uploads/2024/02/evenemang-utbildning.jpg
GEO:56.424097023863;12.856890887878
END:VEVENT
BEGIN:VEVENT
DTSTART;VALUE=DATE:20250308
DTEND;VALUE=DATE:20250315
DTSTAMP:20260420T004416
CREATED:20240816T092128Z
LAST-MODIFIED:20250314T062114Z
UID:10000944-1741392000-1741996799@www.tennis.se
SUMMARY:J30 Sundsvall
DESCRIPTION:
URL:https://www.tennis.se/kalender/j30-sundsvall/
LOCATION:Sundsvalls Tennisklubb\, Lasarettsvägen 22\, 856 43 Sundsvall\, Sweden\, Sverige
CATEGORIES:Tävling Internationella Junior
ATTACH;FMTTYPE=image/jpeg:https://www.tennis.se/wp-content/uploads/2024/02/evenemang-wtt.jpg
GEO:62.410036863449;17.317910967392
END:VEVENT
BEGIN:VEVENT
DTSTART;VALUE=DATE:20250309
DTEND;VALUE=DATE:20250315
DTSTAMP:20260420T004416
CREATED:20240815T175127Z
LAST-MODIFIED:20250314T230603Z
UID:10000926-1741478400-1741996799@www.tennis.se
SUMMARY:World Team Championship Seniors 30-45 år
DESCRIPTION:
URL:https://www.tennis.se/kalender/world-team-championship-seniors-30-45-ar/
LOCATION:Turkiet\, Sverige
CATEGORIES:Tävling Internationella Veteran
ATTACH;FMTTYPE=image/jpeg:https://www.tennis.se/wp-content/uploads/2024/02/evenemang-wtt.jpg
GEO:38.234408147004;34.747283381188
END:VEVENT
BEGIN:VEVENT
DTSTART;VALUE=DATE:20250314
DTEND;VALUE=DATE:20250324
DTSTAMP:20260420T004417
CREATED:20240817T082109Z
LAST-MODIFIED:20250323T043617Z
UID:10000948-1741910400-1742774399@www.tennis.se
SUMMARY:Junior RM
DESCRIPTION:
URL:https://www.tennis.se/kalender/junior-rm/
CATEGORIES:Tävling Nationella med större status
ATTACH;FMTTYPE=image/jpeg:https://www.tennis.se/wp-content/uploads/2024/02/evenemang-tavling.jpg
END:VEVENT
BEGIN:VEVENT
DTSTART;VALUE=DATE:20250315
DTEND;VALUE=DATE:20250317
DTSTAMP:20260420T004417
CREATED:20240405T131648Z
LAST-MODIFIED:20250316T200603Z
UID:10000858-1741996800-1742169599@www.tennis.se
SUMMARY:STL Inne H/D 65+
DESCRIPTION:
URL:https://www.tennis.se/kalender/stl-inne-h-d-65-10/
CATEGORIES:Seriespel
ATTACH;FMTTYPE=image/jpeg:https://www.tennis.se/wp-content/uploads/2024/02/evenemang-stl.jpg
END:VEVENT
BEGIN:VEVENT
DTSTART;VALUE=DATE:20250315
DTEND;VALUE=DATE:20250317
DTSTAMP:20260420T004417
CREATED:20241213T133951Z
LAST-MODIFIED:20250316T225157Z
UID:10001024-1741996800-1742169599@www.tennis.se
SUMMARY:Bastränarutbildning Stockholm helg 1/2
DESCRIPTION:SvTF Bastränarutbildning är första steget i det nya utbildningsprogrammet för tränare. \nMer information och anmälan.
URL:https://www.tennis.se/kalender/bastranarutbildning-stockholm-helg-1-2-3/
LOCATION:Tumba Tennisklubb\, Bryggarvägen 9\, 147 30 Tumba\, Sverige
CATEGORIES:Utbildning Tränare
ATTACH;FMTTYPE=image/jpeg:https://www.tennis.se/wp-content/uploads/2024/02/evenemang-utbildning.jpg
END:VEVENT
BEGIN:VEVENT
DTSTART;VALUE=DATE:20250315
DTEND;VALUE=DATE:20250317
DTSTAMP:20260420T004417
CREATED:20241213T133954Z
LAST-MODIFIED:20250316T225155Z
UID:10001025-1741996800-1742169599@www.tennis.se
SUMMARY:MultiSkillZ Tennis Eskilstuna
DESCRIPTION:Detta är en kompletterande utbildning som ingår i utbildningsprogrammet för tränare. Utbildningen passar dig som är ny i rollen som tränare. \nMer information och anmälan.
URL:https://www.tennis.se/kalender/multiskillz-tennis-eskilstuna/
LOCATION:TK Hobby\, Vagnmakarevägen 6\, 633 62 Eskilstuna\, Sverige
CATEGORIES:Utbildning Tränare
ATTACH;FMTTYPE=image/jpeg:https://www.tennis.se/wp-content/uploads/2024/02/evenemang-utbildning.jpg
END:VEVENT
BEGIN:VEVENT
DTSTART;VALUE=DATE:20250315
DTEND;VALUE=DATE:20250323
DTSTAMP:20260420T004417
CREATED:20240815T175128Z
LAST-MODIFIED:20250322T232124Z
UID:10000927-1741996800-1742687999@www.tennis.se
SUMMARY:World Individual Championship Seniors 30-45 år
DESCRIPTION:
URL:https://www.tennis.se/kalender/world-individual-championship-seniors-30-45-ar/
LOCATION:Turkiet\, Sverige
CATEGORIES:Tävling Internationella Veteran
ATTACH;FMTTYPE=image/jpeg:https://www.tennis.se/wp-content/uploads/2024/02/evenemang-wtt.jpg
GEO:38.234408147004;34.747283381188
END:VEVENT
BEGIN:VEVENT
DTSTART;TZID=Europe/Stockholm:20250316T100000
DTEND;TZID=Europe/Stockholm:20250316T160000
DTSTAMP:20260420T004417
CREATED:20250311T195111Z
LAST-MODIFIED:20250315T210616Z
UID:10001137-1742119200-1742140800@www.tennis.se
SUMMARY:Matchledarutbildning Syd digitalt
DESCRIPTION:Matchledarutbildningen är det andra steget i utbildningsprogrammet för funktionärer. Introduktionsutbildning för funktionärer är förkunskapskrav.Information och anmälan.
URL:https://www.tennis.se/kalender/matchledarutbildning-syd-digitalt/
CATEGORIES:Utbildning Funktionärer
ATTACH;FMTTYPE=image/jpeg:https://www.tennis.se/wp-content/uploads/2024/02/evenemang-utbildning.jpg
END:VEVENT
BEGIN:VEVENT
DTSTART;TZID=Europe/Stockholm:20250316T140000
DTEND;TZID=Europe/Stockholm:20250316T200000
DTSTAMP:20260420T004417
CREATED:20250206T175108Z
LAST-MODIFIED:20250315T210614Z
UID:10001115-1742133600-1742155200@www.tennis.se
SUMMARY:Matchledarutbildning Norr digitalt
DESCRIPTION:Matchledarutbildningen är det andra steget i utbildningsprogrammet för funktionärer. Introduktionsutbildning för funktionärer är förkunskapskrav. \nInformation och anmälan.
URL:https://www.tennis.se/kalender/matchledarutbildning-norr-digitalt-3/
CATEGORIES:Utbildning Funktionärer
ATTACH;FMTTYPE=image/jpeg:https://www.tennis.se/wp-content/uploads/2024/02/evenemang-utbildning.jpg
END:VEVENT
BEGIN:VEVENT
DTSTART;VALUE=DATE:20250329
DTEND;VALUE=DATE:20250330
DTSTAMP:20260420T004417
CREATED:20240405T131647Z
LAST-MODIFIED:20250329T203608Z
UID:10000857-1743206400-1743292799@www.tennis.se
SUMMARY:STL Inne Herrar & Damer Div 3-
DESCRIPTION:
URL:https://www.tennis.se/kalender/stl-inne-herrar-damer-div-3-8/
CATEGORIES:Seriespel
ATTACH;FMTTYPE=image/jpeg:https://www.tennis.se/wp-content/uploads/2024/02/evenemang-stl.jpg
END:VEVENT
BEGIN:VEVENT
DTSTART;VALUE=DATE:20250329
DTEND;VALUE=DATE:20250331
DTSTAMP:20260420T004417
CREATED:20240405T131645Z
LAST-MODIFIED:20250330T203605Z
UID:10000856-1743206400-1743379199@www.tennis.se
SUMMARY:STL Inne H/D 35-55
DESCRIPTION:
URL:https://www.tennis.se/kalender/stl-inne-h-d-35-55-10/
CATEGORIES:Seriespel
ATTACH;FMTTYPE=image/jpeg:https://www.tennis.se/wp-content/uploads/2024/02/evenemang-stl.jpg
END:VEVENT
BEGIN:VEVENT
DTSTART;VALUE=DATE:20250329
DTEND;VALUE=DATE:20250331
DTSTAMP:20260420T004417
CREATED:20240815T052317Z
LAST-MODIFIED:20250330T203607Z
UID:10000924-1743206400-1743379199@www.tennis.se
SUMMARY:STL Våren GC/OL
DESCRIPTION:
URL:https://www.tennis.se/kalender/stl-varen-gc-ol-3/
CATEGORIES:Seriespel
ATTACH;FMTTYPE=image/jpeg:https://www.tennis.se/wp-content/uploads/2024/02/evenemang-stl.jpg
END:VEVENT
BEGIN:VEVENT
DTSTART;VALUE=DATE:20250329
DTEND;VALUE=DATE:20250331
DTSTAMP:20260420T004417
CREATED:20241213T133956Z
LAST-MODIFIED:20250330T235156Z
UID:10001026-1743206400-1743379199@www.tennis.se
SUMMARY:Bastränarutbildning Hammarö/Vänersborg helg 1/2
DESCRIPTION:SvTF Bastränarutbildning är första steget i det nya utbildningsprogrammet för tränare. \nMer information och anmälan.
URL:https://www.tennis.se/kalender/bastranarutbildning-hammaro-vanersborg-helg-1-2/
CATEGORIES:Utbildning Tränare
ATTACH;FMTTYPE=image/jpeg:https://www.tennis.se/wp-content/uploads/2024/02/evenemang-utbildning.jpg
END:VEVENT
BEGIN:VEVENT
DTSTART;VALUE=DATE:20250329
DTEND;VALUE=DATE:20250331
DTSTAMP:20260420T004417
CREATED:20241213T133958Z
LAST-MODIFIED:20250330T235154Z
UID:10001027-1743206400-1743379199@www.tennis.se
SUMMARY:Bastränarutbildning Stockholm helg 2/2
DESCRIPTION:SvTF Bastränarutbildning är första steget i det nya utbildningsprogrammet för tränare. \nMer information och anmälan.
URL:https://www.tennis.se/kalender/bastranarutbildning-stockholm-helg-2-2-4/
LOCATION:Tumba Tennisklubb\, Bryggarvägen 9\, 147 30 Tumba\, Sverige
CATEGORIES:Utbildning Tränare
ATTACH;FMTTYPE=image/jpeg:https://www.tennis.se/wp-content/uploads/2024/02/evenemang-utbildning.jpg
END:VEVENT
BEGIN:VEVENT
DTSTART;TZID=Europe/Stockholm:20250330T100000
DTEND;TZID=Europe/Stockholm:20250330T160000
DTSTAMP:20260420T004417
CREATED:20250311T195115Z
LAST-MODIFIED:20250329T215105Z
UID:10001138-1743328800-1743350400@www.tennis.se
SUMMARY:Grundläggande Tävlingsledarutbildning (Syd - digitalt)
DESCRIPTION:Den här utbildningen är det tredje steget i utbildningsstegen för tävlingsledare\, därav är de två första stegen – Introduktionsutbildning för funktionärer och Matchledarutbildningen är förkunskapskrav. \nLänk till anmälan.
URL:https://www.tennis.se/kalender/grundlaggande-tavlingsledarutbildning-syd-digitalt/
CATEGORIES:Utbildning Funktionärer
ATTACH;FMTTYPE=image/jpeg:https://www.tennis.se/wp-content/uploads/2024/02/evenemang-utbildning.jpg
END:VEVENT
BEGIN:VEVENT
DTSTART;TZID=Europe/Stockholm:20250330T140000
DTEND;TZID=Europe/Stockholm:20250330T200000
DTSTAMP:20260420T004417
CREATED:20250206T175110Z
LAST-MODIFIED:20250329T215103Z
UID:10001116-1743343200-1743364800@www.tennis.se
SUMMARY:Grundläggande Tävlingsledarutbildning (Norr - digitalt)
DESCRIPTION:Den här utbildningen är det tredje steget i utbildningsstegen för tävlingsledare\, därav är de två första stegen – Introduktionsutbildning för funktionärer och Matchledarutbildningen är förkunskapskrav. \nLänk till anmälan.
URL:https://www.tennis.se/kalender/grundlaggande-tavlingsledarutbildning-norr-digitalt-3/
CATEGORIES:Utbildning Funktionärer
ATTACH;FMTTYPE=image/jpeg:https://www.tennis.se/wp-content/uploads/2024/02/evenemang-utbildning.jpg
END:VEVENT
BEGIN:VEVENT
DTSTART;VALUE=DATE:20250404
DTEND;VALUE=DATE:20250407
DTSTAMP:20260420T004417
CREATED:20240815T052324Z
LAST-MODIFIED:20250406T210603Z
UID:10000925-1743724800-1743983999@www.tennis.se
SUMMARY:Svenska Juniorcupen Slutspel
DESCRIPTION:
URL:https://www.tennis.se/kalender/svenska-juniorcupen-slutspel-3/
CATEGORIES:Seriespel
ATTACH;FMTTYPE=image/jpeg:https://www.tennis.se/wp-content/uploads/2024/02/evenemang-stl.jpg
END:VEVENT
BEGIN:VEVENT
DTSTART;VALUE=DATE:20250404
DTEND;VALUE=DATE:20250407
DTSTAMP:20260420T004417
CREATED:20241213T133959Z
LAST-MODIFIED:20250406T025153Z
UID:10001028-1743724800-1743983999@www.tennis.se
SUMMARY:SvTF Klubbtränarutbildning helg 2/3
DESCRIPTION:SvTF Klubbtränarutbildning är andra steget i utbildningsprogrammet för tränare. \nMer information och anmälan.
URL:https://www.tennis.se/kalender/svtf-klubbtranarutbildning-helg-2-3-2/
LOCATION:Falu Tennisklubb\, Högskolegatan 15\, 791 31 Falun\, Sverige\, Sverige
CATEGORIES:Utbildning Tränare
ATTACH;FMTTYPE=image/jpeg:https://www.tennis.se/wp-content/uploads/2024/02/evenemang-utbildning.jpg
GEO:60.616030402978;15.651087215079
END:VEVENT
BEGIN:VEVENT
DTSTART;VALUE=DATE:20250405
DTEND;VALUE=DATE:20250407
DTSTAMP:20260420T004417
CREATED:20240405T131651Z
LAST-MODIFIED:20250406T210605Z
UID:10000860-1743811200-1743983999@www.tennis.se
SUMMARY:STL Inne H/D 65+ Slutspel
DESCRIPTION:
URL:https://www.tennis.se/kalender/stl-inne-h-d-65-slutspel/
CATEGORIES:Seriespel
ATTACH;FMTTYPE=image/jpeg:https://www.tennis.se/wp-content/uploads/2024/02/evenemang-stl.jpg
END:VEVENT
BEGIN:VEVENT
DTSTART;VALUE=DATE:20250405
DTEND;VALUE=DATE:20250407
DTSTAMP:20260420T004417
CREATED:20241213T133618Z
LAST-MODIFIED:20250406T220607Z
UID:10001013-1743811200-1743983999@www.tennis.se
SUMMARY:Förbundstävlingsledarutbildning\, Båstad
DESCRIPTION:Genomförd och godkänd förbundstävlingsledarutbildning är förbundets krav för att få vara tävlingsledare på nationella tävlingar i Sverige. Förkunskapskraven är genomförd och godkänd Grundläggande tävlingsledarutbildning (inklusive matchledarutbildning). \nInformation och anmälan.
URL:https://www.tennis.se/kalender/forbundstavlingsledarutbildning-bastad/
LOCATION:Båstad Sportcenter\, Korrödsvägen 9\, 269 38 Båstad\, Sverige\, Sverige
CATEGORIES:Utbildning Funktionärer
ATTACH;FMTTYPE=image/jpeg:https://www.tennis.se/wp-content/uploads/2024/02/evenemang-utbildning.jpg
GEO:56.424097023863;12.856890887878
END:VEVENT
BEGIN:VEVENT
DTSTART;VALUE=DATE:20250405
DTEND;VALUE=DATE:20250407
DTSTAMP:20260420T004417
CREATED:20241213T134001Z
LAST-MODIFIED:20250406T025149Z
UID:10001029-1743811200-1743983999@www.tennis.se
SUMMARY:Bastränarutbildning Båstad helg 2/2
DESCRIPTION:SvTF Bastränarutbildning är första steget i det nya utbildningsprogrammet för tränare.\nMer information och anmälan kommer.
URL:https://www.tennis.se/kalender/bastranarutbildning-bastad-helg-2-2/
LOCATION:Båstad Sportcenter\, Korrödsvägen 9\, 269 38 Båstad\, Sverige\, Sverige
CATEGORIES:Utbildning Tränare
ATTACH;FMTTYPE=image/jpeg:https://www.tennis.se/wp-content/uploads/2024/02/evenemang-utbildning.jpg
GEO:56.424097023863;12.856890887878
END:VEVENT
BEGIN:VEVENT
DTSTART;VALUE=DATE:20250405
DTEND;VALUE=DATE:20250407
DTSTAMP:20260420T004417
CREATED:20241213T134002Z
LAST-MODIFIED:20250121T180756Z
UID:10001030-1743811200-1743983999@www.tennis.se
SUMMARY:Bastränarutbildning Göteborg helg 1/2
DESCRIPTION:SvTF Bastränarutbildning är första steget i det nya utbildningsprogrammet för tränare.\nMer information och anmälan kommer.
URL:https://www.tennis.se/kalender/bastranarutbildning-goteborg-helg-1-2/
CATEGORIES:Utbildning Tränare
ATTACH;FMTTYPE=image/jpeg:https://www.tennis.se/wp-content/uploads/2024/02/evenemang-utbildning.jpg
END:VEVENT
BEGIN:VEVENT
DTSTART;VALUE=DATE:20250405
DTEND;VALUE=DATE:20250407
DTSTAMP:20260420T004417
CREATED:20250122T182137Z
LAST-MODIFIED:20250406T025151Z
UID:10001058-1743811200-1743983999@www.tennis.se
SUMMARY:Bastränarutbildning GLTK helg 1/2
DESCRIPTION:SvTF Bastränarutbildning är första steget i det nya utbildningsprogrammet för tränare. \nMer information och anmälan.
URL:https://www.tennis.se/kalender/bastranarutbildning-gltk-helg-1-2/
LOCATION:GLTK – Tennisklubb\, Töpelsgatan 7\, 416 55 Göteborg\, Sverige\, Sverige
CATEGORIES:Utbildning Tränare
ATTACH;FMTTYPE=image/jpeg:https://www.tennis.se/wp-content/uploads/2024/02/evenemang-utbildning.jpg
GEO:57.701746529468;12.024307083746
END:VEVENT
BEGIN:VEVENT
DTSTART;TZID=Europe/Stockholm:20250405T130000
DTEND;TZID=Europe/Stockholm:20250405T140000
DTSTAMP:20260420T004417
CREATED:20250313T012107Z
LAST-MODIFIED:20250405T030603Z
UID:10001142-1743858000-1743861600@www.tennis.se
SUMMARY:IFAH Parasportskola Prova på
DESCRIPTION:Prova på paratennis i Beckomberga sim- och idrottshall. För anmälan och mer information gå in länken nedan. IFAH Parasport – Parasportskola
URL:https://www.tennis.se/kalender/ifah-parasportskola-prova-pa/
LOCATION:Beckomberga sim- och idrottshall\, Söderberga allé 80\, 168 62 Bromma\, Sverige\, Sverige
CATEGORIES:Rekrytering Paratennis
ATTACH;FMTTYPE=image/jpeg:https://www.tennis.se/wp-content/uploads/2024/02/eveneman-paratennis.jpg
GEO:59.358287881039;17.898053357105
END:VEVENT
BEGIN:VEVENT
DTSTART;VALUE=DATE:20250407
DTEND;VALUE=DATE:20250414
DTSTAMP:20260420T004417
CREATED:20241007T162111Z
LAST-MODIFIED:20250413T215133Z
UID:10000961-1743984000-1744588799@www.tennis.se
SUMMARY:Billie Jean King Cup
DESCRIPTION:
URL:https://www.tennis.se/kalender/billie-jean-king-cup-2/
LOCATION:Spelplats ej klar
CATEGORIES:Tävling Internationella Senior
ATTACH;FMTTYPE=image/jpeg:https://www.tennis.se/wp-content/uploads/2024/02/evenemang-wtt.jpg
END:VEVENT
BEGIN:VEVENT
DTSTART;VALUE=DATE:20250411
DTEND;VALUE=DATE:20250422
DTSTAMP:20260420T004417
CREATED:20240903T090615Z
LAST-MODIFIED:20250421T053604Z
UID:10000951-1744329600-1745279999@www.tennis.se
SUMMARY:JSM Göteborg
DESCRIPTION:
URL:https://www.tennis.se/kalender/jsm-goteborg/
CATEGORIES:Tävling Nationella med större status
ATTACH;FMTTYPE=image/jpeg:https://www.tennis.se/wp-content/uploads/2024/02/evenemang-tavling.jpg
END:VEVENT
BEGIN:VEVENT
DTSTART;VALUE=DATE:20250412
DTEND;VALUE=DATE:20250414
DTSTAMP:20260420T004417
CREATED:20240405T131650Z
LAST-MODIFIED:20250413T212104Z
UID:10000859-1744416000-1744588799@www.tennis.se
SUMMARY:STL Inne H/D 35-55 Slutspel
DESCRIPTION:
URL:https://www.tennis.se/kalender/stl-inne-h-d-35-55-slutspel/
CATEGORIES:Seriespel
ATTACH;FMTTYPE=image/jpeg:https://www.tennis.se/wp-content/uploads/2024/02/evenemang-stl.jpg
END:VEVENT
END:VCALENDAR