BEGIN:VCALENDAR
VERSION:2.0
PRODID:-//Svenska Tennisförbundet - ECPv6.15.20//NONSGML v1.0//EN
CALSCALE:GREGORIAN
METHOD:PUBLISH
X-WR-CALNAME:Svenska Tennisförbundet
X-ORIGINAL-URL:https://www.tennis.se
X-WR-CALDESC:Händelser för Svenska Tennisförbundet
REFRESH-INTERVAL;VALUE=DURATION:PT1H
X-Robots-Tag:noindex
X-PUBLISHED-TTL:PT1H
BEGIN:VTIMEZONE
TZID:Europe/Stockholm
BEGIN:DAYLIGHT
TZOFFSETFROM:+0100
TZOFFSETTO:+0200
TZNAME:CEST
DTSTART:20250330T010000
END:DAYLIGHT
BEGIN:STANDARD
TZOFFSETFROM:+0200
TZOFFSETTO:+0100
TZNAME:CET
DTSTART:20251026T010000
END:STANDARD
BEGIN:DAYLIGHT
TZOFFSETFROM:+0100
TZOFFSETTO:+0200
TZNAME:CEST
DTSTART:20260329T010000
END:DAYLIGHT
BEGIN:STANDARD
TZOFFSETFROM:+0200
TZOFFSETTO:+0100
TZNAME:CET
DTSTART:20261025T010000
END:STANDARD
BEGIN:DAYLIGHT
TZOFFSETFROM:+0100
TZOFFSETTO:+0200
TZNAME:CEST
DTSTART:20270328T010000
END:DAYLIGHT
BEGIN:STANDARD
TZOFFSETFROM:+0200
TZOFFSETTO:+0100
TZNAME:CET
DTSTART:20271031T010000
END:STANDARD
END:VTIMEZONE
BEGIN:VEVENT
DTSTART;VALUE=DATE:20260205
DTEND;VALUE=DATE:20260208
DTSTAMP:20260420T055618
CREATED:20251107T105659Z
LAST-MODIFIED:20260207T143704Z
UID:10001305-1770249600-1770508799@www.tennis.se
SUMMARY:XL Bygg indoor - Vintertour 2026
DESCRIPTION:Factsheet och Anmälan
URL:https://www.tennis.se/kalender/xl-bygg-indoor-vintertour-2026/
LOCATION:Oskarshamns TK\, Döderhultsvägen 11\, 572 31 Oskarshamn\, Sverige\, Sverige
CATEGORIES:Tävling Nationella Sommar- och Vintertour
ATTACH;FMTTYPE=image/jpeg:https://www.tennis.se/wp-content/uploads/2024/02/evenemang-sommar-vintertour.jpg
GEO:57.264640345039;16.431324671121
END:VEVENT
BEGIN:VEVENT
DTSTART;VALUE=DATE:20260205
DTEND;VALUE=DATE:20260208
DTSTAMP:20260420T055618
CREATED:20260122T132846Z
LAST-MODIFIED:20260207T150628Z
UID:10001397-1770249600-1770508799@www.tennis.se
SUMMARY:Tennis Europe Winter Cups Flickor 14
DESCRIPTION:Gruppspel TE Winter Cups
URL:https://www.tennis.se/kalender/tennis-europe-winter-cups-flickor-14/
LOCATION:Svedala\, Sverige
CATEGORIES:Elit/Landslag Landslagsspel
ATTACH;FMTTYPE=image/jpeg:https://www.tennis.se/wp-content/uploads/2026/01/kalender-elit-landslag-landslagsspel.jpg
END:VEVENT
BEGIN:VEVENT
DTSTART;VALUE=DATE:20260206
DTEND;VALUE=DATE:20260209
DTSTAMP:20260420T055618
CREATED:20260115T132110Z
LAST-MODIFIED:20260208T152120Z
UID:10001381-1770336000-1770595199@www.tennis.se
SUMMARY:Malmö Open
DESCRIPTION:Internationell tävling som spelas i Hyllie sportcenter – Malmö.  \nTennis | Malmo Open
URL:https://www.tennis.se/kalender/malmo-open-3/
LOCATION:Hyllie sportcenter\, Bollspelsvägen 3\, 216 25 Malmö\, Sverige\, Sverige
CATEGORIES:Tävlingar paratennis
ATTACH;FMTTYPE=image/jpeg:https://www.tennis.se/wp-content/uploads/2026/01/kalender-paratennis-tavling.jpg
GEO:55.570982660942;12.970964347002
END:VEVENT
BEGIN:VEVENT
DTSTART;VALUE=DATE:20260207
DTEND;VALUE=DATE:20260209
DTSTAMP:20260420T055618
CREATED:20251008T120701Z
LAST-MODIFIED:20260208T225235Z
UID:10001263-1770422400-1770595199@www.tennis.se
SUMMARY:Svenska Juniorcupen Kval
DESCRIPTION:
URL:https://www.tennis.se/kalender/svenska-juniorcupen-kval/
CATEGORIES:Seriespel
ATTACH;FMTTYPE=image/jpeg:https://www.tennis.se/wp-content/uploads/2024/02/evenemang-stl.jpg
END:VEVENT
BEGIN:VEVENT
DTSTART;VALUE=DATE:20260207
DTEND;VALUE=DATE:20260209
DTSTAMP:20260420T055618
CREATED:20251121T102120Z
LAST-MODIFIED:20260208T023657Z
UID:10001339-1770422400-1770595199@www.tennis.se
SUMMARY:Bastränarutbildning Båstad helg 1/2
DESCRIPTION:SvTF Bastränarutbildning är första steget i det nya utbildningsprogrammet för tränare. \nMer information och anmälan.
URL:https://www.tennis.se/kalender/bastranarutbildning-bastad-helg-1-2-3/
LOCATION:Båstad Sportcenter\, Korrödsvägen 9\, 269 38 Båstad\, Sverige\, Sverige
CATEGORIES:Utbildning Tränare
ATTACH;FMTTYPE=image/jpeg:https://www.tennis.se/wp-content/uploads/2024/02/evenemang-utbildning.jpg
GEO:56.424097023863;12.856890887878
END:VEVENT
BEGIN:VEVENT
DTSTART;VALUE=DATE:20260207
DTEND;VALUE=DATE:20260209
DTSTAMP:20260420T055618
CREATED:20251121T102122Z
LAST-MODIFIED:20260208T023654Z
UID:10001340-1770422400-1770595199@www.tennis.se
SUMMARY:Bastränarutbildning Härnösand helg 2/2
DESCRIPTION:SvTF Bastränarutbildning är första steget i det nya utbildningsprogrammet för tränare. \nMer information och anmälan.
URL:https://www.tennis.se/kalender/bastranarutbildning-harnosand-helg-2-2/
LOCATION:Öbacka Sportcenter\, Brännavägen 160\, 871 62 Härnösand\, Sverige\, Sverige
CATEGORIES:Utbildning Tränare
ATTACH;FMTTYPE=image/jpeg:https://www.tennis.se/wp-content/uploads/2024/02/evenemang-utbildning.jpg
GEO:62.636242415129;17.965413425529
END:VEVENT
BEGIN:VEVENT
DTSTART;VALUE=DATE:20260207
DTEND;VALUE=DATE:20260209
DTSTAMP:20260420T055618
CREATED:20251121T102124Z
LAST-MODIFIED:20260208T023656Z
UID:10001341-1770422400-1770595199@www.tennis.se
SUMMARY:Bastränarutbildning Örebro helg 1/2
DESCRIPTION:SvTF Bastränarutbildning är första steget i det nya utbildningsprogrammet för tränare. \nMer information och anmälan.
URL:https://www.tennis.se/kalender/bastranarutbildning-orebro-helg-1-2-2/
LOCATION:Örebro Tennisklubb\, Stenbackevägen\, 702 43 Örebro\, Sverige
CATEGORIES:Utbildning Tränare
ATTACH;FMTTYPE=image/jpeg:https://www.tennis.se/wp-content/uploads/2024/02/evenemang-utbildning.jpg
END:VEVENT
BEGIN:VEVENT
DTSTART;VALUE=DATE:20260207
DTEND;VALUE=DATE:20260209
DTSTAMP:20260420T055618
CREATED:20260122T132842Z
LAST-MODIFIED:20260208T152131Z
UID:10001396-1770422400-1770595199@www.tennis.se
SUMMARY:Davis Cup CZE-SWE
DESCRIPTION:Länk till tävlingen
URL:https://www.tennis.se/kalender/davis-cup-cze-swe/
LOCATION:Jihlava\, Tjeckien
CATEGORIES:Elit/Landslag Landslagsspel
ATTACH;FMTTYPE=image/jpeg:https://www.tennis.se/wp-content/uploads/2026/01/kalender-elit-landslag-landslagsspel.jpg
END:VEVENT
BEGIN:VEVENT
DTSTART;VALUE=DATE:20260208
DTEND;VALUE=DATE:20260209
DTSTAMP:20260420T055618
CREATED:20251121T100617Z
LAST-MODIFIED:20260208T042128Z
UID:10001318-1770508800-1770595199@www.tennis.se
SUMMARY:Matchledarutbildning Syd digitalt
DESCRIPTION:Matchledarutbildningen är det andra steget i utbildningsprogrammet för funktionärer. Introduktionsutbildning för funktionärer är förkunskapskrav. \nInformation och anmälan.
URL:https://www.tennis.se/kalender/matchledarutbildning-syd-digitalt-2/
CATEGORIES:Utbildning Funktionärer
ATTACH;FMTTYPE=image/jpeg:https://www.tennis.se/wp-content/uploads/2024/02/evenemang-utbildning.jpg
END:VEVENT
BEGIN:VEVENT
DTSTART;VALUE=DATE:20260208
DTEND;VALUE=DATE:20260215
DTSTAMP:20260420T055618
CREATED:20251008T095120Z
LAST-MODIFIED:20260214T210605Z
UID:10001251-1770508800-1771113599@www.tennis.se
SUMMARY:TE14 Ullevi Tennis Open Kat3
DESCRIPTION:
URL:https://www.tennis.se/kalender/te14-ullevi-tennis-open-kat3-2/
LOCATION:Ullevi Tennisklubb\, Smålandsgatan 2\, 411 39 Göteborg\, Sweden\, Sverige
CATEGORIES:Tävling Internationella Junior
ATTACH;FMTTYPE=image/jpeg:https://www.tennis.se/wp-content/uploads/2026/01/kalender-internationella-juniortavl.jpg
GEO:57.705593168085;11.980107557685
END:VEVENT
BEGIN:VEVENT
DTSTART;VALUE=DATE:20260211
DTEND;VALUE=DATE:20260212
DTSTAMP:20260420T055618
CREATED:20251121T100614Z
LAST-MODIFIED:20260211T042118Z
UID:10001316-1770768000-1770854399@www.tennis.se
SUMMARY:Matchledarutbildning Stockholm digitalt
DESCRIPTION:Matchledarutbildningen är det andra steget i utbildningsprogrammet för funktionärer. Introduktionsutbildning för funktionärer är förkunskapskrav. \nInformation och anmälan.
URL:https://www.tennis.se/kalender/matchledarutbildning-stockholm-digitalt-5/
CATEGORIES:Utbildning Funktionärer
ATTACH;FMTTYPE=image/jpeg:https://www.tennis.se/wp-content/uploads/2024/02/evenemang-utbildning.jpg
END:VEVENT
BEGIN:VEVENT
DTSTART;VALUE=DATE:20260213
DTEND;VALUE=DATE:20260216
DTSTAMP:20260420T055618
CREATED:20260122T132907Z
LAST-MODIFIED:20260215T163608Z
UID:10001401-1770940800-1771199999@www.tennis.se
SUMMARY:Tennis Europe Winter Cups Flickor 12
DESCRIPTION:Slutspel TE Winter Cups
URL:https://www.tennis.se/kalender/tennis-europe-winter-cups-flickor-12-2/
LOCATION:Sunderland\, Storbritannien
CATEGORIES:Elit/Landslag Landslagsspel
ATTACH;FMTTYPE=image/jpeg:https://www.tennis.se/wp-content/uploads/2026/01/kalender-elit-landslag-landslagsspel.jpg
END:VEVENT
BEGIN:VEVENT
DTSTART;VALUE=DATE:20260214
DTEND;VALUE=DATE:20260215
DTSTAMP:20260420T055618
CREATED:20251121T100616Z
LAST-MODIFIED:20260214T042105Z
UID:10001317-1771027200-1771113599@www.tennis.se
SUMMARY:Grundläggande Tävlingsledarutbildning (Sthlm - digitalt)
DESCRIPTION:Den här utbildningen är det tredje steget i utbildningsstegen för tävlingsledare\, därav är de två första stegen – Introduktionsutbildning för funktionärer och Matchledarutbildningen är förkunskapskrav. \nLänk till anmälan.
URL:https://www.tennis.se/kalender/grundlaggande-tavlingsledarutbildning-sthlm-digitalt/
CATEGORIES:Utbildning Funktionärer
ATTACH;FMTTYPE=image/jpeg:https://www.tennis.se/wp-content/uploads/2024/02/evenemang-utbildning.jpg
END:VEVENT
BEGIN:VEVENT
DTSTART;VALUE=DATE:20260214
DTEND;VALUE=DATE:20260216
DTSTAMP:20260420T055618
CREATED:20251121T102126Z
LAST-MODIFIED:20260215T030606Z
UID:10001342-1771027200-1771199999@www.tennis.se
SUMMARY:Bastränarutbildning Örebro helg 2/2
DESCRIPTION:SvTF Bastränarutbildning är första steget i det nya utbildningsprogrammet för tränare. \nMer information och anmälan.
URL:https://www.tennis.se/kalender/bastranarutbildning-orebro-helg-2-2-2/
LOCATION:Örebro Tennisklubb\, Stenbackevägen\, 702 43 Örebro\, Sverige
CATEGORIES:Utbildning Tränare
ATTACH;FMTTYPE=image/jpeg:https://www.tennis.se/wp-content/uploads/2024/02/evenemang-utbildning.jpg
END:VEVENT
BEGIN:VEVENT
DTSTART;VALUE=DATE:20260214
DTEND;VALUE=DATE:20260216
DTSTAMP:20260420T055618
CREATED:20251121T102128Z
LAST-MODIFIED:20260215T030608Z
UID:10001343-1771027200-1771199999@www.tennis.se
SUMMARY:Bastränarutbildning Stockholm helg 2/2
DESCRIPTION:SvTF Bastränarutbildning är första steget i det nya utbildningsprogrammet för tränare. \nMer information och anmälan.
URL:https://www.tennis.se/kalender/bastranarutbildning-stockholm-helg-2-2-9/
CATEGORIES:Utbildning Tränare
ATTACH;FMTTYPE=image/jpeg:https://www.tennis.se/wp-content/uploads/2024/02/evenemang-utbildning.jpg
END:VEVENT
BEGIN:VEVENT
DTSTART;VALUE=DATE:20260214
DTEND;VALUE=DATE:20260221
DTSTAMP:20260420T055618
CREATED:20251008T095122Z
LAST-MODIFIED:20260220T212105Z
UID:10001252-1771027200-1771631999@www.tennis.se
SUMMARY:TE14 Svedala Kat3
DESCRIPTION:
URL:https://www.tennis.se/kalender/te14-svedala-kat3-2/
LOCATION:Svedala tennishall\, Tennisgatan 3\, 233 32 Svedala\, Sweden\, Sverige
CATEGORIES:Tävling Internationella Junior
ATTACH;FMTTYPE=image/jpeg:https://www.tennis.se/wp-content/uploads/2026/01/kalender-internationella-juniortavl.jpg
GEO:55.514652637972;13.230717821819
END:VEVENT
BEGIN:VEVENT
DTSTART;VALUE=DATE:20260218
DTEND;VALUE=DATE:20260221
DTSTAMP:20260420T055618
CREATED:20251107T105706Z
LAST-MODIFIED:20260220T153610Z
UID:10001307-1771372800-1771631999@www.tennis.se
SUMMARY:ER-HO bygg i Bjärred - Vintertour 2026
DESCRIPTION:Factsheet och anmälan
URL:https://www.tennis.se/kalender/lomma-bjarreds-tennisklubb-vintertour-2026/
LOCATION:Lomma-Bjärreds Tennisklubb\, Tennisväg 2\, 237 41 Bjärred\, Sverige\, Sverige
CATEGORIES:Tävling Nationella Sommar- och Vintertour
ATTACH;FMTTYPE=image/jpeg:https://www.tennis.se/wp-content/uploads/2024/02/evenemang-sommar-vintertour.jpg
GEO:55.728875116914;13.034676185768
END:VEVENT
BEGIN:VEVENT
DTSTART;VALUE=DATE:20260219
DTEND;VALUE=DATE:20260222
DTSTAMP:20260420T055618
CREATED:20260122T132913Z
LAST-MODIFIED:20260208T152138Z
UID:10001402-1771459200-1771718399@www.tennis.se
SUMMARY:Tennis Europe Winter Cups Pojkar 14
DESCRIPTION:Slutspel TE Winter Cups
URL:https://www.tennis.se/kalender/tennis-europe-winter-cups-pojkar-14-2/
LOCATION:Niederzier\, 52382 Niederzier\, Tyskland
CATEGORIES:Elit/Landslag Landslagsspel
ATTACH;FMTTYPE=image/jpeg:https://www.tennis.se/wp-content/uploads/2026/01/kalender-elit-landslag-landslagsspel.jpg
END:VEVENT
BEGIN:VEVENT
DTSTART;VALUE=DATE:20260219
DTEND;VALUE=DATE:20260222
DTSTAMP:20260420T055618
CREATED:20260122T132917Z
LAST-MODIFIED:20260221T170607Z
UID:10001403-1771459200-1771718399@www.tennis.se
SUMMARY:Tennis Europe Winter Cups Flickor 14
DESCRIPTION:Slutspel TE Winter Cups
URL:https://www.tennis.se/kalender/tennis-europe-winter-cups-flickor-14-2/
LOCATION:Hradec Králové\, Tjeckien
CATEGORIES:Elit/Landslag Landslagsspel
ATTACH;FMTTYPE=image/jpeg:https://www.tennis.se/wp-content/uploads/2026/01/kalender-elit-landslag-landslagsspel.jpg
END:VEVENT
BEGIN:VEVENT
DTSTART;VALUE=DATE:20260219
DTEND;VALUE=DATE:20260222
DTSTAMP:20260420T055618
CREATED:20260122T132920Z
LAST-MODIFIED:20260208T152137Z
UID:10001404-1771459200-1771718399@www.tennis.se
SUMMARY:Tennis Europe Winter Cups Flickor 16
DESCRIPTION:Slutspel TE Winter Cups
URL:https://www.tennis.se/kalender/tennis-europe-winter-cups-flickor-16-2/
LOCATION:Brest\, Frankrike
CATEGORIES:Elit/Landslag Landslagsspel
ATTACH;FMTTYPE=image/jpeg:https://www.tennis.se/wp-content/uploads/2026/01/kalender-elit-landslag-landslagsspel.jpg
END:VEVENT
BEGIN:VEVENT
DTSTART;VALUE=DATE:20260219
DTEND;VALUE=DATE:20260222
DTSTAMP:20260420T055618
CREATED:20260122T132923Z
LAST-MODIFIED:20260208T152140Z
UID:10001405-1771459200-1771718399@www.tennis.se
SUMMARY:Tennis Europe Winter Cups Pojkar 16
DESCRIPTION:Slutspel TE Winter Cups
URL:https://www.tennis.se/kalender/tennis-europe-winter-cups-pojkar-16-2/
LOCATION:Ronchin\, Frankrike
CATEGORIES:Elit/Landslag Landslagsspel
ATTACH;FMTTYPE=image/jpeg:https://www.tennis.se/wp-content/uploads/2026/01/kalender-elit-landslag-landslagsspel.jpg
END:VEVENT
BEGIN:VEVENT
DTSTART;VALUE=DATE:20260220
DTEND;VALUE=DATE:20260223
DTSTAMP:20260420T055618
CREATED:20251107T105702Z
LAST-MODIFIED:20260222T160608Z
UID:10001306-1771545600-1771804799@www.tennis.se
SUMMARY:ATL - Vintertour 2026
DESCRIPTION:Factsheet och anmälan
URL:https://www.tennis.se/kalender/atl-vintertour-2026/
LOCATION:Allmänna Tennisklubben Lund\, Lovisastigen 4\, 222 41 Lund\, Sverige\, Sverige
CATEGORIES:Tävling Nationella Sommar- och Vintertour
ATTACH;FMTTYPE=image/jpeg:https://www.tennis.se/wp-content/uploads/2024/02/evenemang-sommar-vintertour.jpg
GEO:55.719570154577;13.200710280905
END:VEVENT
BEGIN:VEVENT
DTSTART;VALUE=DATE:20260220
DTEND;VALUE=DATE:20260302
DTSTAMP:20260420T055619
CREATED:20251009T063610Z
LAST-MODIFIED:20260301T010603Z
UID:10001271-1771545600-1772409599@www.tennis.se
SUMMARY:Veteran-SM Danderyd
DESCRIPTION:
URL:https://www.tennis.se/kalender/veteran-sm-danderyd/
LOCATION:Danderyds Tennisklubb\, Rinkebyvägen 6\, 182 36 Danderyd\, Sverige\, Sverige
CATEGORIES:Tävling Nationella med större status
ATTACH;FMTTYPE=image/jpeg:https://www.tennis.se/wp-content/uploads/2024/02/evenemang-tavling.jpg
GEO:59.416270377832;18.042661209137
END:VEVENT
BEGIN:VEVENT
DTSTART;VALUE=DATE:20260221
DTEND;VALUE=DATE:20260302
DTSTAMP:20260420T055619
CREATED:20251008T095124Z
LAST-MODIFIED:20260301T212117Z
UID:10001253-1771632000-1772409599@www.tennis.se
SUMMARY:TE14 Kungens Kanna & Drottningens Pris Kat Super
DESCRIPTION:
URL:https://www.tennis.se/kalender/te14-kungens-kanna-drottningens-pris-kat-super-2/
LOCATION:Royal Tennis Hall\, Lidingövägen 75\, 115 41 Stockholm\, Sweden\, Sverige
CATEGORIES:Tävling Internationella Junior
ATTACH;FMTTYPE=image/jpeg:https://www.tennis.se/wp-content/uploads/2026/01/kalender-internationella-juniortavl.jpg
GEO:59.350781658709;18.095460864387
END:VEVENT
BEGIN:VEVENT
DTSTART;VALUE=DATE:20260222
DTEND;VALUE=DATE:20260225
DTSTAMP:20260420T055619
CREATED:20251128T151943Z
LAST-MODIFIED:20260224T160606Z
UID:10001364-1771718400-1771977599@www.tennis.se
SUMMARY:Lugnet Cup Falun - Vintertour 2026
DESCRIPTION:Factsheet och anmälan
URL:https://www.tennis.se/kalender/lugnet-cup-falun-vintertour-2026/
LOCATION:Falu Tennis Och Idrottscenter\, Högskolegatan 15\, 791 31 Falun\, Sverige\, Sverige
CATEGORIES:Tävling Nationella Sommar- och Vintertour
ATTACH;FMTTYPE=image/jpeg:https://www.tennis.se/wp-content/uploads/2024/02/evenemang-sommar-vintertour.jpg
GEO:60.615897784811;15.651110213454
END:VEVENT
BEGIN:VEVENT
DTSTART;VALUE=DATE:20260223
DTEND;VALUE=DATE:20260301
DTSTAMP:20260420T055619
CREATED:20260122T132930Z
LAST-MODIFIED:20260228T102114Z
UID:10001406-1771804800-1772323199@www.tennis.se
SUMMARY:TE14 Stockholm (KKDP)
DESCRIPTION:Länk till tävlingen 
URL:https://www.tennis.se/kalender/te14-stockholm-kkdp/
LOCATION:Kungliga tennishallen\, Lidingövägen 75\, 115 41 Stockholm\, Sverige\, Sverige
CATEGORIES:Elit/Landslag Tävlingsspel
ATTACH;FMTTYPE=image/jpeg:https://www.tennis.se/wp-content/uploads/2026/01/kalender-elit-landslag-tavlingsspel.jpg
GEO:59.350906721921;18.095609313579
END:VEVENT
BEGIN:VEVENT
DTSTART;TZID=Europe/Stockholm:20260224T094500
DTEND;TZID=Europe/Stockholm:20260224T170000
DTSTAMP:20260420T055619
CREATED:20260207T023708Z
LAST-MODIFIED:20260224T035113Z
UID:10001467-1771926300-1771952400@www.tennis.se
SUMMARY:Tränarträff KKDP
DESCRIPTION:För tränare som vill fördjupa sin förståelse för hurspelarutvecklingsplanen kan användas som ettkonkret stöd i det dagliga arbetet med planering\, genomförande och utvärdering av spelaresutveckling. \nTill inbjudan.Till anmälan.
URL:https://www.tennis.se/kalender/tranartraff-kkdp/
LOCATION:Kungliga Tennishallen\, Sverige
CATEGORIES:Utbildning Tränare
ATTACH;FMTTYPE=image/jpeg:https://www.tennis.se/wp-content/uploads/2024/02/evenemang-utbildning.jpg
GEO:59.350349224372;18.095802469142
END:VEVENT
BEGIN:VEVENT
DTSTART;VALUE=DATE:20260226
DTEND;VALUE=DATE:20260301
DTSTAMP:20260420T055619
CREATED:20251107T105708Z
LAST-MODIFIED:20260228T160614Z
UID:10001308-1772064000-1772323199@www.tennis.se
SUMMARY:NPTK - Vintertour 2026
DESCRIPTION:Factsheet och anmälan
URL:https://www.tennis.se/kalender/nptk-vintertour-2026/
LOCATION:Näsbyparks Tennisklubb\, Grindstuguvägen 36\, 183 64 Täby\, Sverige\, Sverige
CATEGORIES:Tävling Nationella Sommar- och Vintertour
ATTACH;FMTTYPE=image/jpeg:https://www.tennis.se/wp-content/uploads/2024/02/evenemang-sommar-vintertour.jpg
GEO:59.444326598532;18.101397377764
END:VEVENT
BEGIN:VEVENT
DTSTART;VALUE=DATE:20260228
DTEND;VALUE=DATE:20260302
DTSTAMP:20260420T055619
CREATED:20260115T110604Z
LAST-MODIFIED:20260301T142103Z
UID:10001378-1772236800-1772409599@www.tennis.se
SUMMARY:Spelarutvecklingsträff stående
DESCRIPTION:För mer information och anmälan\, se inbjudan nedan.  \nSpelarutvecklingsträff stående Sollentuna.pdf
URL:https://www.tennis.se/kalender/spelarutvecklingstraff-staende-4/
LOCATION:Sollentuna Rackethall\, Stubbhagsvägen 6\, 192 51 Sollentuna\, Sverige
CATEGORIES:Spelarutvecklingsträffar paratennis
ATTACH;FMTTYPE=image/jpeg:https://www.tennis.se/wp-content/uploads/2026/01/kalender-paratennis-utveckling.jpg
END:VEVENT
BEGIN:VEVENT
DTSTART;VALUE=DATE:20260228
DTEND;VALUE=DATE:20260307
DTSTAMP:20260420T055619
CREATED:20251008T095126Z
LAST-MODIFIED:20260306T220632Z
UID:10001254-1772236800-1772841599@www.tennis.se
SUMMARY:J30 Övik
DESCRIPTION:
URL:https://www.tennis.se/kalender/j30-ovik/
LOCATION:Eriksgatan 2\, 892 51 Domsjö\, Sverige\, Sverige
CATEGORIES:Tävling Internationella Junior
ATTACH;FMTTYPE=image/jpeg:https://www.tennis.se/wp-content/uploads/2026/01/kalender-internationella-juniortavl.jpg
GEO:63.273749860331;18.690371789255
END:VEVENT
END:VCALENDAR