BEGIN:VCALENDAR
VERSION:2.0
PRODID:-//Svenska Tennisförbundet - ECPv6.15.20//NONSGML v1.0//EN
CALSCALE:GREGORIAN
METHOD:PUBLISH
X-WR-CALNAME:Svenska Tennisförbundet
X-ORIGINAL-URL:https://www.tennis.se
X-WR-CALDESC:Händelser för Svenska Tennisförbundet
REFRESH-INTERVAL;VALUE=DURATION:PT1H
X-Robots-Tag:noindex
X-PUBLISHED-TTL:PT1H
BEGIN:VTIMEZONE
TZID:Europe/Stockholm
BEGIN:DAYLIGHT
TZOFFSETFROM:+0100
TZOFFSETTO:+0200
TZNAME:CEST
DTSTART:20250330T010000
END:DAYLIGHT
BEGIN:STANDARD
TZOFFSETFROM:+0200
TZOFFSETTO:+0100
TZNAME:CET
DTSTART:20251026T010000
END:STANDARD
BEGIN:DAYLIGHT
TZOFFSETFROM:+0100
TZOFFSETTO:+0200
TZNAME:CEST
DTSTART:20260329T010000
END:DAYLIGHT
BEGIN:STANDARD
TZOFFSETFROM:+0200
TZOFFSETTO:+0100
TZNAME:CET
DTSTART:20261025T010000
END:STANDARD
BEGIN:DAYLIGHT
TZOFFSETFROM:+0100
TZOFFSETTO:+0200
TZNAME:CEST
DTSTART:20270328T010000
END:DAYLIGHT
BEGIN:STANDARD
TZOFFSETFROM:+0200
TZOFFSETTO:+0100
TZNAME:CET
DTSTART:20271031T010000
END:STANDARD
END:VTIMEZONE
BEGIN:VEVENT
DTSTART;VALUE=DATE:20260307
DTEND;VALUE=DATE:20260309
DTSTAMP:20260426T003511
CREATED:20251008T120705Z
LAST-MODIFIED:20260308T013644Z
UID:10001265-1772841600-1773014399@www.tennis.se
SUMMARY:STL Våren 2026 Orange & Grön
DESCRIPTION:
URL:https://www.tennis.se/kalender/stl-varen-2026-orange-gron-3/
CATEGORIES:Seriespel
ATTACH;FMTTYPE=image/jpeg:https://www.tennis.se/wp-content/uploads/2024/02/evenemang-stl.jpg
END:VEVENT
BEGIN:VEVENT
DTSTART;VALUE=DATE:20260307
DTEND;VALUE=DATE:20260311
DTSTAMP:20260426T003511
CREATED:20260122T132747Z
LAST-MODIFIED:20260310T142119Z
UID:10001387-1772841600-1773187199@www.tennis.se
SUMMARY:U13 Performance Camp 1 (flickor)
DESCRIPTION:
URL:https://www.tennis.se/kalender/u13-performance-camp-1-flickor/
LOCATION:Falköping\, Sverige
CATEGORIES:Elit/Landslag läger
ATTACH;FMTTYPE=image/jpeg:https://www.tennis.se/wp-content/uploads/2024/03/evenemang-lager-o-aktiviteter.jpg
END:VEVENT
BEGIN:VEVENT
DTSTART;VALUE=DATE:20260307
DTEND;VALUE=DATE:20260314
DTSTAMP:20260426T003511
CREATED:20251008T095129Z
LAST-MODIFIED:20260313T223623Z
UID:10001255-1772841600-1773446399@www.tennis.se
SUMMARY:J30 Sundsvall
DESCRIPTION:
URL:https://www.tennis.se/kalender/j30-sundsvall-2/
LOCATION:Sundsvalls Tennisklubb\, Lasarettsvägen 22\, 856 43 Sundsvall\, Sweden\, Sverige
CATEGORIES:Tävling Internationella Junior
ATTACH;FMTTYPE=image/jpeg:https://www.tennis.se/wp-content/uploads/2026/01/kalender-internationella-juniortavl.jpg
GEO:62.410036863449;17.317910967392
END:VEVENT
BEGIN:VEVENT
DTSTART;VALUE=DATE:20260308
DTEND;VALUE=DATE:20260314
DTSTAMP:20260426T003511
CREATED:20251008T185109Z
LAST-MODIFIED:20260313T185154Z
UID:10001268-1772928000-1773446399@www.tennis.se
SUMMARY:World Team Championship Seniors 60-70 år
DESCRIPTION:
URL:https://www.tennis.se/kalender/world-team-championship-seniors-60-70-ar/
LOCATION:Turkiet\, Sverige
CATEGORIES:Tävling Internationella Veteran
ATTACH;FMTTYPE=image/jpeg:https://www.tennis.se/wp-content/uploads/2024/02/evenemang-wtt.jpg
GEO:38.234408147004;34.747283381188
END:VEVENT
BEGIN:VEVENT
DTSTART;VALUE=DATE:20260313
DTEND;VALUE=DATE:20260323
DTSTAMP:20260426T003511
CREATED:20251009T063612Z
LAST-MODIFIED:20260322T030616Z
UID:10001272-1773360000-1774223999@www.tennis.se
SUMMARY:RM-vecka
DESCRIPTION:
URL:https://www.tennis.se/kalender/rm-vecka/
CATEGORIES:Tävling Nationella med större status
ATTACH;FMTTYPE=image/jpeg:https://www.tennis.se/wp-content/uploads/2024/02/evenemang-tavling.jpg
END:VEVENT
BEGIN:VEVENT
DTSTART;VALUE=DATE:20260314
DTEND;VALUE=DATE:20260322
DTSTAMP:20260426T003511
CREATED:20251008T185111Z
LAST-MODIFIED:20260321T193614Z
UID:10001269-1773446400-1774137599@www.tennis.se
SUMMARY:World Individual Championship Seniors 60-70 år
DESCRIPTION:
URL:https://www.tennis.se/kalender/world-individual-championship-seniors-60-70-ar/
LOCATION:Turkiet\, Sverige
CATEGORIES:Tävling Internationella Veteran
ATTACH;FMTTYPE=image/jpeg:https://www.tennis.se/wp-content/uploads/2024/02/evenemang-wtt.jpg
GEO:38.234408147004;34.747283381188
END:VEVENT
BEGIN:VEVENT
DTSTART;VALUE=DATE:20260323
DTEND;VALUE=DATE:20260327
DTSTAMP:20260426T003511
CREATED:20251107T105710Z
LAST-MODIFIED:20260326T052116Z
UID:10001309-1774224000-1774569599@www.tennis.se
SUMMARY:Mircon Open - Vintertour 2026
DESCRIPTION:Factsheet och anmälan
URL:https://www.tennis.se/kalender/mircon-open-vintertour-2026/
LOCATION:Fair Play Tennisklubb\, Erikslustvägen 56\, 217 73 Malmö\, Sverige\, Sverige
CATEGORIES:Tävling Nationella Sommar- och Vintertour
ATTACH;FMTTYPE=image/jpeg:https://www.tennis.se/wp-content/uploads/2024/02/evenemang-sommar-vintertour.jpg
GEO:55.590072020538;12.962396793851
END:VEVENT
BEGIN:VEVENT
DTSTART;VALUE=DATE:20260327
DTEND;VALUE=DATE:20260330
DTSTAMP:20260426T003511
CREATED:20251008T120706Z
LAST-MODIFIED:20260329T070619Z
UID:10001266-1774569600-1774828799@www.tennis.se
SUMMARY:Svenska Juniorcupen Slutspel
DESCRIPTION:
URL:https://www.tennis.se/kalender/svenska-juniorcupen-slutspel-4/
CATEGORIES:Seriespel
ATTACH;FMTTYPE=image/jpeg:https://www.tennis.se/wp-content/uploads/2024/02/evenemang-stl.jpg
END:VEVENT
BEGIN:VEVENT
DTSTART;VALUE=DATE:20260328
DTEND;VALUE=DATE:20260330
DTSTAMP:20260426T003511
CREATED:20251121T102132Z
LAST-MODIFIED:20260329T045137Z
UID:10001346-1774656000-1774828799@www.tennis.se
SUMMARY:Bastränarutbildning Stockholm helg 1/2
DESCRIPTION:SvTF Bastränarutbildning är första steget i det nya utbildningsprogrammet för tränare. \nMer information och anmälan.
URL:https://www.tennis.se/kalender/bastranarutbildning-stockholm-helg-1-2-9/
CATEGORIES:Utbildning Tränare
ATTACH;FMTTYPE=image/jpeg:https://www.tennis.se/wp-content/uploads/2024/02/evenemang-utbildning.jpg
END:VEVENT
BEGIN:VEVENT
DTSTART;VALUE=DATE:20260328
DTEND;VALUE=DATE:20260401
DTSTAMP:20260426T003511
CREATED:20260122T132754Z
LAST-MODIFIED:20260331T165102Z
UID:10001389-1774656000-1775001599@www.tennis.se
SUMMARY:U13 Performance Camp 2
DESCRIPTION:
URL:https://www.tennis.se/kalender/u13-performance-camp-2/
CATEGORIES:Elit/Landslag läger
ATTACH;FMTTYPE=image/jpeg:https://www.tennis.se/wp-content/uploads/2024/03/evenemang-lager-o-aktiviteter.jpg
END:VEVENT
BEGIN:VEVENT
DTSTART;VALUE=DATE:20260329
DTEND;VALUE=DATE:20260330
DTSTAMP:20260426T003511
CREATED:20251121T100623Z
LAST-MODIFIED:20260329T035105Z
UID:10001321-1774742400-1774828799@www.tennis.se
SUMMARY:Grundläggande Tävlingsledarutbildning (Syd - digitalt)
DESCRIPTION:Den här utbildningen är det tredje steget i utbildningsstegen för tävlingsledare\, därav är de två första stegen – Introduktionsutbildning för funktionärer och Matchledarutbildningen är förkunskapskrav. \nLänk till anmälan.
URL:https://www.tennis.se/kalender/grundlaggande-tavlingsledarutbildning-syd-digitalt-2/
CATEGORIES:Utbildning Funktionärer
ATTACH;FMTTYPE=image/jpeg:https://www.tennis.se/wp-content/uploads/2024/02/evenemang-utbildning.jpg
END:VEVENT
BEGIN:VEVENT
DTSTART;TZID=Europe/Stockholm:20260329T140000
DTEND;TZID=Europe/Stockholm:20260329T200000
DTSTAMP:20260426T003511
CREATED:20260303T045104Z
LAST-MODIFIED:20260329T035108Z
UID:10001470-1774792800-1774814400@www.tennis.se
SUMMARY:Matchledarutbildning Norr digitalt
DESCRIPTION:Matchledarutbildningen är det andra steget i utbildningsprogrammet för funktionärer. Introduktionsutbildning för funktionärer är förkunskapskrav. \nInformation och anmälan.
URL:https://www.tennis.se/kalender/matchledarutbildning-norr-digitalt-6/
CATEGORIES:Utbildning Funktionärer
ATTACH;FMTTYPE=image/jpeg:https://www.tennis.se/wp-content/uploads/2024/02/evenemang-utbildning.jpg
END:VEVENT
END:VCALENDAR