BEGIN:VCALENDAR
VERSION:2.0
PRODID:-//Svenska Tennisförbundet - ECPv6.15.20//NONSGML v1.0//EN
CALSCALE:GREGORIAN
METHOD:PUBLISH
X-ORIGINAL-URL:https://www.tennis.se
X-WR-CALDESC:Händelser för Svenska Tennisförbundet
REFRESH-INTERVAL;VALUE=DURATION:PT1H
X-Robots-Tag:noindex
X-PUBLISHED-TTL:PT1H
BEGIN:VTIMEZONE
TZID:Europe/Stockholm
BEGIN:DAYLIGHT
TZOFFSETFROM:+0100
TZOFFSETTO:+0200
TZNAME:CEST
DTSTART:20230326T010000
END:DAYLIGHT
BEGIN:STANDARD
TZOFFSETFROM:+0200
TZOFFSETTO:+0100
TZNAME:CET
DTSTART:20231029T010000
END:STANDARD
BEGIN:DAYLIGHT
TZOFFSETFROM:+0100
TZOFFSETTO:+0200
TZNAME:CEST
DTSTART:20240331T010000
END:DAYLIGHT
BEGIN:STANDARD
TZOFFSETFROM:+0200
TZOFFSETTO:+0100
TZNAME:CET
DTSTART:20241027T010000
END:STANDARD
BEGIN:DAYLIGHT
TZOFFSETFROM:+0100
TZOFFSETTO:+0200
TZNAME:CEST
DTSTART:20250330T010000
END:DAYLIGHT
BEGIN:STANDARD
TZOFFSETFROM:+0200
TZOFFSETTO:+0100
TZNAME:CET
DTSTART:20251026T010000
END:STANDARD
END:VTIMEZONE
BEGIN:VEVENT
DTSTART;VALUE=DATE:20240228
DTEND;VALUE=DATE:20240302
DTSTAMP:20260421T221304
CREATED:20240226T205730Z
LAST-MODIFIED:20240301T112140Z
UID:10000672-1709078400-1709337599@www.tennis.se
SUMMARY:Elitmöte
DESCRIPTION:
URL:https://www.tennis.se/kalender/elitmote/
CATEGORIES:Mötesplatser
ATTACH;FMTTYPE=image/jpeg:https://www.tennis.se/wp-content/uploads/2024/02/evenemang-motesplats.jpg
END:VEVENT
BEGIN:VEVENT
DTSTART;TZID=Europe/Stockholm:20240229T100000
DTEND;TZID=Europe/Stockholm:20240229T110000
DTSTAMP:20260421T221304
CREATED:20240226T205731Z
LAST-MODIFIED:20240228T105110Z
UID:10000673-1709200800-1709204400@www.tennis.se
SUMMARY:Mötesplats Svensk Tennis "Möt Unionen"
DESCRIPTION:På den här mötesplatsen välkomnar vi Dan Lundkvist från Unionen som kommer att berätta om deras arbete och hur de stöttar och hjälper sina medlemmar. Vi tittar på Branschavtal Idrott\, vilka skyldigheter och rättigheter som ligger på den anställda samt hur man kan undvika de vanligast förekommande konflikterna mellan arbetsgivare och arbetstagare. \nDatum: 29/2 kl. 10:00-11:00\nMålgrupp: Tränare och övriga anställda\nFöreläsare: Dan Lundkvist\nAnmälan: Anmäl dig här senast 28/2
URL:https://www.tennis.se/kalender/motesplats-svensk-tennis-mot-unionen/
LOCATION:Digitalt via Teams\, Sverige
CATEGORIES:Mötesplatser
ATTACH;FMTTYPE=image/jpeg:https://www.tennis.se/wp-content/uploads/2024/02/evenemang-motesplats-svensk-tennis.jpg
GEO:60.128161;18.643501
END:VEVENT
END:VCALENDAR