BEGIN:VCALENDAR
VERSION:2.0
PRODID:-//Svenska Tennisförbundet - ECPv6.15.20//NONSGML v1.0//EN
CALSCALE:GREGORIAN
METHOD:PUBLISH
X-WR-CALNAME:Svenska Tennisförbundet
X-ORIGINAL-URL:https://www.tennis.se
X-WR-CALDESC:Händelser för Svenska Tennisförbundet
REFRESH-INTERVAL;VALUE=DURATION:PT1H
X-Robots-Tag:noindex
X-PUBLISHED-TTL:PT1H
BEGIN:VTIMEZONE
TZID:Europe/Stockholm
BEGIN:DAYLIGHT
TZOFFSETFROM:+0100
TZOFFSETTO:+0200
TZNAME:CEST
DTSTART:20230326T010000
END:DAYLIGHT
BEGIN:STANDARD
TZOFFSETFROM:+0200
TZOFFSETTO:+0100
TZNAME:CET
DTSTART:20231029T010000
END:STANDARD
BEGIN:DAYLIGHT
TZOFFSETFROM:+0100
TZOFFSETTO:+0200
TZNAME:CEST
DTSTART:20240331T010000
END:DAYLIGHT
BEGIN:STANDARD
TZOFFSETFROM:+0200
TZOFFSETTO:+0100
TZNAME:CET
DTSTART:20241027T010000
END:STANDARD
BEGIN:DAYLIGHT
TZOFFSETFROM:+0100
TZOFFSETTO:+0200
TZNAME:CEST
DTSTART:20250330T010000
END:DAYLIGHT
BEGIN:STANDARD
TZOFFSETFROM:+0200
TZOFFSETTO:+0100
TZNAME:CET
DTSTART:20251026T010000
END:STANDARD
END:VTIMEZONE
BEGIN:VEVENT
DTSTART;TZID=Europe/Stockholm:20240612T090000
DTEND;TZID=Europe/Stockholm:20240612T120000
DTSTAMP:20260421T151140
CREATED:20240531T202103Z
LAST-MODIFIED:20240611T205103Z
UID:10000866-1718182800-1718193600@www.tennis.se
SUMMARY:Tävlingskonferens - Senaste nytt: regler och förändringar
DESCRIPTION:SvTFs tävlingsavdelning informerar om de senaste förändringar som har skett.  \nDenna träff är obligatorisk för alla förbundstävlingsledare. \nInfo och anmälan hittar ni här. \n \nAgenda:  \nRegler & regelförändringar \nTekniska hjälpmedel för tävlingarFunktionärer och funktionärsutbildningTournament plannerWTNÖvrigtDiskussion & frågor \n \nTeamslänken skickas ut den 10 juni. 
URL:https://www.tennis.se/kalender/tavlingskonferens-senaste-nytt-regler-och-forandringar/
CATEGORIES:Mötesplatser
ATTACH;FMTTYPE=image/jpeg:https://www.tennis.se/wp-content/uploads/2024/02/evenemang-motesplats.jpg
END:VEVENT
BEGIN:VEVENT
DTSTART;TZID=Europe/Stockholm:20240613T090000
DTEND;TZID=Europe/Stockholm:20240613T120000
DTSTAMP:20260421T151140
CREATED:20240531T202105Z
LAST-MODIFIED:20240611T205105Z
UID:10000867-1718269200-1718280000@www.tennis.se
SUMMARY:Mötesplats Svensk Tennis - Tävlingsinspiration och tips
DESCRIPTION:SvTFs bjuder in till en inspirationsträff för tennisföreningar med syfte att utveckla svenska tennis tävlingar. Info och anmälan hittar ni här. \n \nAgenda:  \nSkapa events av sina tävlingar \nSkapa trygga och inkluderande tävlingsmiljöerHur marknadsför man sin tävling på bästa sätt?Val av klassutbud och lottningsformerDiskussion & frågor \n \nTeamslänken skickas ut den 10 juni. 
URL:https://www.tennis.se/kalender/motesplats-svensk-tennis-tavlingsinspiration-och-tips/
CATEGORIES:Mötesplatser
ATTACH;FMTTYPE=image/jpeg:https://www.tennis.se/wp-content/uploads/2024/02/evenemang-motesplats.jpg
END:VEVENT
END:VCALENDAR