BEGIN:VCALENDAR
VERSION:2.0
PRODID:-//Svenska Tennisförbundet - ECPv6.15.20//NONSGML v1.0//EN
CALSCALE:GREGORIAN
METHOD:PUBLISH
X-ORIGINAL-URL:https://www.tennis.se
X-WR-CALDESC:Händelser för Svenska Tennisförbundet
REFRESH-INTERVAL;VALUE=DURATION:PT1H
X-Robots-Tag:noindex
X-PUBLISHED-TTL:PT1H
BEGIN:VTIMEZONE
TZID:Europe/Stockholm
BEGIN:DAYLIGHT
TZOFFSETFROM:+0100
TZOFFSETTO:+0200
TZNAME:CEST
DTSTART:20240331T010000
END:DAYLIGHT
BEGIN:STANDARD
TZOFFSETFROM:+0200
TZOFFSETTO:+0100
TZNAME:CET
DTSTART:20241027T010000
END:STANDARD
BEGIN:DAYLIGHT
TZOFFSETFROM:+0100
TZOFFSETTO:+0200
TZNAME:CEST
DTSTART:20250330T010000
END:DAYLIGHT
BEGIN:STANDARD
TZOFFSETFROM:+0200
TZOFFSETTO:+0100
TZNAME:CET
DTSTART:20251026T010000
END:STANDARD
BEGIN:DAYLIGHT
TZOFFSETFROM:+0100
TZOFFSETTO:+0200
TZNAME:CEST
DTSTART:20260329T010000
END:DAYLIGHT
BEGIN:STANDARD
TZOFFSETFROM:+0200
TZOFFSETTO:+0100
TZNAME:CET
DTSTART:20261025T010000
END:STANDARD
BEGIN:DAYLIGHT
TZOFFSETFROM:+0100
TZOFFSETTO:+0200
TZNAME:CEST
DTSTART:20270328T010000
END:DAYLIGHT
BEGIN:STANDARD
TZOFFSETFROM:+0200
TZOFFSETTO:+0100
TZNAME:CET
DTSTART:20271031T010000
END:STANDARD
END:VTIMEZONE
BEGIN:VEVENT
DTSTART;VALUE=DATE:20251226
DTEND;VALUE=DATE:20260107
DTSTAMP:20260425T134351
CREATED:20251009T063607Z
LAST-MODIFIED:20260106T225102Z
UID:10001270-1766707200-1767743999@www.tennis.se
SUMMARY:Salk Open
DESCRIPTION:
URL:https://www.tennis.se/kalender/salk-open-2/
LOCATION:SALK Hall\, Gustavslundsvägen 159\, 167 51 Bromma\, Sweden\, Sverige
CATEGORIES:Tävling Nationella med större status
ATTACH;FMTTYPE=image/jpeg:https://www.tennis.se/wp-content/uploads/2024/02/evenemang-tavling.jpg
GEO:59.332406480423;17.982065844127
END:VEVENT
BEGIN:VEVENT
DTSTART;VALUE=DATE:20251229
DTEND;VALUE=DATE:20260105
DTSTAMP:20260425T134351
CREATED:20251008T095113Z
LAST-MODIFIED:20260104T192113Z
UID:10001247-1766966400-1767571199@www.tennis.se
SUMMARY:Bromma J100
DESCRIPTION:
URL:https://www.tennis.se/kalender/bromma-j100-2/
LOCATION:Salk Tennisklubb Stockholm\, Gustavslundsvägen 159\, 167 51 Bromma\, Sverige\, Sverige
CATEGORIES:Tävling Internationella Junior
ATTACH;FMTTYPE=image/jpeg:https://www.tennis.se/wp-content/uploads/2024/02/evenemang-wtt.jpg
GEO:59.332485363128;17.981445617151
END:VEVENT
BEGIN:VEVENT
DTSTART;VALUE=DATE:20260103
DTEND;VALUE=DATE:20260107
DTSTAMP:20260425T134351
CREATED:20251107T105650Z
LAST-MODIFIED:20260106T190608Z
UID:10001302-1767398400-1767743999@www.tennis.se
SUMMARY:Nya Tunakannan - Vintertour 2026
DESCRIPTION:Factsheet och anmälan
URL:https://www.tennis.se/kalender/nya-tunakannan-vintertour-2026/
LOCATION:TK Hobby\, Vagnmakarevägen 6\, 633 62 Eskilstuna\, Sverige
CATEGORIES:Tävling Nationella Sommar- och Vintertour
ATTACH;FMTTYPE=image/jpeg:https://www.tennis.se/wp-content/uploads/2024/02/evenemang-sommar-vintertour.jpg
END:VEVENT
BEGIN:VEVENT
DTSTART;VALUE=DATE:20260103
DTEND;VALUE=DATE:20260111
DTSTAMP:20260425T134351
CREATED:20251008T095115Z
LAST-MODIFIED:20260110T192111Z
UID:10001248-1767398400-1768089599@www.tennis.se
SUMMARY:Malmö J60
DESCRIPTION:
URL:https://www.tennis.se/kalender/malmo-j60-2/
LOCATION:Fair Play Tennisklubb\, Erikslustvägen 56\, 217 73 Malmö\, Sweden\, Sverige
CATEGORIES:Tävling Internationella Junior
ATTACH;FMTTYPE=image/jpeg:https://www.tennis.se/wp-content/uploads/2024/02/evenemang-wtt.jpg
GEO:55.590240611263;12.960672983732
END:VEVENT
BEGIN:VEVENT
DTSTART;VALUE=DATE:20260105
DTEND;VALUE=DATE:20260112
DTSTAMP:20260425T134351
CREATED:20251008T095116Z
LAST-MODIFIED:20260111T192132Z
UID:10001249-1767571200-1768175999@www.tennis.se
SUMMARY:Helsingborg TE14 Kat3
DESCRIPTION:
URL:https://www.tennis.se/kalender/helsingborg-te14-kat3/
LOCATION:Helsingborgs Tennisklubb\, Filbornavägen 11\, 252 76 Helsingborg\, Sverige\, Sverige
CATEGORIES:Tävling Internationella Junior
ATTACH;FMTTYPE=image/jpeg:https://www.tennis.se/wp-content/uploads/2024/02/evenemang-wtt.jpg
GEO:56.051366561095;12.708526179079
END:VEVENT
BEGIN:VEVENT
DTSTART;VALUE=DATE:20260108
DTEND;VALUE=DATE:20260112
DTSTAMP:20260425T134351
CREATED:20251107T105653Z
LAST-MODIFIED:20260111T190609Z
UID:10001303-1767830400-1768175999@www.tennis.se
SUMMARY:Tabergsdalen Sigma - Vintertour 2026
DESCRIPTION:Factsheet och anmälan
URL:https://www.tennis.se/kalender/tabergsdalen-sigma-vintertour-2026/
LOCATION:Tabergsdalens Tennisklubb\, Vallgatan 20\, 562 33 Norrahammar\, Sverige\, Sverige
CATEGORIES:Tävling Nationella Sommar- och Vintertour
ATTACH;FMTTYPE=image/jpeg:https://www.tennis.se/wp-content/uploads/2024/02/evenemang-sommar-vintertour.jpg
GEO:57.705136567837;14.122499405517
END:VEVENT
BEGIN:VEVENT
DTSTART;VALUE=DATE:20260110
DTEND;VALUE=DATE:20260112
DTSTAMP:20260425T134351
CREATED:20251008T120649Z
LAST-MODIFIED:20260111T213604Z
UID:10001256-1768003200-1768175999@www.tennis.se
SUMMARY:STL Våren 2026 PF15AB
DESCRIPTION:
URL:https://www.tennis.se/kalender/stl-varen-2026-pf15ab/
CATEGORIES:Seriespel
ATTACH;FMTTYPE=image/jpeg:https://www.tennis.se/wp-content/uploads/2024/02/evenemang-stl.jpg
END:VEVENT
BEGIN:VEVENT
DTSTART;VALUE=DATE:20260110
DTEND;VALUE=DATE:20260112
DTSTAMP:20260425T134351
CREATED:20251121T102115Z
LAST-MODIFIED:20260111T220617Z
UID:10001336-1768003200-1768175999@www.tennis.se
SUMMARY:Bastränarutbildning Härnösand helg 1/2
DESCRIPTION:SvTF Bastränarutbildning är första steget i det nya utbildningsprogrammet för tränare. \nMer information och anmälan.
URL:https://www.tennis.se/kalender/bastranarutbildning-harnosand-helg-1-2/
LOCATION:Öbacka Sportcenter\, Brännavägen 160\, 871 62 Härnösand\, Sverige\, Sverige
CATEGORIES:Utbildning Tränare
ATTACH;FMTTYPE=image/jpeg:https://www.tennis.se/wp-content/uploads/2024/02/evenemang-utbildning.jpg
GEO:62.636242415129;17.965413425529
END:VEVENT
BEGIN:VEVENT
DTSTART;VALUE=DATE:20260117
DTEND;VALUE=DATE:20260119
DTSTAMP:20260425T134351
CREATED:20251008T120651Z
LAST-MODIFIED:20260118T215103Z
UID:10001257-1768608000-1768780799@www.tennis.se
SUMMARY:Svenska Juniorcupen Förkval Omg 1 & 2
DESCRIPTION:
URL:https://www.tennis.se/kalender/svenska-juniorcupen-forkval-omg-1-2/
CATEGORIES:Seriespel
ATTACH;FMTTYPE=image/jpeg:https://www.tennis.se/wp-content/uploads/2024/02/evenemang-stl.jpg
END:VEVENT
BEGIN:VEVENT
DTSTART;VALUE=DATE:20260117
DTEND;VALUE=DATE:20260119
DTSTAMP:20260425T134351
CREATED:20251008T120653Z
LAST-MODIFIED:20260118T215105Z
UID:10001258-1768608000-1768780799@www.tennis.se
SUMMARY:STL Våren 2026 PFJ13ABC
DESCRIPTION:
URL:https://www.tennis.se/kalender/stl-varen-2026-pfj13abc/
CATEGORIES:Seriespel
ATTACH;FMTTYPE=image/jpeg:https://www.tennis.se/wp-content/uploads/2024/02/evenemang-stl.jpg
END:VEVENT
BEGIN:VEVENT
DTSTART;VALUE=DATE:20260117
DTEND;VALUE=DATE:20260119
DTSTAMP:20260425T134351
CREATED:20251121T102117Z
LAST-MODIFIED:20260118T222107Z
UID:10001337-1768608000-1768780799@www.tennis.se
SUMMARY:Bastränarutbildning Enköping helg 2/2
DESCRIPTION:SvTF Bastränarutbildning är första steget i det nya utbildningsprogrammet för tränare. \nMer information och anmälan.
URL:https://www.tennis.se/kalender/bastranarutbildning-enkoping-helg-2-2/
LOCATION:Enköpings Tennisklubb\, Bangårdsgatan 4\, 745 34 Enköping\, Sverige\, Sverige
CATEGORIES:Utbildning Tränare
ATTACH;FMTTYPE=image/jpeg:https://www.tennis.se/wp-content/uploads/2024/02/evenemang-utbildning.jpg
GEO:59.642521746605;17.094823555784
END:VEVENT
BEGIN:VEVENT
DTSTART;VALUE=DATE:20260119
DTEND;VALUE=DATE:20260126
DTSTAMP:20260425T134351
CREATED:20260112T193608Z
LAST-MODIFIED:20260125T135128Z
UID:10001375-1768780800-1769385599@www.tennis.se
SUMMARY:TE14 Bolton\, GBR
DESCRIPTION:
URL:https://www.tennis.se/kalender/te14-bolton-gbr/
LOCATION:Bolton\, Storbritannien\, Sverige
CATEGORIES:Elit/Landslag Tävlingsspel
ATTACH;FMTTYPE=image/jpeg:https://www.tennis.se/wp-content/uploads/2026/01/kalender-elit-landslag-tavlingsspel.jpg
GEO:53.578355149224;-2.4290449624558
END:VEVENT
BEGIN:VEVENT
DTSTART;VALUE=DATE:20260121
DTEND;VALUE=DATE:20260122
DTSTAMP:20260425T134351
CREATED:20251121T100611Z
LAST-MODIFIED:20260121T035105Z
UID:10001314-1768953600-1769039999@www.tennis.se
SUMMARY:Matchledarutbildning Norr digitalt
DESCRIPTION:Matchledarutbildningen är det andra steget i utbildningsprogrammet för funktionärer. Introduktionsutbildning för funktionärer är förkunskapskrav. \nInformation och anmälan.
URL:https://www.tennis.se/kalender/matchledarutbildning-norr-digitalt-5/
CATEGORIES:Utbildning Funktionärer
ATTACH;FMTTYPE=image/jpeg:https://www.tennis.se/wp-content/uploads/2024/02/evenemang-utbildning.jpg
END:VEVENT
BEGIN:VEVENT
DTSTART;VALUE=DATE:20260124
DTEND;VALUE=DATE:20260125
DTSTAMP:20260425T134351
CREATED:20251008T120655Z
LAST-MODIFIED:20260124T215110Z
UID:10001259-1769212800-1769299199@www.tennis.se
SUMMARY:Svenska Juniorcupen Förkval Omg 3
DESCRIPTION:
URL:https://www.tennis.se/kalender/svenska-juniorcupen-forkval-omg-3/
CATEGORIES:Seriespel
ATTACH;FMTTYPE=image/jpeg:https://www.tennis.se/wp-content/uploads/2024/02/evenemang-stl.jpg
END:VEVENT
BEGIN:VEVENT
DTSTART;VALUE=DATE:20260124
DTEND;VALUE=DATE:20260126
DTSTAMP:20260425T134351
CREATED:20251008T120656Z
LAST-MODIFIED:20260125T215129Z
UID:10001260-1769212800-1769385599@www.tennis.se
SUMMARY:STL Våren 2026 Orange & Grön
DESCRIPTION:
URL:https://www.tennis.se/kalender/stl-varen-2026-orange-gron/
CATEGORIES:Seriespel
ATTACH;FMTTYPE=image/jpeg:https://www.tennis.se/wp-content/uploads/2024/02/evenemang-stl.jpg
END:VEVENT
BEGIN:VEVENT
DTSTART;TZID=Europe/Stockholm:20260125T140000
DTEND;TZID=Europe/Stockholm:20260125T200000
DTSTAMP:20260425T134351
CREATED:20251126T103604Z
LAST-MODIFIED:20260125T035112Z
UID:10001363-1769349600-1769371200@www.tennis.se
SUMMARY:Grundläggande Tävlingsledarutbildning (Norr - digitalt)
DESCRIPTION:Den här utbildningen är det tredje steget i utbildningsstegen för tävlingsledare\, därav är de två första stegen – Introduktionsutbildning för funktionärer och Matchledarutbildningen är förkunskapskrav. \nLänk till anmälan.
URL:https://www.tennis.se/kalender/grundlaggande-tavlingsledarutbildning-norr-digitalt-4/
CATEGORIES:Utbildning Funktionärer
ATTACH;FMTTYPE=image/jpeg:https://www.tennis.se/wp-content/uploads/2024/02/evenemang-utbildning.jpg
END:VEVENT
BEGIN:VEVENT
DTSTART;VALUE=DATE:20260126
DTEND;VALUE=DATE:20260202
DTSTAMP:20260425T134351
CREATED:20260112T193611Z
LAST-MODIFIED:20260201T140604Z
UID:10001376-1769385600-1769990399@www.tennis.se
SUMMARY:TE14 Tarbes\, FRA
DESCRIPTION:
URL:https://www.tennis.se/kalender/te14-tarbes-fra/
LOCATION:Tarbes\, Frankrike\, Sverige
CATEGORIES:Elit/Landslag Tävlingsspel
ATTACH;FMTTYPE=image/jpeg:https://www.tennis.se/wp-content/uploads/2026/01/kalender-elit-landslag-tavlingsspel.jpg
GEO:43.234288758874;0.073242206467016
END:VEVENT
BEGIN:VEVENT
DTSTART;VALUE=DATE:20260129
DTEND;VALUE=DATE:20260202
DTSTAMP:20260425T134351
CREATED:20251107T105656Z
LAST-MODIFIED:20260201T193624Z
UID:10001304-1769644800-1769990399@www.tennis.se
SUMMARY:Elfsborgs Tennisvecka - Vintertour 2026
DESCRIPTION:Factsheet och anmälan
URL:https://www.tennis.se/kalender/elfsborgs-tennisvecka-vintertour-2026/
LOCATION:Borås Tenniscenter\, Ålgårdsvägen 30\, 506 30 Borås\, Sverige\, Sverige
CATEGORIES:Tävling Nationella Sommar- och Vintertour
ATTACH;FMTTYPE=image/jpeg:https://www.tennis.se/wp-content/uploads/2024/02/evenemang-sommar-vintertour.jpg
GEO:57.734984177193;12.932287543607
END:VEVENT
BEGIN:VEVENT
DTSTART;VALUE=DATE:20260130
DTEND;VALUE=DATE:20260202
DTSTAMP:20260425T134351
CREATED:20251008T120658Z
LAST-MODIFIED:20260201T223704Z
UID:10001261-1769731200-1769990399@www.tennis.se
SUMMARY:STL Våren 2026 PF15AB
DESCRIPTION:
URL:https://www.tennis.se/kalender/stl-varen-2026-pf15ab-2/
CATEGORIES:Seriespel
ATTACH;FMTTYPE=image/jpeg:https://www.tennis.se/wp-content/uploads/2024/02/evenemang-stl.jpg
END:VEVENT
BEGIN:VEVENT
DTSTART;VALUE=DATE:20260130
DTEND;VALUE=DATE:20260202
DTSTAMP:20260425T134351
CREATED:20260122T132838Z
LAST-MODIFIED:20260201T143659Z
UID:10001395-1769731200-1769990399@www.tennis.se
SUMMARY:Tennis Europe Winter Cups Flickor 12
DESCRIPTION:Gruppspel
URL:https://www.tennis.se/kalender/tennis-europe-winter-cups-flickor-12/
LOCATION:Tallinn\, Estland
CATEGORIES:Elit/Landslag Landslagsspel
ATTACH;FMTTYPE=image/jpeg:https://www.tennis.se/wp-content/uploads/2026/01/kalender-elit-landslag-landslagsspel.jpg
END:VEVENT
BEGIN:VEVENT
DTSTART;VALUE=DATE:20260131
DTEND;VALUE=DATE:20260201
DTSTAMP:20260425T134351
CREATED:20251008T120700Z
LAST-MODIFIED:20260131T223603Z
UID:10001262-1769817600-1769903999@www.tennis.se
SUMMARY:STL Våren 2026 Orange & Grön
DESCRIPTION:
URL:https://www.tennis.se/kalender/stl-varen-2026-orange-gron-2/
CATEGORIES:Seriespel
ATTACH;FMTTYPE=image/jpeg:https://www.tennis.se/wp-content/uploads/2024/02/evenemang-stl.jpg
END:VEVENT
BEGIN:VEVENT
DTSTART;VALUE=DATE:20260131
DTEND;VALUE=DATE:20260202
DTSTAMP:20260425T134351
CREATED:20251121T100610Z
LAST-MODIFIED:20260201T040604Z
UID:10001313-1769817600-1769990399@www.tennis.se
SUMMARY:Förbundstävlingsledarutbildning\, Göteborg
DESCRIPTION:Genomförd och godkänd förbundstävlingsledarutbildning är förbundets krav för att få vara tävlingsledare på nationella tävlingar i Sverige. Förkunskapskraven är genomförd och godkänd Grundläggande tävlingsledarutbildning (inklusive matchledarutbildning). \nInformation och anmälan.
URL:https://www.tennis.se/kalender/forbundstavlingsledarutbildning-goteborg/
CATEGORIES:Utbildning Funktionärer
ATTACH;FMTTYPE=image/jpeg:https://www.tennis.se/wp-content/uploads/2024/02/evenemang-utbildning.jpg
END:VEVENT
BEGIN:VEVENT
DTSTART;VALUE=DATE:20260131
DTEND;VALUE=DATE:20260202
DTSTAMP:20260425T134351
CREATED:20251121T102118Z
LAST-MODIFIED:20260201T235106Z
UID:10001338-1769817600-1769990399@www.tennis.se
SUMMARY:Bastränarutbildning Stockholm helg 1/2
DESCRIPTION:SvTF Bastränarutbildning är första steget i det nya utbildningsprogrammet för tränare. \nMer information och anmälan.
URL:https://www.tennis.se/kalender/bastranarutbildning-stockholm-helg-1-2-8/
CATEGORIES:Utbildning Tränare
ATTACH;FMTTYPE=image/jpeg:https://www.tennis.se/wp-content/uploads/2024/02/evenemang-utbildning.jpg
END:VEVENT
BEGIN:VEVENT
DTSTART;VALUE=DATE:20260131
DTEND;VALUE=DATE:20260203
DTSTAMP:20260425T134351
CREATED:20260122T132743Z
LAST-MODIFIED:20260202T235157Z
UID:10001386-1769817600-1770076799@www.tennis.se
SUMMARY:Samling inför Winter Cups P16 F16 P14
DESCRIPTION:
URL:https://www.tennis.se/kalender/samling-infor-winter-cups-p16-f16-p14/
LOCATION:Båstad Sportcenter\, Korrödsvägen 9\, 269 38 Båstad\, Sverige\, Sverige
CATEGORIES:Elit/Landslag läger
ATTACH;FMTTYPE=image/jpeg:https://www.tennis.se/wp-content/uploads/2024/03/evenemang-lager-o-aktiviteter.jpg
GEO:56.424097023863;12.856890887878
END:VEVENT
BEGIN:VEVENT
DTSTART;VALUE=DATE:20260203
DTEND;VALUE=DATE:20260204
DTSTAMP:20260425T134351
CREATED:20251121T100613Z
LAST-MODIFIED:20260203T040611Z
UID:10001315-1770076800-1770163199@www.tennis.se
SUMMARY:Matchledarutbildning Väst digitalt
DESCRIPTION:Matchledarutbildningen är det andra steget i utbildningsprogrammet för funktionärer. Introduktionsutbildning för funktionärer är förkunskapskrav. \nInformation och anmälan.
URL:https://www.tennis.se/kalender/matchledarutbildning-vast-digitalt-4/
CATEGORIES:Utbildning Funktionärer
ATTACH;FMTTYPE=image/jpeg:https://www.tennis.se/wp-content/uploads/2024/02/evenemang-utbildning.jpg
END:VEVENT
BEGIN:VEVENT
DTSTART;VALUE=DATE:20260204
DTEND;VALUE=DATE:20260207
DTSTAMP:20260425T134351
CREATED:20260122T132854Z
LAST-MODIFIED:20260206T150625Z
UID:10001398-1770163200-1770422399@www.tennis.se
SUMMARY:Tennis Europe Winter Cups Pojkar 16
DESCRIPTION:Gruppspel TE Winter Cups
URL:https://www.tennis.se/kalender/tennis-europe-winter-cups-pojkar-16/
LOCATION:Asten\, Nederländerna
CATEGORIES:Elit/Landslag Landslagsspel
ATTACH;FMTTYPE=image/jpeg:https://www.tennis.se/wp-content/uploads/2026/01/kalender-elit-landslag-landslagsspel.jpg
END:VEVENT
BEGIN:VEVENT
DTSTART;VALUE=DATE:20260204
DTEND;VALUE=DATE:20260207
DTSTAMP:20260425T134351
CREATED:20260122T132859Z
LAST-MODIFIED:20260206T150629Z
UID:10001399-1770163200-1770422399@www.tennis.se
SUMMARY:Tennis Europe Winter Cups Pojkar 14
DESCRIPTION:Gruppspel TE Winter Cups
URL:https://www.tennis.se/kalender/tennis-europe-winter-cups-pojkar-14/
LOCATION:Altamura\, 70022 Altamura\, Bari\, Italien
CATEGORIES:Elit/Landslag Landslagsspel
ATTACH;FMTTYPE=image/jpeg:https://www.tennis.se/wp-content/uploads/2026/01/kalender-elit-landslag-landslagsspel.jpg
END:VEVENT
BEGIN:VEVENT
DTSTART;VALUE=DATE:20260204
DTEND;VALUE=DATE:20260207
DTSTAMP:20260425T134351
CREATED:20260122T132903Z
LAST-MODIFIED:20260206T150631Z
UID:10001400-1770163200-1770422399@www.tennis.se
SUMMARY:Tennis Europe Winter Cups Flickor 16
DESCRIPTION:Gruppspel TE Winter Cups
URL:https://www.tennis.se/kalender/tennis-europe-winter-cups-flickor-16/
LOCATION:Pszczyna\, Polen
CATEGORIES:Elit/Landslag Landslagsspel
ATTACH;FMTTYPE=image/jpeg:https://www.tennis.se/wp-content/uploads/2026/01/kalender-elit-landslag-landslagsspel.jpg
END:VEVENT
BEGIN:VEVENT
DTSTART;VALUE=DATE:20260205
DTEND;VALUE=DATE:20260208
DTSTAMP:20260425T134351
CREATED:20251008T095118Z
LAST-MODIFIED:20260207T205124Z
UID:10001250-1770249600-1770508799@www.tennis.se
SUMMARY:Winter Cups Qualifying
DESCRIPTION:
URL:https://www.tennis.se/kalender/winter-cups-qualifying-2/
LOCATION:Svedala tennishall\, Tennisgatan 3\, 233 32 Svedala\, Sweden\, Sverige
CATEGORIES:Tävling Internationella Junior
ATTACH;FMTTYPE=image/jpeg:https://www.tennis.se/wp-content/uploads/2026/01/kalender-internationella-juniortavl.jpg
GEO:55.514652637972;13.230717821819
END:VEVENT
BEGIN:VEVENT
DTSTART;VALUE=DATE:20260205
DTEND;VALUE=DATE:20260208
DTSTAMP:20260425T134351
CREATED:20251107T105659Z
LAST-MODIFIED:20260207T143704Z
UID:10001305-1770249600-1770508799@www.tennis.se
SUMMARY:XL Bygg indoor - Vintertour 2026
DESCRIPTION:Factsheet och Anmälan
URL:https://www.tennis.se/kalender/xl-bygg-indoor-vintertour-2026/
LOCATION:Oskarshamns TK\, Döderhultsvägen 11\, 572 31 Oskarshamn\, Sverige\, Sverige
CATEGORIES:Tävling Nationella Sommar- och Vintertour
ATTACH;FMTTYPE=image/jpeg:https://www.tennis.se/wp-content/uploads/2024/02/evenemang-sommar-vintertour.jpg
GEO:57.264640345039;16.431324671121
END:VEVENT
END:VCALENDAR