BEGIN:VCALENDAR
VERSION:2.0
PRODID:-//Svenska Tennisförbundet - ECPv6.15.20//NONSGML v1.0//EN
CALSCALE:GREGORIAN
METHOD:PUBLISH
X-WR-CALNAME:Svenska Tennisförbundet
X-ORIGINAL-URL:https://www.tennis.se
X-WR-CALDESC:Händelser för Svenska Tennisförbundet
REFRESH-INTERVAL;VALUE=DURATION:PT1H
X-Robots-Tag:noindex
X-PUBLISHED-TTL:PT1H
BEGIN:VTIMEZONE
TZID:Europe/Stockholm
BEGIN:DAYLIGHT
TZOFFSETFROM:+0100
TZOFFSETTO:+0200
TZNAME:CEST
DTSTART:20200329T010000
END:DAYLIGHT
BEGIN:STANDARD
TZOFFSETFROM:+0200
TZOFFSETTO:+0100
TZNAME:CET
DTSTART:20201025T010000
END:STANDARD
BEGIN:DAYLIGHT
TZOFFSETFROM:+0100
TZOFFSETTO:+0200
TZNAME:CEST
DTSTART:20210328T010000
END:DAYLIGHT
BEGIN:STANDARD
TZOFFSETFROM:+0200
TZOFFSETTO:+0100
TZNAME:CET
DTSTART:20211031T010000
END:STANDARD
BEGIN:DAYLIGHT
TZOFFSETFROM:+0100
TZOFFSETTO:+0200
TZNAME:CEST
DTSTART:20220327T010000
END:DAYLIGHT
BEGIN:STANDARD
TZOFFSETFROM:+0200
TZOFFSETTO:+0100
TZNAME:CET
DTSTART:20221030T010000
END:STANDARD
END:VTIMEZONE
BEGIN:VEVENT
DTSTART;TZID=Europe/Stockholm:20211009T080000
DTEND;TZID=Europe/Stockholm:20211013T170000
DTSTAMP:20260420T060444
CREATED:20210703T215531Z
LAST-MODIFIED:20210922T115156Z
UID:10000234-1633766400-1634144400@www.tennis.se
SUMMARY:Läger i Portugal
DESCRIPTION:Läger\, rullstolstennis i Vilamoura\, Portugal.  \n\n\n\nUnga\, med stöd av landslagAnsvarig för aktiviteten är Jens Nilsson
URL:https://www.tennis.se/kalender/lager-tavling-i-portugal/
CATEGORIES:Paratennis
ATTACH;FMTTYPE=image/jpeg:https://www.tennis.se/wp-content/uploads/2021/07/nyborjare.jpg
END:VEVENT
BEGIN:VEVENT
DTSTART;TZID=Europe/Stockholm:20211014T080000
DTEND;TZID=Europe/Stockholm:20211017T170000
DTSTAMP:20260420T060444
CREATED:20210922T114601Z
LAST-MODIFIED:20210922T114607Z
UID:10000236-1634198400-1634490000@www.tennis.se
SUMMARY:ITF Futures i Portugal
DESCRIPTION:ITF-Futures-tävling som spelas i Porto 14-17 oktober.INTERNATIONAL WHEELCHAIR CLUBE TENIS PORTO 2021Ansvarig för aktiviteten är Toni Gustavsson
URL:https://www.tennis.se/kalender/itf-futures-i-portugal/
CATEGORIES:Paratennis
ATTACH;FMTTYPE=image/jpeg:https://www.tennis.se/wp-content/uploads/2021/07/tavling.jpg
END:VEVENT
BEGIN:VEVENT
DTSTART;TZID=Europe/Stockholm:20211023T140000
DTEND;TZID=Europe/Stockholm:20211023T180000
DTSTAMP:20260420T060444
CREATED:20210703T213929Z
LAST-MODIFIED:20211017T152655Z
UID:10000232-1634997600-1635012000@www.tennis.se
SUMMARY:Tränarutbildning i Göteborg
DESCRIPTION:En unik möjlighet att både bredda tränarkunskaperna och möjliggöra ännu mer tennis i er klubb\, tillsammans med Stefan Olsson (flerfaldig Wimbledonmästare\, samt guld- oh silvermedaljör i Paralympics)\, samt Petter Edström & Emil Holmgren från SvTFs Paratennisråd. Utbildningens inriktning är Rullstolstennis. Kursen är både teoretisk och praktisk och genomförs hos Ullevi TK i samarbete med Svenska Tennisförbundet Göteborg.Klicka här för ytterligare information.
URL:https://www.tennis.se/kalender/nyborjarlager-i-goteborg-datum-och-plats-ej-bestamt/
CATEGORIES:Paratennis
ATTACH;FMTTYPE=image/jpeg:https://www.tennis.se/wp-content/uploads/2021/08/BB210827BB628-scaled.jpg
END:VEVENT
END:VCALENDAR