BEGIN:VCALENDAR
VERSION:2.0
PRODID:-//Svenska Tennisförbundet - ECPv6.15.20//NONSGML v1.0//EN
CALSCALE:GREGORIAN
METHOD:PUBLISH
X-WR-CALNAME:Svenska Tennisförbundet
X-ORIGINAL-URL:https://www.tennis.se
X-WR-CALDESC:Händelser för Svenska Tennisförbundet
REFRESH-INTERVAL;VALUE=DURATION:PT1H
X-Robots-Tag:noindex
X-PUBLISHED-TTL:PT1H
BEGIN:VTIMEZONE
TZID:UTC
BEGIN:STANDARD
TZOFFSETFROM:+0000
TZOFFSETTO:+0000
TZNAME:UTC
DTSTART:20210101T000000
END:STANDARD
END:VTIMEZONE
BEGIN:VEVENT
DTSTART;TZID=UTC:20220507T110000
DTEND;TZID=UTC:20220508T120000
DTSTAMP:20260419T172445
CREATED:20220329T081721Z
LAST-MODIFIED:20220329T082834Z
UID:10000240-1651921200-1652011200@www.tennis.se
SUMMARY:Paratennisläger
DESCRIPTION:Västerhaninge Racket och Idrottsklubb\, i samarbete med Svenska Tennisförbundets paratennisråd\, bjuder härmed in till ett paratennisläger (stående). Vi kommer spela tennis\, skapa gemensamma trivsamma aktiviteter och framför allt ha så roligt som möjligt. Detta läger riktar sig till personer med intellektuell funktionsnedsättning\, neuropsykiatriska funktionsnedsättningar (NPF) och personer med rörelsenedsättning som har spelat tidigare. \n\n\n\nDatum:Lördag och söndag 7–8 majLördagPass 1 – 11:00-12:30 (tennis)Lunch 12:30 – 13:30Pass 2 – 13:30 – 15:00 (tennis)FikaPass 3 – 15:30 – 17:00 (annan aktivitet)SöndagPass 1 – 09:00-10:30 (tennis)FikaPass 2 – 11:00-12:00 (tennis)Lättare lunch \n\n\n\nVar: Västerhaninge Racket och Idrottsklubb\, Rörvägen 13\, 136 50 HaningeKostnad: 300:- inkluderar träning\, fika\, lunchBoende: Quality Hotel Winn Haninge enkelrum 650:-\, dubbelrum 800:-. Bokning sker via q.winn.haninge@choice.se. Ange rabattkod TENNIS när ni bokar hotellet. Transport mellan hotellet och tennisklubben kan ordnas.Ledare: Serdar Kaya\, Rickard Hogla\, Edin Jakupi och Molly Alsterqvist \n\n\n\nAnmälan skickas till Serdar Kaya på serdar@vrik.se senast den 27 april.Vid anmälan ange:• Namn på spelare och ev. assistent• Telefonnummer• Mailadress• Typ av funktionsnedsättning• Allergier\, känslighet• Ankomst och behov av transport mellan hotell och tennishallFrågor?Kontakta Mikaela Lecomte  \n\n\n\nSeger mikaela.lecomte.seger@rfsisu.se eller Serdar Kaya serdar@vrik.se.Varmt välkomna!
URL:https://www.tennis.se/kalender/21197/
CATEGORIES:Paratennis
ATTACH;FMTTYPE=image/jpeg:https://www.tennis.se/wp-content/uploads/2019/04/staende-funktionshindrade.jpg
ORGANIZER;CN="V%C3%A4sterhaninge Racket och Idrottsklubb":MAILTO:kansliet@vrik.se
END:VEVENT
END:VCALENDAR