BEGIN:VCALENDAR
VERSION:2.0
PRODID:-//Svenska Tennisförbundet - ECPv6.15.20//NONSGML v1.0//EN
CALSCALE:GREGORIAN
METHOD:PUBLISH
X-ORIGINAL-URL:https://www.tennis.se
X-WR-CALDESC:Händelser för Svenska Tennisförbundet
REFRESH-INTERVAL;VALUE=DURATION:PT1H
X-Robots-Tag:noindex
X-PUBLISHED-TTL:PT1H
BEGIN:VTIMEZONE
TZID:Europe/Stockholm
BEGIN:DAYLIGHT
TZOFFSETFROM:+0100
TZOFFSETTO:+0200
TZNAME:CEST
DTSTART:20210328T010000
END:DAYLIGHT
BEGIN:STANDARD
TZOFFSETFROM:+0200
TZOFFSETTO:+0100
TZNAME:CET
DTSTART:20211031T010000
END:STANDARD
BEGIN:DAYLIGHT
TZOFFSETFROM:+0100
TZOFFSETTO:+0200
TZNAME:CEST
DTSTART:20220327T010000
END:DAYLIGHT
BEGIN:STANDARD
TZOFFSETFROM:+0200
TZOFFSETTO:+0100
TZNAME:CET
DTSTART:20221030T010000
END:STANDARD
BEGIN:DAYLIGHT
TZOFFSETFROM:+0100
TZOFFSETTO:+0200
TZNAME:CEST
DTSTART:20230326T010000
END:DAYLIGHT
BEGIN:STANDARD
TZOFFSETFROM:+0200
TZOFFSETTO:+0100
TZNAME:CET
DTSTART:20231029T010000
END:STANDARD
END:VTIMEZONE
BEGIN:VEVENT
DTSTART;TZID=Europe/Stockholm:20220604T170000
DTEND;TZID=Europe/Stockholm:20220605T160000
DTSTAMP:20260419T154012
CREATED:20220511T152502Z
LAST-MODIFIED:20220511T152506Z
UID:10000241-1654362000-1654444800@www.tennis.se
SUMMARY:Paratennistävling Danderyd Open
DESCRIPTION:Tävlingen äger rum i Danderydshallen \n\n\n\nMatchtider:  \n\n\n\nLördag 4/6 kl 17.00 – 20.00 \n\n\n\nSöndag 5/6 kl 13.00 – 16.00 \n\n\n\nVi kommer att spela i 2 klasser\, Intellektuell funktionsnedsättning och Rörelsenedsättning \n\n\n\nAnmälningsavgift: 150 kr \n\n\n\nAnmälan senast 27 maj. \n\n\n\nVi behöver veta följande: \n\n\n\nNamn på spelare och ev assistentTelefonnummerMailadressTyp av funktionsnedsättning\n\n\n\nAnmälan för deltagande sker till Lennart Sjöberg; lennart.sjoberg@dtk.se \n\n\n\nSvenska Tennisförbundet\, Paratennisrådet. \n\n\n\nKontaktpersoner Danderyd Open \n\n\n\nLennart Sjöberg\, mobil 070-742 11 19 \n\n\n\nTävlingsledare Mikaela Lecomte Seger mobil 070-799 36 29
URL:https://www.tennis.se/kalender/paratennistavling-danderyd-open/
CATEGORIES:Paratennis
ATTACH;FMTTYPE=image/jpeg:https://www.tennis.se/wp-content/uploads/2022/05/280369868_5083268941793553_5821641043217618870_n.jpg
ORGANIZER;CN="Danderyds TK":MAILTO:lennart.sjoberg@dtk.se
END:VEVENT
END:VCALENDAR