BEGIN:VCALENDAR
VERSION:2.0
PRODID:-//Svenska Tennisförbundet - ECPv6.15.20//NONSGML v1.0//EN
CALSCALE:GREGORIAN
METHOD:PUBLISH
X-WR-CALNAME:Svenska Tennisförbundet
X-ORIGINAL-URL:https://www.tennis.se
X-WR-CALDESC:Händelser för Svenska Tennisförbundet
REFRESH-INTERVAL;VALUE=DURATION:PT1H
X-Robots-Tag:noindex
X-PUBLISHED-TTL:PT1H
BEGIN:VTIMEZONE
TZID:Europe/Stockholm
BEGIN:DAYLIGHT
TZOFFSETFROM:+0100
TZOFFSETTO:+0200
TZNAME:CEST
DTSTART:20230326T010000
END:DAYLIGHT
BEGIN:STANDARD
TZOFFSETFROM:+0200
TZOFFSETTO:+0100
TZNAME:CET
DTSTART:20231029T010000
END:STANDARD
BEGIN:DAYLIGHT
TZOFFSETFROM:+0100
TZOFFSETTO:+0200
TZNAME:CEST
DTSTART:20240331T010000
END:DAYLIGHT
BEGIN:STANDARD
TZOFFSETFROM:+0200
TZOFFSETTO:+0100
TZNAME:CET
DTSTART:20241027T010000
END:STANDARD
BEGIN:DAYLIGHT
TZOFFSETFROM:+0100
TZOFFSETTO:+0200
TZNAME:CEST
DTSTART:20250330T010000
END:DAYLIGHT
BEGIN:STANDARD
TZOFFSETFROM:+0200
TZOFFSETTO:+0100
TZNAME:CET
DTSTART:20251026T010000
END:STANDARD
END:VTIMEZONE
BEGIN:VEVENT
DTSTART;VALUE=DATE:20240528
DTEND;VALUE=DATE:20240602
DTSTAMP:20260423T005520
CREATED:20240226T205526Z
LAST-MODIFIED:20240601T182107Z
UID:10000626-1716854400-1717286399@www.tennis.se
SUMMARY:Euro Finans - JSM Race (16)
DESCRIPTION:Factsheet och anmälan
URL:https://www.tennis.se/kalender/euro-finans-jsm-race-16/
LOCATION:Allmänna Tennisklubben Lund\, Lovisastigen 4\, 222 41 Lund\, Sweden\, Sverige
CATEGORIES:Tävling Nationella JSM Race
ATTACH;FMTTYPE=image/jpeg:https://www.tennis.se/wp-content/uploads/2024/02/evenemang-jsm-race.jpg
GEO:55.719717802666;13.200710245236
END:VEVENT
BEGIN:VEVENT
DTSTART;VALUE=DATE:20240528
DTEND;VALUE=DATE:20240603
DTSTAMP:20260423T005521
CREATED:20240226T205525Z
LAST-MODIFIED:20240602T182111Z
UID:10000625-1716854400-1717372799@www.tennis.se
SUMMARY:Riviera Tennis - JSM Race (14\, 16\, 18)
DESCRIPTION:Factsheet och anmälan
URL:https://www.tennis.se/kalender/riviera-tennis-jsm-race-14-16-18/
LOCATION:Piteå Tennisklubb\, Batterigatan 3\, 941 47 Piteå\, Sweden\, Sverige
CATEGORIES:Tävling Nationella JSM Race
ATTACH;FMTTYPE=image/jpeg:https://www.tennis.se/wp-content/uploads/2024/02/evenemang-jsm-race.jpg
GEO:65.319691180887;21.441047409385
END:VEVENT
BEGIN:VEVENT
DTSTART;VALUE=DATE:20240529
DTEND;VALUE=DATE:20240602
DTSTAMP:20260423T005521
CREATED:20240226T205527Z
LAST-MODIFIED:20240601T182109Z
UID:10000627-1716940800-1717286399@www.tennis.se
SUMMARY:Långtora Open - JSM Race (14)
DESCRIPTION:Factsheet och anmälan
URL:https://www.tennis.se/kalender/langtora-open-jsm-race-14/
LOCATION:Långtora tennis\, LÅNGTORA LYGNESTA 1\, 745 96 Enköping\, Sweden\, Sverige
CATEGORIES:Tävling Nationella JSM Race
ATTACH;FMTTYPE=image/jpeg:https://www.tennis.se/wp-content/uploads/2024/02/evenemang-jsm-race.jpg
GEO:59.725447902744;17.124497187993
END:VEVENT
BEGIN:VEVENT
DTSTART;VALUE=DATE:20240601
DTEND;VALUE=DATE:20240606
DTSTAMP:20260423T005521
CREATED:20240226T205528Z
LAST-MODIFIED:20240605T185156Z
UID:10000628-1717200000-1717631999@www.tennis.se
SUMMARY:Söndrums TK:s - JSM-Race (14)
DESCRIPTION:Factsheet och anmälan
URL:https://www.tennis.se/kalender/sondrums-tks-jsm-race-14/
LOCATION:Söndrums Tennisklubb\, Bäckagårdsvägen 130\, 302 41 Halmstad\, Sweden\, Sverige
CATEGORIES:Tävling Nationella JSM Race
ATTACH;FMTTYPE=image/jpeg:https://www.tennis.se/wp-content/uploads/2024/02/evenemang-jsm-race.jpg
GEO:56.669527046924;12.795130500169
END:VEVENT
BEGIN:VEVENT
DTSTART;VALUE=DATE:20240601
DTEND;VALUE=DATE:20240606
DTSTAMP:20260423T005521
CREATED:20240226T205530Z
LAST-MODIFIED:20240605T185157Z
UID:10000629-1717200000-1717631999@www.tennis.se
SUMMARY:Åby TK - JSM Race (16)
DESCRIPTION:Factsheet och anmälan
URL:https://www.tennis.se/kalender/aby-tk-jsm-race-16/
LOCATION:Tennisklubb Åby\, Tennisvägen 2\, 616 34 Åby\, Sweden\, Sverige
CATEGORIES:Tävling Nationella JSM Race
ATTACH;FMTTYPE=image/jpeg:https://www.tennis.se/wp-content/uploads/2024/02/evenemang-jsm-race.jpg
GEO:58.658751163074;16.171206640309
END:VEVENT
BEGIN:VEVENT
DTSTART;VALUE=DATE:20240613
DTEND;VALUE=DATE:20240620
DTSTAMP:20260423T005521
CREATED:20240226T205532Z
LAST-MODIFIED:20240619T193702Z
UID:10000630-1718236800-1718841599@www.tennis.se
SUMMARY:Corem Open - JSM Race (14)
DESCRIPTION:Factsheet och anmälan
URL:https://www.tennis.se/kalender/corem-open-jsm-race-14/
LOCATION:Båstad Sportcenter\, Korrödsvägen 9\, 269 38 Båstad\, Sweden\, Sverige
CATEGORIES:Tävling Nationella JSM Race
ATTACH;FMTTYPE=image/jpeg:https://www.tennis.se/wp-content/uploads/2024/02/evenemang-jsm-race.jpg
GEO:56.423718810793;12.856553795768
END:VEVENT
BEGIN:VEVENT
DTSTART;VALUE=DATE:20240617
DTEND;VALUE=DATE:20240622
DTSTAMP:20260423T005521
CREATED:20240226T205534Z
LAST-MODIFIED:20240621T193706Z
UID:10000632-1718582400-1719014399@www.tennis.se
SUMMARY:Lysekil/Fiskebäckskils - JSM Race (18)
DESCRIPTION:Factsheet och anmälan \nPojkklassen spelas i LyskilFlickklassen spelas i Fiskebäckskil
URL:https://www.tennis.se/kalender/lysekil-fiskebackskils-jsm-race-18/
LOCATION:Gullmarens Centre Courts Tennisbanor\, Strandvägen 21\, 453 30 Lysekil\, Sweden\, Sverige
CATEGORIES:Tävling Nationella JSM Race
ATTACH;FMTTYPE=image/jpeg:https://www.tennis.se/wp-content/uploads/2024/02/evenemang-jsm-race.jpg
GEO:58.269720020192;11.428306771128
END:VEVENT
BEGIN:VEVENT
DTSTART;VALUE=DATE:20240617
DTEND;VALUE=DATE:20240624
DTSTAMP:20260423T005521
CREATED:20240226T205533Z
LAST-MODIFIED:20240623T195112Z
UID:10000631-1718582400-1719187199@www.tennis.se
SUMMARY:Corem Open - JSM Race (16)
DESCRIPTION:Factsheet och anmälan
URL:https://www.tennis.se/kalender/corem-open-jsm-race-16/
LOCATION:Båstad Sportcenter\, Korrödsvägen 9\, 269 38 Båstad\, Sweden\, Sverige
CATEGORIES:Tävling Nationella JSM Race
ATTACH;FMTTYPE=image/jpeg:https://www.tennis.se/wp-content/uploads/2024/02/evenemang-jsm-race.jpg
GEO:56.423718810793;12.856553795768
END:VEVENT
BEGIN:VEVENT
DTSTART;VALUE=DATE:20240619
DTEND;VALUE=DATE:20240624
DTSTAMP:20260423T005521
CREATED:20240226T205536Z
LAST-MODIFIED:20240623T195110Z
UID:10000633-1718755200-1719187199@www.tennis.se
SUMMARY:Lysekil/Fiskebäckskils - JSM Race (14)
DESCRIPTION:Factsheet och anmälan \nPojkklassen spelas i LyskilFlickklassen spelas i Fiskebäckskil
URL:https://www.tennis.se/kalender/lysekil-fiskebackskils-jsm-race-14/
LOCATION:Gullmarens Centre Courts Tennisbanor\, Strandvägen 21\, 453 30 Lysekil\, Sweden\, Sverige
CATEGORIES:Tävling Nationella JSM Race
ATTACH;FMTTYPE=image/jpeg:https://www.tennis.se/wp-content/uploads/2024/02/evenemang-jsm-race.jpg
GEO:58.269720020192;11.428306771128
END:VEVENT
BEGIN:VEVENT
DTSTART;VALUE=DATE:20240623
DTEND;VALUE=DATE:20240627
DTSTAMP:20260423T005521
CREATED:20240226T205537Z
LAST-MODIFIED:20240626T202152Z
UID:10000634-1719100800-1719446399@www.tennis.se
SUMMARY:YSB OPEN - JSM Race (16)
DESCRIPTION:Factsheet och anmälan
URL:https://www.tennis.se/kalender/ysb-open-jsm-race-16/
LOCATION:Ystads tennisklubb\, Spaljégatan 14\, 271 52 Ystad\, Sweden\, Sverige
CATEGORIES:Tävling Nationella JSM Race
ATTACH;FMTTYPE=image/jpeg:https://www.tennis.se/wp-content/uploads/2024/02/evenemang-jsm-race.jpg
GEO:55.432358559614;13.793659290977
END:VEVENT
BEGIN:VEVENT
DTSTART;VALUE=DATE:20240624
DTEND;VALUE=DATE:20240629
DTSTAMP:20260423T005521
CREATED:20240226T205543Z
LAST-MODIFIED:20240628T203700Z
UID:10000639-1719187200-1719619199@www.tennis.se
SUMMARY:Kalmarspelen Råbergs Bil - JSM Race (14)
DESCRIPTION:Factsheet och anmälan
URL:https://www.tennis.se/kalender/kalmarspelen-rabergs-bil-jsm-race-14/
LOCATION:Kalmar Tennisklubb + Padel\, 392 36 Kalmar\, Sweden\, Sverige
CATEGORIES:Tävling Nationella JSM Race
ATTACH;FMTTYPE=image/jpeg:https://www.tennis.se/wp-content/uploads/2024/02/evenemang-jsm-race.jpg
GEO:56.680334486162;16.357534638112
END:VEVENT
BEGIN:VEVENT
DTSTART;VALUE=DATE:20240625
DTEND;VALUE=DATE:20240630
DTSTAMP:20260423T005521
CREATED:20240226T205545Z
LAST-MODIFIED:20240629T205144Z
UID:10000640-1719273600-1719705599@www.tennis.se
SUMMARY:YSB OPEN - JSM Race (18)
DESCRIPTION:Factsheet och anmälan
URL:https://www.tennis.se/kalender/ysb-open-jsm-race-18/
LOCATION:Ystads tennisklubb\, Spaljégatan 14\, 271 52 Ystad\, Sweden\, Sverige
CATEGORIES:Tävling Nationella JSM Race
ATTACH;FMTTYPE=image/jpeg:https://www.tennis.se/wp-content/uploads/2024/02/evenemang-jsm-race.jpg
GEO:55.432358559614;13.793659290977
END:VEVENT
BEGIN:VEVENT
DTSTART;VALUE=DATE:20240626
DTEND;VALUE=DATE:20240630
DTSTAMP:20260423T005521
CREATED:20240226T205538Z
LAST-MODIFIED:20240629T205142Z
UID:10000635-1719360000-1719705599@www.tennis.se
SUMMARY:Kalmarspelen Råbergs Bil - JSM Race (16)
DESCRIPTION:Factsheet och anmälan
URL:https://www.tennis.se/kalender/kalmarspelen-rabergs-bil-jsm-race-16/
LOCATION:Kalmar Tennisklubb + Padel\, 392 36 Kalmar\, Sweden\, Sverige
CATEGORIES:Tävling Nationella JSM Race
ATTACH;FMTTYPE=image/jpeg:https://www.tennis.se/wp-content/uploads/2024/02/evenemang-jsm-race.jpg
GEO:56.680334486162;16.357534638112
END:VEVENT
BEGIN:VEVENT
DTSTART;VALUE=DATE:20240629
DTEND;VALUE=DATE:20240704
DTSTAMP:20260423T005521
CREATED:20240226T205541Z
LAST-MODIFIED:20240703T205145Z
UID:10000637-1719619200-1720051199@www.tennis.se
SUMMARY:Hunnebostrands Tennisvecka - JSM Race (18)
DESCRIPTION:Factsheet och anmälan
URL:https://www.tennis.se/kalender/hunnebostrands-tennisvecka-jsm-race-18/
LOCATION:Hunnebostrands Tennisklubb\, Hunnebovägen 33\, 456 61 Hunnebostrand\, Sweden\, Sverige
CATEGORIES:Tävling Nationella JSM Race
ATTACH;FMTTYPE=image/jpeg:https://www.tennis.se/wp-content/uploads/2024/02/evenemang-jsm-race.jpg
GEO:58.43651455682;11.297239386644
END:VEVENT
BEGIN:VEVENT
DTSTART;VALUE=DATE:20240629
DTEND;VALUE=DATE:20240704
DTSTAMP:20260423T005521
CREATED:20240226T205542Z
LAST-MODIFIED:20240703T205144Z
UID:10000638-1719619200-1720051199@www.tennis.se
SUMMARY:Munka Spelen - JSM Race (16)
DESCRIPTION:Factsheet och anmälan
URL:https://www.tennis.se/kalender/munka-spelen-jsm-race-16/
LOCATION:Munkaljungby Tennisklubb\, Öster Värn 33\, 266 33 Munka-ljungby\, Sweden\, Sverige
CATEGORIES:Tävling Nationella JSM Race
ATTACH;FMTTYPE=image/jpeg:https://www.tennis.se/wp-content/uploads/2024/02/evenemang-jsm-race.jpg
GEO:56.255106459698;12.985636284404
END:VEVENT
END:VCALENDAR