BEGIN:VCALENDAR
VERSION:2.0
PRODID:-//Svenska Tennisförbundet - ECPv6.15.20//NONSGML v1.0//EN
CALSCALE:GREGORIAN
METHOD:PUBLISH
X-WR-CALNAME:Svenska Tennisförbundet
X-ORIGINAL-URL:https://www.tennis.se
X-WR-CALDESC:Händelser för Svenska Tennisförbundet
REFRESH-INTERVAL;VALUE=DURATION:PT1H
X-Robots-Tag:noindex
X-PUBLISHED-TTL:PT1H
BEGIN:VTIMEZONE
TZID:Europe/Stockholm
BEGIN:DAYLIGHT
TZOFFSETFROM:+0100
TZOFFSETTO:+0200
TZNAME:CEST
DTSTART:20240331T010000
END:DAYLIGHT
BEGIN:STANDARD
TZOFFSETFROM:+0200
TZOFFSETTO:+0100
TZNAME:CET
DTSTART:20241027T010000
END:STANDARD
BEGIN:DAYLIGHT
TZOFFSETFROM:+0100
TZOFFSETTO:+0200
TZNAME:CEST
DTSTART:20250330T010000
END:DAYLIGHT
BEGIN:STANDARD
TZOFFSETFROM:+0200
TZOFFSETTO:+0100
TZNAME:CET
DTSTART:20251026T010000
END:STANDARD
BEGIN:DAYLIGHT
TZOFFSETFROM:+0100
TZOFFSETTO:+0200
TZNAME:CEST
DTSTART:20260329T010000
END:DAYLIGHT
BEGIN:STANDARD
TZOFFSETFROM:+0200
TZOFFSETTO:+0100
TZNAME:CET
DTSTART:20261025T010000
END:STANDARD
END:VTIMEZONE
BEGIN:VEVENT
DTSTART;VALUE=DATE:20250704
DTEND;VALUE=DATE:20250707
DTSTAMP:20260425T212903
CREATED:20250206T060411Z
LAST-MODIFIED:20250706T093628Z
UID:10001107-1751587200-1751846399@www.tennis.se
SUMMARY:KalmarSpelen Råbergs Bil Open - Sommartour 2025 (C - 10 000 kr)
DESCRIPTION:Info och Anmälan
URL:https://www.tennis.se/kalender/kalmarspelen-rabergs-bil-open-sommartour-2025-c-10-000-kr/
LOCATION:Ängöleden 11\, 392 36 Kalmar\, Sverige\, Sverige
CATEGORIES:Tävling Nationella Sommar- och Vintertour
ATTACH;FMTTYPE=image/jpeg:https://www.tennis.se/wp-content/uploads/2024/02/evenemang-sommar-vintertour.jpg
GEO:56.680226739484;16.357296330345
END:VEVENT
BEGIN:VEVENT
DTSTART;VALUE=DATE:20250706
DTEND;VALUE=DATE:20250709
DTSTAMP:20260425T212903
CREATED:20250206T060408Z
LAST-MODIFIED:20250708T093624Z
UID:10001106-1751760000-1752019199@www.tennis.se
SUMMARY:Blå Jungfruspelen by Raiskio Herrar - Sommartour 2025 (C - 10 000 kr)
DESCRIPTION:Info och Anmälan
URL:https://www.tennis.se/kalender/bla-jungfruspelen-by-raiskio-herrar-sommartour-2025-c-10-000-kr/
LOCATION:Döderhultsvägen 11\, 572 31 Oskarshamn\, Sverige\, Sverige
CATEGORIES:Tävling Nationella Sommar- och Vintertour
ATTACH;FMTTYPE=image/jpeg:https://www.tennis.se/wp-content/uploads/2024/02/evenemang-sommar-vintertour.jpg
GEO:57.26514867986;16.432548712017
END:VEVENT
BEGIN:VEVENT
DTSTART;VALUE=DATE:20250707
DTEND;VALUE=DATE:20250710
DTSTAMP:20260425T212903
CREATED:20250206T060406Z
LAST-MODIFIED:20250709T093625Z
UID:10001105-1751846400-1752105599@www.tennis.se
SUMMARY:Blå Jungfruspelen by Raiskio Damer - Sommartour 2025 (C - 10 000 kr)
DESCRIPTION:Info och Anmälan
URL:https://www.tennis.se/kalender/bla-jungfruspelen-by-raiskio-damer-sommartour-2025-c-10-000-kr/
LOCATION:Döderhultsvägen 11\, 572 31 Oskarshamn\, Sverige\, Sverige
CATEGORIES:Tävling Nationella Sommar- och Vintertour
ATTACH;FMTTYPE=image/jpeg:https://www.tennis.se/wp-content/uploads/2024/02/evenemang-sommar-vintertour.jpg
GEO:57.26514867986;16.432548712017
END:VEVENT
BEGIN:VEVENT
DTSTART;VALUE=DATE:20250710
DTEND;VALUE=DATE:20250714
DTSTAMP:20260425T212903
CREATED:20250206T060414Z
LAST-MODIFIED:20250713T093643Z
UID:10001108-1752105600-1752451199@www.tennis.se
SUMMARY:Strandbadsturneringen Elit - Sommartour 2025 (B - 15 000 kr)
DESCRIPTION:Info och Anmälan
URL:https://www.tennis.se/kalender/strandbadsturneringen-elit-sommartour-2025-b-15-000-kr/
LOCATION:Strandstugevägen 2\, 311 42 Falkenberg\, Sverige\, Sverige
CATEGORIES:Tävling Nationella Sommar- och Vintertour
ATTACH;FMTTYPE=image/jpeg:https://www.tennis.se/wp-content/uploads/2024/02/evenemang-sommar-vintertour.jpg
GEO:56.892129430746;12.494395225827
END:VEVENT
BEGIN:VEVENT
DTSTART;VALUE=DATE:20250714
DTEND;VALUE=DATE:20250718
DTSTAMP:20260425T212903
CREATED:20250206T060416Z
LAST-MODIFIED:20250717T093640Z
UID:10001109-1752451200-1752796799@www.tennis.se
SUMMARY:Höllviksspelen - Sommartour 2025 (C - 10 000 kr)
DESCRIPTION:Info och Anmälan
URL:https://www.tennis.se/kalender/hollviksspelen-sommartour-2025-c-10-000-kr/
LOCATION:Östersjövägen 61\, 236 36 Höllviken\, Sverige\, Sverige
CATEGORIES:Tävling Nationella Sommar- och Vintertour
ATTACH;FMTTYPE=image/jpeg:https://www.tennis.se/wp-content/uploads/2024/02/evenemang-sommar-vintertour.jpg
GEO:55.405082926205;12.960308825335
END:VEVENT
BEGIN:VEVENT
DTSTART;VALUE=DATE:20250721
DTEND;VALUE=DATE:20250725
DTSTAMP:20260425T212903
CREATED:20250206T060419Z
LAST-MODIFIED:20250724T102144Z
UID:10001110-1753056000-1753401599@www.tennis.se
SUMMARY:Holmen Cup - Sommartour 2025 (A - 20 000 kr)
DESCRIPTION:Info och Anmälan
URL:https://www.tennis.se/kalender/holmen-cup-sommartour-2025-a-20-000-kr/
LOCATION:Holmen tennispark\, Himmelstadlundsallén 4\, 602 19 Norrköping\, Sverige\, Sverige
CATEGORIES:Tävling Nationella Sommar- och Vintertour
ATTACH;FMTTYPE=image/jpeg:https://www.tennis.se/wp-content/uploads/2024/02/evenemang-sommar-vintertour.jpg
GEO:58.589537929989;16.156146393468
END:VEVENT
BEGIN:VEVENT
DTSTART;VALUE=DATE:20250725
DTEND;VALUE=DATE:20250728
DTSTAMP:20260425T212903
CREATED:20250206T060422Z
LAST-MODIFIED:20250727T103639Z
UID:10001111-1753401600-1753660799@www.tennis.se
SUMMARY:Affärsverken Karlskrona Open - Sommartour 2025 (C - 10 000 kr)
DESCRIPTION:Info och Anmälan
URL:https://www.tennis.se/kalender/affarsverken-karlskrona-open-sommartour-2025-c-10-000-kr/
LOCATION:Arenavägen 19\, 371 55 Karlskrona\, Sverige\, Sverige
CATEGORIES:Tävling Nationella Sommar- och Vintertour
ATTACH;FMTTYPE=image/jpeg:https://www.tennis.se/wp-content/uploads/2024/02/evenemang-sommar-vintertour.jpg
GEO:56.218337866781;15.603291302103
END:VEVENT
END:VCALENDAR