BEGIN:VCALENDAR
VERSION:2.0
PRODID:-//Svenska Tennisförbundet - ECPv6.15.20//NONSGML v1.0//EN
CALSCALE:GREGORIAN
METHOD:PUBLISH
X-WR-CALNAME:Svenska Tennisförbundet
X-ORIGINAL-URL:https://www.tennis.se
X-WR-CALDESC:Händelser för Svenska Tennisförbundet
REFRESH-INTERVAL;VALUE=DURATION:PT1H
X-Robots-Tag:noindex
X-PUBLISHED-TTL:PT1H
BEGIN:VTIMEZONE
TZID:Europe/Stockholm
BEGIN:DAYLIGHT
TZOFFSETFROM:+0100
TZOFFSETTO:+0200
TZNAME:CEST
DTSTART:20240331T010000
END:DAYLIGHT
BEGIN:STANDARD
TZOFFSETFROM:+0200
TZOFFSETTO:+0100
TZNAME:CET
DTSTART:20241027T010000
END:STANDARD
BEGIN:DAYLIGHT
TZOFFSETFROM:+0100
TZOFFSETTO:+0200
TZNAME:CEST
DTSTART:20250330T010000
END:DAYLIGHT
BEGIN:STANDARD
TZOFFSETFROM:+0200
TZOFFSETTO:+0100
TZNAME:CET
DTSTART:20251026T010000
END:STANDARD
BEGIN:DAYLIGHT
TZOFFSETFROM:+0100
TZOFFSETTO:+0200
TZNAME:CEST
DTSTART:20260329T010000
END:DAYLIGHT
BEGIN:STANDARD
TZOFFSETFROM:+0200
TZOFFSETTO:+0100
TZNAME:CET
DTSTART:20261025T010000
END:STANDARD
END:VTIMEZONE
BEGIN:VEVENT
DTSTART;VALUE=DATE:20250730
DTEND;VALUE=DATE:20250804
DTSTAMP:20260422T000810
CREATED:20250205T090338Z
LAST-MODIFIED:20250803T053611Z
UID:10001093-1753833600-1754265599@www.tennis.se
SUMMARY:Zeta Hellas Open - JSM Race 2025 (18)
DESCRIPTION:Factsheet och anmälan
URL:https://www.tennis.se/kalender/zeta-hellas-open-jsm-race-2025-18/
LOCATION:Hellas Tennisklubb\, Hammarby Slussväg 8\, 118 60 Stockholm\, Sweden\, Sverige
CATEGORIES:Tävling Nationella JSM Race
ATTACH;FMTTYPE=image/jpeg:https://www.tennis.se/wp-content/uploads/2024/02/evenemang-jsm-race.jpg
GEO:59.305008541622;18.070437618238
END:VEVENT
BEGIN:VEVENT
DTSTART;VALUE=DATE:20250730
DTEND;VALUE=DATE:20250804
DTSTAMP:20260422T000810
CREATED:20250205T090349Z
LAST-MODIFIED:20250803T053609Z
UID:10001096-1753833600-1754265599@www.tennis.se
SUMMARY:Swedish Tennis Academy Open by Mircon - 14\, 16 - JSM Race 2025 (14)
DESCRIPTION:
URL:https://www.tennis.se/kalender/swedish-tennis-academy-open-by-mircon-14-16-jsm-race-2025-14-2/
LOCATION:Fair Play Tennisklubb\, Erikslustvägen 56\, 217 73 Malmö\, Sweden\, Sverige
CATEGORIES:Tävling Nationella JSM Race
ATTACH;FMTTYPE=image/jpeg:https://www.tennis.se/wp-content/uploads/2024/02/evenemang-jsm-race.jpg
GEO:55.590240611263;12.960672983732
END:VEVENT
BEGIN:VEVENT
DTSTART;VALUE=DATE:20250730
DTEND;VALUE=DATE:20250804
DTSTAMP:20260422T000810
CREATED:20250207T090717Z
LAST-MODIFIED:20250803T053613Z
UID:10001117-1753833600-1754265599@www.tennis.se
SUMMARY:USIF 14\, 16 - JSM Race 2025 (16)
DESCRIPTION:Factsheet och anmälan
URL:https://www.tennis.se/kalender/usif-14-16-jsm-race-2025-16/
LOCATION:USIF Arena\, Torgny Segerstedts Allé 2\, 756 44 Uppsala\, Sweden\, Sverige
CATEGORIES:Tävling Nationella JSM Race
ATTACH;FMTTYPE=image/jpeg:https://www.tennis.se/wp-content/uploads/2024/02/evenemang-jsm-race.jpg
GEO:59.831210702648;17.633513242276
END:VEVENT
BEGIN:VEVENT
DTSTART;VALUE=DATE:20250804
DTEND;VALUE=DATE:20250809
DTSTAMP:20260422T000810
CREATED:20250205T090346Z
LAST-MODIFIED:20250808T055121Z
UID:10001094-1754265600-1754697599@www.tennis.se
SUMMARY:Vikingaspelen - JSM Race 2025 (18)
DESCRIPTION:Factsheet och anmälan
URL:https://www.tennis.se/kalender/vikingaspelen-jsm-race-2025/
LOCATION:Nynäshamns Tennisklubb\, Kvarnängsvägen 10\, 149 91 Nynäshamn\, Sweden\, Sverige
CATEGORIES:Tävling Nationella JSM Race
ATTACH;FMTTYPE=image/jpeg:https://www.tennis.se/wp-content/uploads/2024/02/evenemang-jsm-race.jpg
GEO:58.924977685064;17.923214213679
END:VEVENT
BEGIN:VEVENT
DTSTART;VALUE=DATE:20250804
DTEND;VALUE=DATE:20250809
DTSTAMP:20260422T000810
CREATED:20250205T090347Z
LAST-MODIFIED:20250808T055117Z
UID:10001095-1754265600-1754697599@www.tennis.se
SUMMARY:Swedish Tennis Academy Open by Mircon - 14\, 16 - JSM Race 2025 (16)
DESCRIPTION:
URL:https://www.tennis.se/kalender/swedish-tennis-academy-open-by-mircon-14-16-jsm-race-2025-14/
LOCATION:Fair Play Tennisklubb\, Erikslustvägen 56\, 217 73 Malmö\, Sweden\, Sverige
CATEGORIES:Tävling Nationella JSM Race
ATTACH;FMTTYPE=image/jpeg:https://www.tennis.se/wp-content/uploads/2024/02/evenemang-jsm-race.jpg
GEO:55.590240611263;12.960672983732
END:VEVENT
BEGIN:VEVENT
DTSTART;VALUE=DATE:20250804
DTEND;VALUE=DATE:20250809
DTSTAMP:20260422T000810
CREATED:20250207T090723Z
LAST-MODIFIED:20250808T055123Z
UID:10001118-1754265600-1754697599@www.tennis.se
SUMMARY:USIF 14\, 16 - JSM Race 2025 (14)
DESCRIPTION:Factsheet och anmälan
URL:https://www.tennis.se/kalender/usif-14-16-jsm-race-2025-14/
LOCATION:USIF Arena\, Torgny Segerstedts Allé 2\, 756 44 Uppsala\, Sweden\, Sverige
CATEGORIES:Tävling Nationella JSM Race
ATTACH;FMTTYPE=image/jpeg:https://www.tennis.se/wp-content/uploads/2024/02/evenemang-jsm-race.jpg
GEO:59.831210702648;17.633513242276
END:VEVENT
BEGIN:VEVENT
DTSTART;VALUE=DATE:20250809
DTEND;VALUE=DATE:20250818
DTSTAMP:20260422T000810
CREATED:20241014T223614Z
LAST-MODIFIED:20250817T060605Z
UID:10000968-1754697600-1755475199@www.tennis.se
SUMMARY:Junior RM (14\, 16)
DESCRIPTION:
URL:https://www.tennis.se/kalender/junior-rm-14-16/
CATEGORIES:Tävling Nationella JSM Race
ATTACH;FMTTYPE=image/jpeg:https://www.tennis.se/wp-content/uploads/2024/02/evenemang-jsm-race.jpg
END:VEVENT
BEGIN:VEVENT
DTSTART;VALUE=DATE:20250829
DTEND;VALUE=DATE:20250903
DTSTAMP:20260422T000810
CREATED:20241014T223616Z
LAST-MODIFIED:20250902T070616Z
UID:10000969-1756425600-1756857599@www.tennis.se
SUMMARY:JSM Race Slutspel 2025
DESCRIPTION:
URL:https://www.tennis.se/kalender/jsm-race-slutspel-2025/
LOCATION:Båstad Sportcenter\, Korrödsvägen 9\, 269 38 Båstad\, Sweden\, Sverige
CATEGORIES:Tävling Nationella JSM Race
ATTACH;FMTTYPE=image/jpeg:https://www.tennis.se/wp-content/uploads/2024/02/evenemang-jsm-race.jpg
GEO:56.423718810793;12.856553795768
END:VEVENT
END:VCALENDAR