BEGIN:VCALENDAR
VERSION:2.0
PRODID:-//Svenska Tennisförbundet - ECPv6.15.20//NONSGML v1.0//EN
CALSCALE:GREGORIAN
METHOD:PUBLISH
X-WR-CALNAME:Svenska Tennisförbundet
X-ORIGINAL-URL:https://www.tennis.se
X-WR-CALDESC:Händelser för Svenska Tennisförbundet
REFRESH-INTERVAL;VALUE=DURATION:PT1H
X-Robots-Tag:noindex
X-PUBLISHED-TTL:PT1H
BEGIN:VTIMEZONE
TZID:Europe/Stockholm
BEGIN:DAYLIGHT
TZOFFSETFROM:+0100
TZOFFSETTO:+0200
TZNAME:CEST
DTSTART:20240331T010000
END:DAYLIGHT
BEGIN:STANDARD
TZOFFSETFROM:+0200
TZOFFSETTO:+0100
TZNAME:CET
DTSTART:20241027T010000
END:STANDARD
BEGIN:DAYLIGHT
TZOFFSETFROM:+0100
TZOFFSETTO:+0200
TZNAME:CEST
DTSTART:20250330T010000
END:DAYLIGHT
BEGIN:STANDARD
TZOFFSETFROM:+0200
TZOFFSETTO:+0100
TZNAME:CET
DTSTART:20251026T010000
END:STANDARD
BEGIN:DAYLIGHT
TZOFFSETFROM:+0100
TZOFFSETTO:+0200
TZNAME:CEST
DTSTART:20260329T010000
END:DAYLIGHT
BEGIN:STANDARD
TZOFFSETFROM:+0200
TZOFFSETTO:+0100
TZNAME:CET
DTSTART:20261025T010000
END:STANDARD
END:VTIMEZONE
BEGIN:VEVENT
DTSTART;VALUE=DATE:20250801
DTEND;VALUE=DATE:20250804
DTSTAMP:20260425T195043
CREATED:20250206T060425Z
LAST-MODIFIED:20250803T112142Z
UID:10001112-1754006400-1754265599@www.tennis.se
SUMMARY:Mela Invest Open - Sommartour 2025 (B - 15 000 kr)
DESCRIPTION:Info och Anmälan
URL:https://www.tennis.se/kalender/mela-invest-open-sommartour-2025-b-15-000-kr/
LOCATION:BYGGA Racketcenter\, 331 34 Värnamo\, Sverige\, Sverige
CATEGORIES:Tävling Nationella Sommar- och Vintertour
ATTACH;FMTTYPE=image/jpeg:https://www.tennis.se/wp-content/uploads/2024/02/evenemang-sommar-vintertour.jpg
GEO:57.202285085323;14.047580523322
END:VEVENT
BEGIN:VEVENT
DTSTART;VALUE=DATE:20250805
DTEND;VALUE=DATE:20250809
DTSTAMP:20260425T195043
CREATED:20250206T060428Z
LAST-MODIFIED:20250808T113638Z
UID:10001113-1754352000-1754697599@www.tennis.se
SUMMARY:Swedish Tennis Academy Open by Mircon - Sommartour 2025 (C - 10 000 kr)
DESCRIPTION:Info och Anmälan
URL:https://www.tennis.se/kalender/swedish-tennis-academy-open-by-mircon-sommartour-2025-c-10-000-kr/
LOCATION:Erikslustvägen 56\, 217 73 Malmö\, Sverige\, Sverige
CATEGORIES:Tävling Nationella Sommar- och Vintertour
ATTACH;FMTTYPE=image/jpeg:https://www.tennis.se/wp-content/uploads/2024/02/evenemang-sommar-vintertour.jpg
GEO:55.590235916748;12.960762372358
END:VEVENT
BEGIN:VEVENT
DTSTART;VALUE=DATE:20250807
DTEND;VALUE=DATE:20250811
DTSTAMP:20260425T195043
CREATED:20250206T060431Z
LAST-MODIFIED:20250810T115157Z
UID:10001114-1754524800-1754870399@www.tennis.se
SUMMARY:Ystadspelen - Sommartour 2025 (A - 25 000 kr)
DESCRIPTION:Info och Anmälan
URL:https://www.tennis.se/kalender/ystadspelen-sommartour-2025-a-25-000-kr/
LOCATION:Spaljégatan 14\, 271 52 Ystad\, Sverige\, Sverige
CATEGORIES:Tävling Nationella Sommar- och Vintertour
ATTACH;FMTTYPE=image/jpeg:https://www.tennis.se/wp-content/uploads/2024/02/evenemang-sommar-vintertour.jpg
GEO:55.433122498304;13.793233240322
END:VEVENT
BEGIN:VEVENT
DTSTART;VALUE=DATE:20250821
DTEND;VALUE=DATE:20250825
DTSTAMP:20260425T195043
CREATED:20250408T113647Z
LAST-MODIFIED:20250824T083607Z
UID:10001158-1755734400-1756079999@www.tennis.se
SUMMARY:Eskilstuna Open - Sommartour 2025 (C - 10 000 kr)
DESCRIPTION:Info och Anmälan
URL:https://www.tennis.se/kalender/eskilstuna-open-sommartour-2025-c-10-000-kr/
LOCATION:TK Hobby\, Vagnmakarevägen 6\, 633 62 Eskilstuna\, Sverige
CATEGORIES:Tävling Nationella Sommar- och Vintertour
ATTACH;FMTTYPE=image/jpeg:https://www.tennis.se/wp-content/uploads/2024/02/evenemang-sommar-vintertour.jpg
END:VEVENT
END:VCALENDAR