BEGIN:VCALENDAR
VERSION:2.0
PRODID:-//Svenska Tennisförbundet - ECPv6.15.20//NONSGML v1.0//EN
CALSCALE:GREGORIAN
METHOD:PUBLISH
X-ORIGINAL-URL:https://www.tennis.se
X-WR-CALDESC:Händelser för Svenska Tennisförbundet
REFRESH-INTERVAL;VALUE=DURATION:PT1H
X-Robots-Tag:noindex
X-PUBLISHED-TTL:PT1H
BEGIN:VTIMEZONE
TZID:Europe/Stockholm
BEGIN:DAYLIGHT
TZOFFSETFROM:+0100
TZOFFSETTO:+0200
TZNAME:CEST
DTSTART:20250330T010000
END:DAYLIGHT
BEGIN:STANDARD
TZOFFSETFROM:+0200
TZOFFSETTO:+0100
TZNAME:CET
DTSTART:20251026T010000
END:STANDARD
BEGIN:DAYLIGHT
TZOFFSETFROM:+0100
TZOFFSETTO:+0200
TZNAME:CEST
DTSTART:20260329T010000
END:DAYLIGHT
BEGIN:STANDARD
TZOFFSETFROM:+0200
TZOFFSETTO:+0100
TZNAME:CET
DTSTART:20261025T010000
END:STANDARD
BEGIN:DAYLIGHT
TZOFFSETFROM:+0100
TZOFFSETTO:+0200
TZNAME:CEST
DTSTART:20270328T010000
END:DAYLIGHT
BEGIN:STANDARD
TZOFFSETFROM:+0200
TZOFFSETTO:+0100
TZNAME:CET
DTSTART:20271031T010000
END:STANDARD
END:VTIMEZONE
BEGIN:VEVENT
DTSTART;VALUE=DATE:20260608
DTEND;VALUE=DATE:20260616
DTSTAMP:20260421T140615
CREATED:20260202T130421Z
LAST-MODIFIED:20260420T213623Z
UID:10001418-1780876800-1781567999@www.tennis.se
SUMMARY:Båstadtennis Corem Open - JSM Race 2026 (16)
DESCRIPTION:Factsheet och anmälan
URL:https://www.tennis.se/kalender/bastadtennis-corem-open-jsm-race-2026-16/
LOCATION:Båstad Sportcenter\, Korrödsvägen 9\, 269 38 Båstad\, Sweden\, Sverige
CATEGORIES:Tävling Nationella JSM Race
ATTACH;FMTTYPE=image/jpeg:https://www.tennis.se/wp-content/uploads/2024/02/evenemang-jsm-race.jpg
GEO:56.423718810793;12.856553795768
END:VEVENT
BEGIN:VEVENT
DTSTART;VALUE=DATE:20260611
DTEND;VALUE=DATE:20260620
DTSTAMP:20260421T140615
CREATED:20260202T130419Z
LAST-MODIFIED:20260420T213635Z
UID:10001417-1781136000-1781913599@www.tennis.se
SUMMARY:Båstadtennis Corem Open - JSM Race 2026 (14)
DESCRIPTION:Factsheet och anmälan
URL:https://www.tennis.se/kalender/bastadtennis-corem-open-jsm-race-2026-14/
LOCATION:Båstad Sportcenter\, Korrödsvägen 9\, 269 38 Båstad\, Sweden\, Sverige
CATEGORIES:Tävling Nationella JSM Race
ATTACH;FMTTYPE=image/jpeg:https://www.tennis.se/wp-content/uploads/2024/02/evenemang-jsm-race.jpg
GEO:56.423718810793;12.856553795768
END:VEVENT
BEGIN:VEVENT
DTSTART;VALUE=DATE:20260613
DTEND;VALUE=DATE:20260618
DTSTAMP:20260421T140615
CREATED:20260202T130418Z
LAST-MODIFIED:20260420T213625Z
UID:10001416-1781308800-1781740799@www.tennis.se
SUMMARY:Lysekil/Fiskebäckskil - JSM Race 2026 (18)
DESCRIPTION:Factsheet och anmälan
URL:https://www.tennis.se/kalender/lysekil-fiskebackskil-jsm-race-2026-18/
LOCATION:Gullmarens Centre Courts Tennisbanor\, Strandvägen 21\, 453 30 Lysekil\, Sweden\, Sverige
CATEGORIES:Tävling Nationella JSM Race
ATTACH;FMTTYPE=image/jpeg:https://www.tennis.se/wp-content/uploads/2024/02/evenemang-jsm-race.jpg
GEO:58.269720020192;11.428306771128
END:VEVENT
BEGIN:VEVENT
DTSTART;VALUE=DATE:20260616
DTEND;VALUE=DATE:20260621
DTSTAMP:20260421T140615
CREATED:20260202T130427Z
LAST-MODIFIED:20260420T213633Z
UID:10001421-1781568000-1781999999@www.tennis.se
SUMMARY:Lysekil/Fiskebäckskils - JSM Race 2026 (16)
DESCRIPTION:Factsheet och anmälan
URL:https://www.tennis.se/kalender/lysekil-fiskebackskils-jsm-race-2026-16/
LOCATION:Gullmarens Centre Courts Tennisbanor\, Strandvägen 21\, 453 30 Lysekil\, Sweden\, Sverige
CATEGORIES:Tävling Nationella JSM Race
ATTACH;FMTTYPE=image/jpeg:https://www.tennis.se/wp-content/uploads/2024/02/evenemang-jsm-race.jpg
GEO:58.269720020192;11.428306771128
END:VEVENT
BEGIN:VEVENT
DTSTART;VALUE=DATE:20260616
DTEND;VALUE=DATE:20260621
DTSTAMP:20260421T140615
CREATED:20260202T130429Z
LAST-MODIFIED:20260420T213621Z
UID:10001422-1781568000-1781999999@www.tennis.se
SUMMARY:Audi Open Åhus - JSM Race 2026 (16)
DESCRIPTION:Factsheet och anmälan
URL:https://www.tennis.se/kalender/audi-open-ahus-jsm-race-2026-16/
LOCATION:Åhus Tennisklubb\, Sandvaktaregatan 3\, 296 35 Åhus\, Sweden\, Sverige
CATEGORIES:Tävling Nationella JSM Race
ATTACH;FMTTYPE=image/jpeg:https://www.tennis.se/wp-content/uploads/2024/02/evenemang-jsm-race.jpg
GEO:55.928047968612;14.284873399417
END:VEVENT
BEGIN:VEVENT
DTSTART;VALUE=DATE:20260621
DTEND;VALUE=DATE:20260626
DTSTAMP:20260421T140615
CREATED:20260202T130424Z
LAST-MODIFIED:20260420T213632Z
UID:10001420-1782000000-1782431999@www.tennis.se
SUMMARY:Skummeslövsspelen - JSM Race 2026 (14)
DESCRIPTION:Factsheet och anmälan
URL:https://www.tennis.se/kalender/skummeslovsspelen-jsm-race-2026-14/
LOCATION:Skummeslövs Tennisklubb\, Svarvareskogsvägen 3\, 312 71 Skummeslövsstrand\, Sweden\, Sverige
CATEGORIES:Tävling Nationella JSM Race
ATTACH;FMTTYPE=image/jpeg:https://www.tennis.se/wp-content/uploads/2024/02/evenemang-jsm-race.jpg
GEO:56.462790479722;12.923897247966
END:VEVENT
BEGIN:VEVENT
DTSTART;VALUE=DATE:20260621
DTEND;VALUE=DATE:20260627
DTSTAMP:20260421T140615
CREATED:20260202T130433Z
LAST-MODIFIED:20260420T213637Z
UID:10001424-1782000000-1782518399@www.tennis.se
SUMMARY:KalmarSpelen Råbergs Bil 2026 - JSM Race 2026 (18)
DESCRIPTION:Factsheet och anmälan
URL:https://www.tennis.se/kalender/kalmarspelen-rabergs-bil-2026-jsm-race-2026-18/
LOCATION:Kalmar Tennisklubb + Padel\, 392 36 Kalmar\, Sweden\, Sverige
CATEGORIES:Tävling Nationella JSM Race
ATTACH;FMTTYPE=image/jpeg:https://www.tennis.se/wp-content/uploads/2024/02/evenemang-jsm-race.jpg
GEO:56.680334486162;16.357534638112
END:VEVENT
BEGIN:VEVENT
DTSTART;VALUE=DATE:20260622
DTEND;VALUE=DATE:20260627
DTSTAMP:20260421T140615
CREATED:20260202T130435Z
LAST-MODIFIED:20260420T213630Z
UID:10001425-1782086400-1782518399@www.tennis.se
SUMMARY:YSB Open 16\,18 - JSM Race 2026 (16)
DESCRIPTION:Factsheet och anmälan
URL:https://www.tennis.se/kalender/ysb-open-1618-jsm-race-2026-16/
LOCATION:Ystads tennisklubb\, Spaljégatan 14\, 271 52 Ystad\, Sweden\, Sverige
CATEGORIES:Tävling Nationella JSM Race
ATTACH;FMTTYPE=image/jpeg:https://www.tennis.se/wp-content/uploads/2024/02/evenemang-jsm-race.jpg
GEO:55.432358559614;13.793659290977
END:VEVENT
BEGIN:VEVENT
DTSTART;VALUE=DATE:20260622
DTEND;VALUE=DATE:20260627
DTSTAMP:20260421T140615
CREATED:20260202T130436Z
LAST-MODIFIED:20260420T213640Z
UID:10001426-1782086400-1782518399@www.tennis.se
SUMMARY:Midnattssolcupen 2026 - JSM Race 2026 (16)
DESCRIPTION:Factsheet och anmälan
URL:https://www.tennis.se/kalender/midnattssolcupen-2026-jsm-race-2026-16/
LOCATION:Luleå Tennisklubb\, Arcusvägen 59\, 975 94 Luleå\, Sweden\, Sverige
CATEGORIES:Tävling Nationella JSM Race
ATTACH;FMTTYPE=image/jpeg:https://www.tennis.se/wp-content/uploads/2024/02/evenemang-jsm-race.jpg
GEO:65.59635802832;22.059151581444
END:VEVENT
BEGIN:VEVENT
DTSTART;VALUE=DATE:20260626
DTEND;VALUE=DATE:20260701
DTSTAMP:20260421T140615
CREATED:20260202T130423Z
LAST-MODIFIED:20260420T213627Z
UID:10001419-1782432000-1782863999@www.tennis.se
SUMMARY:KalmarSpelen Råbergs Bil 2026 - JSM Race 2026 (14)
DESCRIPTION:Factsheet och anmälan
URL:https://www.tennis.se/kalender/kalmarspelen-rabergs-bil-2026-jsm-race-2026-14/
LOCATION:Kalmar Tennisklubb + Padel\, 392 36 Kalmar\, Sweden\, Sverige
CATEGORIES:Tävling Nationella JSM Race
ATTACH;FMTTYPE=image/jpeg:https://www.tennis.se/wp-content/uploads/2024/02/evenemang-jsm-race.jpg
GEO:56.680334486162;16.357534638112
END:VEVENT
BEGIN:VEVENT
DTSTART;VALUE=DATE:20260626
DTEND;VALUE=DATE:20260701
DTSTAMP:20260421T140615
CREATED:20260202T130430Z
LAST-MODIFIED:20260420T213647Z
UID:10001423-1782432000-1782863999@www.tennis.se
SUMMARY:YSB Open 16\,18 - JSM Race 2026 (18)
DESCRIPTION:Factsheet och anmälan
URL:https://www.tennis.se/kalender/ysb-open-1618-jsm-race-2026-18/
LOCATION:Ystads tennisklubb\, Spaljégatan 14\, 271 52 Ystad\, Sweden\, Sverige
CATEGORIES:Tävling Nationella JSM Race
ATTACH;FMTTYPE=image/jpeg:https://www.tennis.se/wp-content/uploads/2024/02/evenemang-jsm-race.jpg
GEO:55.432358559614;13.793659290977
END:VEVENT
BEGIN:VEVENT
DTSTART;VALUE=DATE:20260626
DTEND;VALUE=DATE:20260701
DTSTAMP:20260421T140615
CREATED:20260202T130440Z
LAST-MODIFIED:20260420T213638Z
UID:10001428-1782432000-1782863999@www.tennis.se
SUMMARY:Sundsvall Sommarspel - JSM Race 2026 (14)
DESCRIPTION:Factsheet och anmälan
URL:https://www.tennis.se/kalender/sundsvall-sommarspel-jsm-race-2026-14/
LOCATION:Sundsvalls Tennisklubb\, Lasarettsvägen 22\, 856 43 Sundsvall\, Sweden\, Sverige
CATEGORIES:Tävling Nationella JSM Race
ATTACH;FMTTYPE=image/jpeg:https://www.tennis.se/wp-content/uploads/2024/02/evenemang-jsm-race.jpg
GEO:62.410036863449;17.317910967392
END:VEVENT
END:VCALENDAR