BEGIN:VCALENDAR
VERSION:2.0
PRODID:-//Svenska Tennisförbundet - ECPv6.15.20//NONSGML v1.0//EN
CALSCALE:GREGORIAN
METHOD:PUBLISH
X-WR-CALNAME:Svenska Tennisförbundet
X-ORIGINAL-URL:https://www.tennis.se
X-WR-CALDESC:Händelser för Svenska Tennisförbundet
REFRESH-INTERVAL;VALUE=DURATION:PT1H
X-Robots-Tag:noindex
X-PUBLISHED-TTL:PT1H
BEGIN:VTIMEZONE
TZID:Europe/Stockholm
BEGIN:DAYLIGHT
TZOFFSETFROM:+0100
TZOFFSETTO:+0200
TZNAME:CEST
DTSTART:20250330T010000
END:DAYLIGHT
BEGIN:STANDARD
TZOFFSETFROM:+0200
TZOFFSETTO:+0100
TZNAME:CET
DTSTART:20251026T010000
END:STANDARD
BEGIN:DAYLIGHT
TZOFFSETFROM:+0100
TZOFFSETTO:+0200
TZNAME:CEST
DTSTART:20260329T010000
END:DAYLIGHT
BEGIN:STANDARD
TZOFFSETFROM:+0200
TZOFFSETTO:+0100
TZNAME:CET
DTSTART:20261025T010000
END:STANDARD
BEGIN:DAYLIGHT
TZOFFSETFROM:+0100
TZOFFSETTO:+0200
TZNAME:CEST
DTSTART:20270328T010000
END:DAYLIGHT
BEGIN:STANDARD
TZOFFSETFROM:+0200
TZOFFSETTO:+0100
TZNAME:CET
DTSTART:20271031T010000
END:STANDARD
END:VTIMEZONE
BEGIN:VEVENT
DTSTART;VALUE=DATE:20260307
DTEND;VALUE=DATE:20260311
DTSTAMP:20260425T131747
CREATED:20260122T132747Z
LAST-MODIFIED:20260310T142119Z
UID:10001387-1772841600-1773187199@www.tennis.se
SUMMARY:U13 Performance Camp 1 (flickor)
DESCRIPTION:
URL:https://www.tennis.se/kalender/u13-performance-camp-1-flickor/
LOCATION:Falköping\, Sverige
CATEGORIES:Elit/Landslag läger
ATTACH;FMTTYPE=image/jpeg:https://www.tennis.se/wp-content/uploads/2024/03/evenemang-lager-o-aktiviteter.jpg
END:VEVENT
BEGIN:VEVENT
DTSTART;VALUE=DATE:20260305
DTEND;VALUE=DATE:20260309
DTSTAMP:20260425T131747
CREATED:20260122T132750Z
LAST-MODIFIED:20260308T235114Z
UID:10001388-1772668800-1773014399@www.tennis.se
SUMMARY:U13 Performance Camp 1 (pojkar)
DESCRIPTION:
URL:https://www.tennis.se/kalender/u13-performance-camp-1-pojkar/
LOCATION:Falköping\, Sverige
CATEGORIES:Elit/Landslag läger
ATTACH;FMTTYPE=image/jpeg:https://www.tennis.se/wp-content/uploads/2024/03/evenemang-lager-o-aktiviteter.jpg
END:VEVENT
END:VCALENDAR